BEGIN:VCALENDAR
VERSION:2.0
PRODID:-//Santa Cruz Valley National Heritage Area - ECPv6.15.20//NONSGML v1.0//EN
CALSCALE:GREGORIAN
METHOD:PUBLISH
X-ORIGINAL-URL:https://santacruzheritage.org
X-WR-CALDESC:Events for Santa Cruz Valley National Heritage Area
REFRESH-INTERVAL;VALUE=DURATION:PT1H
X-Robots-Tag:noindex
X-PUBLISHED-TTL:PT1H
BEGIN:VTIMEZONE
TZID:America/Phoenix
BEGIN:STANDARD
TZOFFSETFROM:-0700
TZOFFSETTO:-0700
TZNAME:MST
DTSTART:20250101T000000
END:STANDARD
END:VTIMEZONE
BEGIN:VEVENT
DTSTART;TZID=America/Phoenix:20260409T160000
DTEND;TZID=America/Phoenix:20260409T173000
DTSTAMP:20260425T074628
CREATED:20260408T231033Z
LAST-MODIFIED:20260408T231033Z
UID:10006522-1775750400-1775755800@santacruzheritage.org
SUMMARY:Howard Scott Gentry Lecture
DESCRIPTION:The Howard Scott Gentry Award honors those who have advanced the understanding and care of agaves and desert plants\, continuing the legacy of Gentry’s foundational research in the Sonoran Desert. \nIn 2026\, we recognize Wendy Hodgson is honored for her decades of leadership in agave and desert plant research and conservation\, including field-based work documenting agave diversity\, ecology\, and cultural uses across the Sonoran Desert. Through her work at Desert Botanical Garden\, she has connected science\, conservation\, and public education\, leaving a lasting impact as a mentor and field botanist. \nShe traces the story of agave in the Sonoran Desert from pre-contact knowledge to present-day research and conservation\, highlighting the importance of Indigenous leadership in stewardship.
URL:https://santacruzheritage.org/event/howard-scott-gentry-lecture/
LOCATION:Tucson Botannical Garden\, 2150 North Alvernon Way\, Tucson\, 85712\, United States
CATEGORIES:History,Lectures
END:VEVENT
END:VCALENDAR