BEGIN:VCALENDAR
VERSION:2.0
PRODID:-//Santa Cruz Valley National Heritage Area - ECPv6.15.20//NONSGML v1.0//EN
CALSCALE:GREGORIAN
METHOD:PUBLISH
X-ORIGINAL-URL:https://santacruzheritage.org
X-WR-CALDESC:Events for Santa Cruz Valley National Heritage Area
REFRESH-INTERVAL;VALUE=DURATION:PT1H
X-Robots-Tag:noindex
X-PUBLISHED-TTL:PT1H
BEGIN:VTIMEZONE
TZID:America/Phoenix
BEGIN:STANDARD
TZOFFSETFROM:-0700
TZOFFSETTO:-0700
TZNAME:MST
DTSTART:20250101T000000
END:STANDARD
END:VTIMEZONE
BEGIN:VEVENT
DTSTART;TZID=America/Phoenix:20260411T100000
DTEND;TZID=America/Phoenix:20260411T150000
DTSTAMP:20260423T023231
CREATED:20260327T182301Z
LAST-MODIFIED:20260327T182354Z
UID:10005866-1775901600-1775919600@santacruzheritage.org
SUMMARY:Arizona250 Celebration at the Historic San Rafael Ranch
DESCRIPTION:Join us for a special Arizona250 celebration at San Rafael Ranch Historic District\, located within the San Rafael State Natural Area. \nThis commemorative event invites the public to experience one of Arizona’s most significant historic ranching sites while celebrating Arizona’s rich heritage\, landscapes\, and communities. Visitors will have the opportunity to explore the historic ranch house\, learn about the San Rafael Valley’s ranching and conservation legacy\, and enjoy the natural beauty of the surrounding short-grass prairie. Connect with Arizona’s past while supporting the preservation of this remarkable place for future generations! \nSelf guided ranch house tours and educational displays will be offered throughout the day. A dedication of property as an Important Bird Area will be held at 10 a.m. \nPlease register for this event online. No physical tickets will be provided; those who register will be on the event guest list. \nIf you are interested in volunteering with SCVNHA at this event\, please email: zabrina@santacruzheritage.org
URL:https://santacruzheritage.org/event/arizona250-celebration-at-the-historic-san-rafael-ranch/
LOCATION:San Rafael State Natural Area\, 2036 Duquesne Rd\, Patagonia\, 85624\, United States
CATEGORIES:Food Experience,Volunteer Opportunities,Youth Programming
END:VEVENT
END:VCALENDAR