BEGIN:VCALENDAR
VERSION:2.0
PRODID:-//Santa Cruz Valley National Heritage Area - ECPv6.15.20//NONSGML v1.0//EN
CALSCALE:GREGORIAN
METHOD:PUBLISH
X-ORIGINAL-URL:https://santacruzheritage.org
X-WR-CALDESC:Events for Santa Cruz Valley National Heritage Area
REFRESH-INTERVAL;VALUE=DURATION:PT1H
X-Robots-Tag:noindex
X-PUBLISHED-TTL:PT1H
BEGIN:VTIMEZONE
TZID:America/Phoenix
BEGIN:STANDARD
TZOFFSETFROM:-0700
TZOFFSETTO:-0700
TZNAME:MST
DTSTART:20250101T000000
END:STANDARD
END:VTIMEZONE
BEGIN:VEVENT
DTSTART;TZID=America/Phoenix:20260822T090000
DTEND;TZID=America/Phoenix:20260822T123000
DTSTAMP:20260423T201846
CREATED:20260416T194146Z
LAST-MODIFIED:20260416T194216Z
UID:10006876-1787389200-1787401800@santacruzheritage.org
SUMMARY:Boat Tours at Patagonia Lake State Park
DESCRIPTION:Every Saturday and Sunday\, $7 per adult\, $5 per child (13 years and under) \n  \n\n9 a.m. Avian Adventure Tour\n10:15 a.m. Avian Adventure Tour\n11:30 a.m. Lake Discovery Tour\nTwilight Tour on Saturdays only. Time varies.\n\n  \nPlease call the park to make your reservation: 520-287-2791.\nBoat rentals are available at the Patagonia Lake Marina.
URL:https://santacruzheritage.org/event/boat-tours-at-patagonia-lake-state-park/2026-08-22/
LOCATION:Patagonia Lake\, 400 Patagonia Lake Rd\, Patagonia\,\, AZ\, 85624\, United States
CATEGORIES:Youth Programming
END:VEVENT
BEGIN:VEVENT
DTSTART;TZID=America/Phoenix:20260823T090000
DTEND;TZID=America/Phoenix:20260823T123000
DTSTAMP:20260423T201846
CREATED:20260416T194146Z
LAST-MODIFIED:20260416T194216Z
UID:10006877-1787475600-1787488200@santacruzheritage.org
SUMMARY:Boat Tours at Patagonia Lake State Park
DESCRIPTION:Every Saturday and Sunday\, $7 per adult\, $5 per child (13 years and under) \n  \n\n9 a.m. Avian Adventure Tour\n10:15 a.m. Avian Adventure Tour\n11:30 a.m. Lake Discovery Tour\nTwilight Tour on Saturdays only. Time varies.\n\n  \nPlease call the park to make your reservation: 520-287-2791.\nBoat rentals are available at the Patagonia Lake Marina.
URL:https://santacruzheritage.org/event/boat-tours-at-patagonia-lake-state-park/2026-08-23/
LOCATION:Patagonia Lake\, 400 Patagonia Lake Rd\, Patagonia\,\, AZ\, 85624\, United States
CATEGORIES:Youth Programming
END:VEVENT
BEGIN:VEVENT
DTSTART;TZID=America/Phoenix:20260829T090000
DTEND;TZID=America/Phoenix:20260829T123000
DTSTAMP:20260423T201846
CREATED:20260416T194146Z
LAST-MODIFIED:20260416T194216Z
UID:10006878-1787994000-1788006600@santacruzheritage.org
SUMMARY:Boat Tours at Patagonia Lake State Park
DESCRIPTION:Every Saturday and Sunday\, $7 per adult\, $5 per child (13 years and under) \n  \n\n9 a.m. Avian Adventure Tour\n10:15 a.m. Avian Adventure Tour\n11:30 a.m. Lake Discovery Tour\nTwilight Tour on Saturdays only. Time varies.\n\n  \nPlease call the park to make your reservation: 520-287-2791.\nBoat rentals are available at the Patagonia Lake Marina.
URL:https://santacruzheritage.org/event/boat-tours-at-patagonia-lake-state-park/2026-08-29/
LOCATION:Patagonia Lake\, 400 Patagonia Lake Rd\, Patagonia\,\, AZ\, 85624\, United States
CATEGORIES:Youth Programming
END:VEVENT
BEGIN:VEVENT
DTSTART;TZID=America/Phoenix:20260830T090000
DTEND;TZID=America/Phoenix:20260830T123000
DTSTAMP:20260423T201846
CREATED:20260416T194146Z
LAST-MODIFIED:20260416T194216Z
UID:10006879-1788080400-1788093000@santacruzheritage.org
SUMMARY:Boat Tours at Patagonia Lake State Park
DESCRIPTION:Every Saturday and Sunday\, $7 per adult\, $5 per child (13 years and under) \n  \n\n9 a.m. Avian Adventure Tour\n10:15 a.m. Avian Adventure Tour\n11:30 a.m. Lake Discovery Tour\nTwilight Tour on Saturdays only. Time varies.\n\n  \nPlease call the park to make your reservation: 520-287-2791.\nBoat rentals are available at the Patagonia Lake Marina.
URL:https://santacruzheritage.org/event/boat-tours-at-patagonia-lake-state-park/2026-08-30/
LOCATION:Patagonia Lake\, 400 Patagonia Lake Rd\, Patagonia\,\, AZ\, 85624\, United States
CATEGORIES:Youth Programming
END:VEVENT
BEGIN:VEVENT
DTSTART;TZID=America/Phoenix:20260905T090000
DTEND;TZID=America/Phoenix:20260905T123000
DTSTAMP:20260423T201846
CREATED:20260416T194146Z
LAST-MODIFIED:20260416T194216Z
UID:10006880-1788598800-1788611400@santacruzheritage.org
SUMMARY:Boat Tours at Patagonia Lake State Park
DESCRIPTION:Every Saturday and Sunday\, $7 per adult\, $5 per child (13 years and under) \n  \n\n9 a.m. Avian Adventure Tour\n10:15 a.m. Avian Adventure Tour\n11:30 a.m. Lake Discovery Tour\nTwilight Tour on Saturdays only. Time varies.\n\n  \nPlease call the park to make your reservation: 520-287-2791.\nBoat rentals are available at the Patagonia Lake Marina.
URL:https://santacruzheritage.org/event/boat-tours-at-patagonia-lake-state-park/2026-09-05/
LOCATION:Patagonia Lake\, 400 Patagonia Lake Rd\, Patagonia\,\, AZ\, 85624\, United States
CATEGORIES:Youth Programming
END:VEVENT
BEGIN:VEVENT
DTSTART;TZID=America/Phoenix:20260906T090000
DTEND;TZID=America/Phoenix:20260906T123000
DTSTAMP:20260423T201846
CREATED:20260416T194146Z
LAST-MODIFIED:20260416T194216Z
UID:10006881-1788685200-1788697800@santacruzheritage.org
SUMMARY:Boat Tours at Patagonia Lake State Park
DESCRIPTION:Every Saturday and Sunday\, $7 per adult\, $5 per child (13 years and under) \n  \n\n9 a.m. Avian Adventure Tour\n10:15 a.m. Avian Adventure Tour\n11:30 a.m. Lake Discovery Tour\nTwilight Tour on Saturdays only. Time varies.\n\n  \nPlease call the park to make your reservation: 520-287-2791.\nBoat rentals are available at the Patagonia Lake Marina.
URL:https://santacruzheritage.org/event/boat-tours-at-patagonia-lake-state-park/2026-09-06/
LOCATION:Patagonia Lake\, 400 Patagonia Lake Rd\, Patagonia\,\, AZ\, 85624\, United States
CATEGORIES:Youth Programming
END:VEVENT
BEGIN:VEVENT
DTSTART;TZID=America/Phoenix:20260912T090000
DTEND;TZID=America/Phoenix:20260912T123000
DTSTAMP:20260423T201846
CREATED:20260416T194146Z
LAST-MODIFIED:20260416T194216Z
UID:10006882-1789203600-1789216200@santacruzheritage.org
SUMMARY:Boat Tours at Patagonia Lake State Park
DESCRIPTION:Every Saturday and Sunday\, $7 per adult\, $5 per child (13 years and under) \n  \n\n9 a.m. Avian Adventure Tour\n10:15 a.m. Avian Adventure Tour\n11:30 a.m. Lake Discovery Tour\nTwilight Tour on Saturdays only. Time varies.\n\n  \nPlease call the park to make your reservation: 520-287-2791.\nBoat rentals are available at the Patagonia Lake Marina.
URL:https://santacruzheritage.org/event/boat-tours-at-patagonia-lake-state-park/2026-09-12/
LOCATION:Patagonia Lake\, 400 Patagonia Lake Rd\, Patagonia\,\, AZ\, 85624\, United States
CATEGORIES:Youth Programming
END:VEVENT
BEGIN:VEVENT
DTSTART;TZID=America/Phoenix:20260913T090000
DTEND;TZID=America/Phoenix:20260913T123000
DTSTAMP:20260423T201846
CREATED:20260416T194146Z
LAST-MODIFIED:20260416T194216Z
UID:10006883-1789290000-1789302600@santacruzheritage.org
SUMMARY:Boat Tours at Patagonia Lake State Park
DESCRIPTION:Every Saturday and Sunday\, $7 per adult\, $5 per child (13 years and under) \n  \n\n9 a.m. Avian Adventure Tour\n10:15 a.m. Avian Adventure Tour\n11:30 a.m. Lake Discovery Tour\nTwilight Tour on Saturdays only. Time varies.\n\n  \nPlease call the park to make your reservation: 520-287-2791.\nBoat rentals are available at the Patagonia Lake Marina.
URL:https://santacruzheritage.org/event/boat-tours-at-patagonia-lake-state-park/2026-09-13/
LOCATION:Patagonia Lake\, 400 Patagonia Lake Rd\, Patagonia\,\, AZ\, 85624\, United States
CATEGORIES:Youth Programming
END:VEVENT
BEGIN:VEVENT
DTSTART;TZID=America/Phoenix:20260919T090000
DTEND;TZID=America/Phoenix:20260919T123000
DTSTAMP:20260423T201846
CREATED:20260416T194146Z
LAST-MODIFIED:20260416T194216Z
UID:10006884-1789808400-1789821000@santacruzheritage.org
SUMMARY:Boat Tours at Patagonia Lake State Park
DESCRIPTION:Every Saturday and Sunday\, $7 per adult\, $5 per child (13 years and under) \n  \n\n9 a.m. Avian Adventure Tour\n10:15 a.m. Avian Adventure Tour\n11:30 a.m. Lake Discovery Tour\nTwilight Tour on Saturdays only. Time varies.\n\n  \nPlease call the park to make your reservation: 520-287-2791.\nBoat rentals are available at the Patagonia Lake Marina.
URL:https://santacruzheritage.org/event/boat-tours-at-patagonia-lake-state-park/2026-09-19/
LOCATION:Patagonia Lake\, 400 Patagonia Lake Rd\, Patagonia\,\, AZ\, 85624\, United States
CATEGORIES:Youth Programming
END:VEVENT
BEGIN:VEVENT
DTSTART;TZID=America/Phoenix:20260920T090000
DTEND;TZID=America/Phoenix:20260920T123000
DTSTAMP:20260423T201846
CREATED:20260416T194146Z
LAST-MODIFIED:20260416T194216Z
UID:10006885-1789894800-1789907400@santacruzheritage.org
SUMMARY:Boat Tours at Patagonia Lake State Park
DESCRIPTION:Every Saturday and Sunday\, $7 per adult\, $5 per child (13 years and under) \n  \n\n9 a.m. Avian Adventure Tour\n10:15 a.m. Avian Adventure Tour\n11:30 a.m. Lake Discovery Tour\nTwilight Tour on Saturdays only. Time varies.\n\n  \nPlease call the park to make your reservation: 520-287-2791.\nBoat rentals are available at the Patagonia Lake Marina.
URL:https://santacruzheritage.org/event/boat-tours-at-patagonia-lake-state-park/2026-09-20/
LOCATION:Patagonia Lake\, 400 Patagonia Lake Rd\, Patagonia\,\, AZ\, 85624\, United States
CATEGORIES:Youth Programming
END:VEVENT
BEGIN:VEVENT
DTSTART;TZID=America/Phoenix:20260926T090000
DTEND;TZID=America/Phoenix:20260926T123000
DTSTAMP:20260423T201846
CREATED:20260416T194146Z
LAST-MODIFIED:20260416T194216Z
UID:10006886-1790413200-1790425800@santacruzheritage.org
SUMMARY:Boat Tours at Patagonia Lake State Park
DESCRIPTION:Every Saturday and Sunday\, $7 per adult\, $5 per child (13 years and under) \n  \n\n9 a.m. Avian Adventure Tour\n10:15 a.m. Avian Adventure Tour\n11:30 a.m. Lake Discovery Tour\nTwilight Tour on Saturdays only. Time varies.\n\n  \nPlease call the park to make your reservation: 520-287-2791.\nBoat rentals are available at the Patagonia Lake Marina.
URL:https://santacruzheritage.org/event/boat-tours-at-patagonia-lake-state-park/2026-09-26/
LOCATION:Patagonia Lake\, 400 Patagonia Lake Rd\, Patagonia\,\, AZ\, 85624\, United States
CATEGORIES:Youth Programming
END:VEVENT
BEGIN:VEVENT
DTSTART;TZID=America/Phoenix:20260927T090000
DTEND;TZID=America/Phoenix:20260927T123000
DTSTAMP:20260423T201846
CREATED:20260416T194146Z
LAST-MODIFIED:20260416T194216Z
UID:10006887-1790499600-1790512200@santacruzheritage.org
SUMMARY:Boat Tours at Patagonia Lake State Park
DESCRIPTION:Every Saturday and Sunday\, $7 per adult\, $5 per child (13 years and under) \n  \n\n9 a.m. Avian Adventure Tour\n10:15 a.m. Avian Adventure Tour\n11:30 a.m. Lake Discovery Tour\nTwilight Tour on Saturdays only. Time varies.\n\n  \nPlease call the park to make your reservation: 520-287-2791.\nBoat rentals are available at the Patagonia Lake Marina.
URL:https://santacruzheritage.org/event/boat-tours-at-patagonia-lake-state-park/2026-09-27/
LOCATION:Patagonia Lake\, 400 Patagonia Lake Rd\, Patagonia\,\, AZ\, 85624\, United States
CATEGORIES:Youth Programming
END:VEVENT
BEGIN:VEVENT
DTSTART;TZID=America/Phoenix:20261003T090000
DTEND;TZID=America/Phoenix:20261003T123000
DTSTAMP:20260423T201846
CREATED:20260416T194146Z
LAST-MODIFIED:20260416T194216Z
UID:10006888-1791018000-1791030600@santacruzheritage.org
SUMMARY:Boat Tours at Patagonia Lake State Park
DESCRIPTION:Every Saturday and Sunday\, $7 per adult\, $5 per child (13 years and under) \n  \n\n9 a.m. Avian Adventure Tour\n10:15 a.m. Avian Adventure Tour\n11:30 a.m. Lake Discovery Tour\nTwilight Tour on Saturdays only. Time varies.\n\n  \nPlease call the park to make your reservation: 520-287-2791.\nBoat rentals are available at the Patagonia Lake Marina.
URL:https://santacruzheritage.org/event/boat-tours-at-patagonia-lake-state-park/2026-10-03/
LOCATION:Patagonia Lake\, 400 Patagonia Lake Rd\, Patagonia\,\, AZ\, 85624\, United States
CATEGORIES:Youth Programming
END:VEVENT
BEGIN:VEVENT
DTSTART;TZID=America/Phoenix:20261004T090000
DTEND;TZID=America/Phoenix:20261004T123000
DTSTAMP:20260423T201846
CREATED:20260416T194146Z
LAST-MODIFIED:20260416T194216Z
UID:10006889-1791104400-1791117000@santacruzheritage.org
SUMMARY:Boat Tours at Patagonia Lake State Park
DESCRIPTION:Every Saturday and Sunday\, $7 per adult\, $5 per child (13 years and under) \n  \n\n9 a.m. Avian Adventure Tour\n10:15 a.m. Avian Adventure Tour\n11:30 a.m. Lake Discovery Tour\nTwilight Tour on Saturdays only. Time varies.\n\n  \nPlease call the park to make your reservation: 520-287-2791.\nBoat rentals are available at the Patagonia Lake Marina.
URL:https://santacruzheritage.org/event/boat-tours-at-patagonia-lake-state-park/2026-10-04/
LOCATION:Patagonia Lake\, 400 Patagonia Lake Rd\, Patagonia\,\, AZ\, 85624\, United States
CATEGORIES:Youth Programming
END:VEVENT
BEGIN:VEVENT
DTSTART;TZID=America/Phoenix:20261010T090000
DTEND;TZID=America/Phoenix:20261010T123000
DTSTAMP:20260423T201846
CREATED:20260416T194146Z
LAST-MODIFIED:20260416T194216Z
UID:10006890-1791622800-1791635400@santacruzheritage.org
SUMMARY:Boat Tours at Patagonia Lake State Park
DESCRIPTION:Every Saturday and Sunday\, $7 per adult\, $5 per child (13 years and under) \n  \n\n9 a.m. Avian Adventure Tour\n10:15 a.m. Avian Adventure Tour\n11:30 a.m. Lake Discovery Tour\nTwilight Tour on Saturdays only. Time varies.\n\n  \nPlease call the park to make your reservation: 520-287-2791.\nBoat rentals are available at the Patagonia Lake Marina.
URL:https://santacruzheritage.org/event/boat-tours-at-patagonia-lake-state-park/2026-10-10/
LOCATION:Patagonia Lake\, 400 Patagonia Lake Rd\, Patagonia\,\, AZ\, 85624\, United States
CATEGORIES:Youth Programming
END:VEVENT
BEGIN:VEVENT
DTSTART;TZID=America/Phoenix:20261011T090000
DTEND;TZID=America/Phoenix:20261011T123000
DTSTAMP:20260423T201846
CREATED:20260416T194146Z
LAST-MODIFIED:20260416T194216Z
UID:10006891-1791709200-1791721800@santacruzheritage.org
SUMMARY:Boat Tours at Patagonia Lake State Park
DESCRIPTION:Every Saturday and Sunday\, $7 per adult\, $5 per child (13 years and under) \n  \n\n9 a.m. Avian Adventure Tour\n10:15 a.m. Avian Adventure Tour\n11:30 a.m. Lake Discovery Tour\nTwilight Tour on Saturdays only. Time varies.\n\n  \nPlease call the park to make your reservation: 520-287-2791.\nBoat rentals are available at the Patagonia Lake Marina.
URL:https://santacruzheritage.org/event/boat-tours-at-patagonia-lake-state-park/2026-10-11/
LOCATION:Patagonia Lake\, 400 Patagonia Lake Rd\, Patagonia\,\, AZ\, 85624\, United States
CATEGORIES:Youth Programming
END:VEVENT
BEGIN:VEVENT
DTSTART;TZID=America/Phoenix:20261017T090000
DTEND;TZID=America/Phoenix:20261017T123000
DTSTAMP:20260423T201846
CREATED:20260416T194146Z
LAST-MODIFIED:20260416T194216Z
UID:10006892-1792227600-1792240200@santacruzheritage.org
SUMMARY:Boat Tours at Patagonia Lake State Park
DESCRIPTION:Every Saturday and Sunday\, $7 per adult\, $5 per child (13 years and under) \n  \n\n9 a.m. Avian Adventure Tour\n10:15 a.m. Avian Adventure Tour\n11:30 a.m. Lake Discovery Tour\nTwilight Tour on Saturdays only. Time varies.\n\n  \nPlease call the park to make your reservation: 520-287-2791.\nBoat rentals are available at the Patagonia Lake Marina.
URL:https://santacruzheritage.org/event/boat-tours-at-patagonia-lake-state-park/2026-10-17/
LOCATION:Patagonia Lake\, 400 Patagonia Lake Rd\, Patagonia\,\, AZ\, 85624\, United States
CATEGORIES:Youth Programming
END:VEVENT
BEGIN:VEVENT
DTSTART;TZID=America/Phoenix:20261018T090000
DTEND;TZID=America/Phoenix:20261018T123000
DTSTAMP:20260423T201846
CREATED:20260416T194146Z
LAST-MODIFIED:20260416T194216Z
UID:10006893-1792314000-1792326600@santacruzheritage.org
SUMMARY:Boat Tours at Patagonia Lake State Park
DESCRIPTION:Every Saturday and Sunday\, $7 per adult\, $5 per child (13 years and under) \n  \n\n9 a.m. Avian Adventure Tour\n10:15 a.m. Avian Adventure Tour\n11:30 a.m. Lake Discovery Tour\nTwilight Tour on Saturdays only. Time varies.\n\n  \nPlease call the park to make your reservation: 520-287-2791.\nBoat rentals are available at the Patagonia Lake Marina.
URL:https://santacruzheritage.org/event/boat-tours-at-patagonia-lake-state-park/2026-10-18/
LOCATION:Patagonia Lake\, 400 Patagonia Lake Rd\, Patagonia\,\, AZ\, 85624\, United States
CATEGORIES:Youth Programming
END:VEVENT
BEGIN:VEVENT
DTSTART;TZID=America/Phoenix:20261024T090000
DTEND;TZID=America/Phoenix:20261024T123000
DTSTAMP:20260423T201846
CREATED:20260416T194146Z
LAST-MODIFIED:20260416T194216Z
UID:10006894-1792832400-1792845000@santacruzheritage.org
SUMMARY:Boat Tours at Patagonia Lake State Park
DESCRIPTION:Every Saturday and Sunday\, $7 per adult\, $5 per child (13 years and under) \n  \n\n9 a.m. Avian Adventure Tour\n10:15 a.m. Avian Adventure Tour\n11:30 a.m. Lake Discovery Tour\nTwilight Tour on Saturdays only. Time varies.\n\n  \nPlease call the park to make your reservation: 520-287-2791.\nBoat rentals are available at the Patagonia Lake Marina.
URL:https://santacruzheritage.org/event/boat-tours-at-patagonia-lake-state-park/2026-10-24/
LOCATION:Patagonia Lake\, 400 Patagonia Lake Rd\, Patagonia\,\, AZ\, 85624\, United States
CATEGORIES:Youth Programming
END:VEVENT
BEGIN:VEVENT
DTSTART;TZID=America/Phoenix:20261025T090000
DTEND;TZID=America/Phoenix:20261025T123000
DTSTAMP:20260423T201846
CREATED:20260416T194146Z
LAST-MODIFIED:20260416T194216Z
UID:10006895-1792918800-1792931400@santacruzheritage.org
SUMMARY:Boat Tours at Patagonia Lake State Park
DESCRIPTION:Every Saturday and Sunday\, $7 per adult\, $5 per child (13 years and under) \n  \n\n9 a.m. Avian Adventure Tour\n10:15 a.m. Avian Adventure Tour\n11:30 a.m. Lake Discovery Tour\nTwilight Tour on Saturdays only. Time varies.\n\n  \nPlease call the park to make your reservation: 520-287-2791.\nBoat rentals are available at the Patagonia Lake Marina.
URL:https://santacruzheritage.org/event/boat-tours-at-patagonia-lake-state-park/2026-10-25/
LOCATION:Patagonia Lake\, 400 Patagonia Lake Rd\, Patagonia\,\, AZ\, 85624\, United States
CATEGORIES:Youth Programming
END:VEVENT
BEGIN:VEVENT
DTSTART;TZID=America/Phoenix:20261031T090000
DTEND;TZID=America/Phoenix:20261031T123000
DTSTAMP:20260423T201846
CREATED:20260416T194146Z
LAST-MODIFIED:20260416T194216Z
UID:10006896-1793437200-1793449800@santacruzheritage.org
SUMMARY:Boat Tours at Patagonia Lake State Park
DESCRIPTION:Every Saturday and Sunday\, $7 per adult\, $5 per child (13 years and under) \n  \n\n9 a.m. Avian Adventure Tour\n10:15 a.m. Avian Adventure Tour\n11:30 a.m. Lake Discovery Tour\nTwilight Tour on Saturdays only. Time varies.\n\n  \nPlease call the park to make your reservation: 520-287-2791.\nBoat rentals are available at the Patagonia Lake Marina.
URL:https://santacruzheritage.org/event/boat-tours-at-patagonia-lake-state-park/2026-10-31/
LOCATION:Patagonia Lake\, 400 Patagonia Lake Rd\, Patagonia\,\, AZ\, 85624\, United States
CATEGORIES:Youth Programming
END:VEVENT
BEGIN:VEVENT
DTSTART;TZID=America/Phoenix:20261101T090000
DTEND;TZID=America/Phoenix:20261101T123000
DTSTAMP:20260423T201846
CREATED:20260416T194146Z
LAST-MODIFIED:20260416T194216Z
UID:10006897-1793523600-1793536200@santacruzheritage.org
SUMMARY:Boat Tours at Patagonia Lake State Park
DESCRIPTION:Every Saturday and Sunday\, $7 per adult\, $5 per child (13 years and under) \n  \n\n9 a.m. Avian Adventure Tour\n10:15 a.m. Avian Adventure Tour\n11:30 a.m. Lake Discovery Tour\nTwilight Tour on Saturdays only. Time varies.\n\n  \nPlease call the park to make your reservation: 520-287-2791.\nBoat rentals are available at the Patagonia Lake Marina.
URL:https://santacruzheritage.org/event/boat-tours-at-patagonia-lake-state-park/2026-11-01/
LOCATION:Patagonia Lake\, 400 Patagonia Lake Rd\, Patagonia\,\, AZ\, 85624\, United States
CATEGORIES:Youth Programming
END:VEVENT
BEGIN:VEVENT
DTSTART;TZID=America/Phoenix:20261107T090000
DTEND;TZID=America/Phoenix:20261107T123000
DTSTAMP:20260423T201846
CREATED:20260416T194146Z
LAST-MODIFIED:20260416T194216Z
UID:10006898-1794042000-1794054600@santacruzheritage.org
SUMMARY:Boat Tours at Patagonia Lake State Park
DESCRIPTION:Every Saturday and Sunday\, $7 per adult\, $5 per child (13 years and under) \n  \n\n9 a.m. Avian Adventure Tour\n10:15 a.m. Avian Adventure Tour\n11:30 a.m. Lake Discovery Tour\nTwilight Tour on Saturdays only. Time varies.\n\n  \nPlease call the park to make your reservation: 520-287-2791.\nBoat rentals are available at the Patagonia Lake Marina.
URL:https://santacruzheritage.org/event/boat-tours-at-patagonia-lake-state-park/2026-11-07/
LOCATION:Patagonia Lake\, 400 Patagonia Lake Rd\, Patagonia\,\, AZ\, 85624\, United States
CATEGORIES:Youth Programming
END:VEVENT
BEGIN:VEVENT
DTSTART;TZID=America/Phoenix:20261108T090000
DTEND;TZID=America/Phoenix:20261108T123000
DTSTAMP:20260423T201846
CREATED:20260416T194146Z
LAST-MODIFIED:20260416T194216Z
UID:10006899-1794128400-1794141000@santacruzheritage.org
SUMMARY:Boat Tours at Patagonia Lake State Park
DESCRIPTION:Every Saturday and Sunday\, $7 per adult\, $5 per child (13 years and under) \n  \n\n9 a.m. Avian Adventure Tour\n10:15 a.m. Avian Adventure Tour\n11:30 a.m. Lake Discovery Tour\nTwilight Tour on Saturdays only. Time varies.\n\n  \nPlease call the park to make your reservation: 520-287-2791.\nBoat rentals are available at the Patagonia Lake Marina.
URL:https://santacruzheritage.org/event/boat-tours-at-patagonia-lake-state-park/2026-11-08/
LOCATION:Patagonia Lake\, 400 Patagonia Lake Rd\, Patagonia\,\, AZ\, 85624\, United States
CATEGORIES:Youth Programming
END:VEVENT
BEGIN:VEVENT
DTSTART;TZID=America/Phoenix:20261114T090000
DTEND;TZID=America/Phoenix:20261114T123000
DTSTAMP:20260423T201846
CREATED:20260416T194146Z
LAST-MODIFIED:20260416T194216Z
UID:10006900-1794646800-1794659400@santacruzheritage.org
SUMMARY:Boat Tours at Patagonia Lake State Park
DESCRIPTION:Every Saturday and Sunday\, $7 per adult\, $5 per child (13 years and under) \n  \n\n9 a.m. Avian Adventure Tour\n10:15 a.m. Avian Adventure Tour\n11:30 a.m. Lake Discovery Tour\nTwilight Tour on Saturdays only. Time varies.\n\n  \nPlease call the park to make your reservation: 520-287-2791.\nBoat rentals are available at the Patagonia Lake Marina.
URL:https://santacruzheritage.org/event/boat-tours-at-patagonia-lake-state-park/2026-11-14/
LOCATION:Patagonia Lake\, 400 Patagonia Lake Rd\, Patagonia\,\, AZ\, 85624\, United States
CATEGORIES:Youth Programming
END:VEVENT
BEGIN:VEVENT
DTSTART;TZID=America/Phoenix:20261115T090000
DTEND;TZID=America/Phoenix:20261115T123000
DTSTAMP:20260423T201846
CREATED:20260416T194146Z
LAST-MODIFIED:20260416T194216Z
UID:10006901-1794733200-1794745800@santacruzheritage.org
SUMMARY:Boat Tours at Patagonia Lake State Park
DESCRIPTION:Every Saturday and Sunday\, $7 per adult\, $5 per child (13 years and under) \n  \n\n9 a.m. Avian Adventure Tour\n10:15 a.m. Avian Adventure Tour\n11:30 a.m. Lake Discovery Tour\nTwilight Tour on Saturdays only. Time varies.\n\n  \nPlease call the park to make your reservation: 520-287-2791.\nBoat rentals are available at the Patagonia Lake Marina.
URL:https://santacruzheritage.org/event/boat-tours-at-patagonia-lake-state-park/2026-11-15/
LOCATION:Patagonia Lake\, 400 Patagonia Lake Rd\, Patagonia\,\, AZ\, 85624\, United States
CATEGORIES:Youth Programming
END:VEVENT
BEGIN:VEVENT
DTSTART;TZID=America/Phoenix:20261121T090000
DTEND;TZID=America/Phoenix:20261121T123000
DTSTAMP:20260423T201846
CREATED:20260416T194146Z
LAST-MODIFIED:20260416T194216Z
UID:10006902-1795251600-1795264200@santacruzheritage.org
SUMMARY:Boat Tours at Patagonia Lake State Park
DESCRIPTION:Every Saturday and Sunday\, $7 per adult\, $5 per child (13 years and under) \n  \n\n9 a.m. Avian Adventure Tour\n10:15 a.m. Avian Adventure Tour\n11:30 a.m. Lake Discovery Tour\nTwilight Tour on Saturdays only. Time varies.\n\n  \nPlease call the park to make your reservation: 520-287-2791.\nBoat rentals are available at the Patagonia Lake Marina.
URL:https://santacruzheritage.org/event/boat-tours-at-patagonia-lake-state-park/2026-11-21/
LOCATION:Patagonia Lake\, 400 Patagonia Lake Rd\, Patagonia\,\, AZ\, 85624\, United States
CATEGORIES:Youth Programming
END:VEVENT
BEGIN:VEVENT
DTSTART;TZID=America/Phoenix:20261122T090000
DTEND;TZID=America/Phoenix:20261122T123000
DTSTAMP:20260423T201846
CREATED:20260416T194146Z
LAST-MODIFIED:20260416T194216Z
UID:10006903-1795338000-1795350600@santacruzheritage.org
SUMMARY:Boat Tours at Patagonia Lake State Park
DESCRIPTION:Every Saturday and Sunday\, $7 per adult\, $5 per child (13 years and under) \n  \n\n9 a.m. Avian Adventure Tour\n10:15 a.m. Avian Adventure Tour\n11:30 a.m. Lake Discovery Tour\nTwilight Tour on Saturdays only. Time varies.\n\n  \nPlease call the park to make your reservation: 520-287-2791.\nBoat rentals are available at the Patagonia Lake Marina.
URL:https://santacruzheritage.org/event/boat-tours-at-patagonia-lake-state-park/2026-11-22/
LOCATION:Patagonia Lake\, 400 Patagonia Lake Rd\, Patagonia\,\, AZ\, 85624\, United States
CATEGORIES:Youth Programming
END:VEVENT
BEGIN:VEVENT
DTSTART;TZID=America/Phoenix:20261128T090000
DTEND;TZID=America/Phoenix:20261128T123000
DTSTAMP:20260423T201846
CREATED:20260416T194146Z
LAST-MODIFIED:20260416T194216Z
UID:10006904-1795856400-1795869000@santacruzheritage.org
SUMMARY:Boat Tours at Patagonia Lake State Park
DESCRIPTION:Every Saturday and Sunday\, $7 per adult\, $5 per child (13 years and under) \n  \n\n9 a.m. Avian Adventure Tour\n10:15 a.m. Avian Adventure Tour\n11:30 a.m. Lake Discovery Tour\nTwilight Tour on Saturdays only. Time varies.\n\n  \nPlease call the park to make your reservation: 520-287-2791.\nBoat rentals are available at the Patagonia Lake Marina.
URL:https://santacruzheritage.org/event/boat-tours-at-patagonia-lake-state-park/2026-11-28/
LOCATION:Patagonia Lake\, 400 Patagonia Lake Rd\, Patagonia\,\, AZ\, 85624\, United States
CATEGORIES:Youth Programming
END:VEVENT
BEGIN:VEVENT
DTSTART;TZID=America/Phoenix:20261129T090000
DTEND;TZID=America/Phoenix:20261129T123000
DTSTAMP:20260423T201846
CREATED:20260416T194146Z
LAST-MODIFIED:20260416T194216Z
UID:10006905-1795942800-1795955400@santacruzheritage.org
SUMMARY:Boat Tours at Patagonia Lake State Park
DESCRIPTION:Every Saturday and Sunday\, $7 per adult\, $5 per child (13 years and under) \n  \n\n9 a.m. Avian Adventure Tour\n10:15 a.m. Avian Adventure Tour\n11:30 a.m. Lake Discovery Tour\nTwilight Tour on Saturdays only. Time varies.\n\n  \nPlease call the park to make your reservation: 520-287-2791.\nBoat rentals are available at the Patagonia Lake Marina.
URL:https://santacruzheritage.org/event/boat-tours-at-patagonia-lake-state-park/2026-11-29/
LOCATION:Patagonia Lake\, 400 Patagonia Lake Rd\, Patagonia\,\, AZ\, 85624\, United States
CATEGORIES:Youth Programming
END:VEVENT
END:VCALENDAR