BEGIN:VCALENDAR
VERSION:2.0
PRODID:-//Santa Cruz Valley National Heritage Area - ECPv6.15.20//NONSGML v1.0//EN
CALSCALE:GREGORIAN
METHOD:PUBLISH
X-ORIGINAL-URL:https://santacruzheritage.org
X-WR-CALDESC:Events for Santa Cruz Valley National Heritage Area
REFRESH-INTERVAL;VALUE=DURATION:PT1H
X-Robots-Tag:noindex
X-PUBLISHED-TTL:PT1H
BEGIN:VTIMEZONE
TZID:America/Phoenix
BEGIN:STANDARD
TZOFFSETFROM:-0700
TZOFFSETTO:-0700
TZNAME:MST
DTSTART:20250101T000000
END:STANDARD
END:VTIMEZONE
BEGIN:VEVENT
DTSTART;TZID=America/Phoenix:20260412T080000
DTEND;TZID=America/Phoenix:20260412T110000
DTSTAMP:20260423T043322
CREATED:20260408T232631Z
LAST-MODIFIED:20260408T232631Z
UID:10006527-1775980800-1775991600@santacruzheritage.org
SUMMARY:Borderlands Restoration Network Plant Sale
DESCRIPTION:Borderlands Restoration Network brings their plants to Bar Crisol + Exo on Simpson St for a native plant and seed sale supporting ecological restoration across the Arizona Sky Islands and the Madrean Archipelago. \nProceeds from native plants and seeds help fund the cultivation of native seed fields and responsible seed harvest used in restoration projects throughout the region. By choosing plants adapted to desert and mountain ecosystems\, you are supporting habitat\, pollinators\, and long-term landscape health. Stop by for coffee\, browse native plants\, and support on-the-ground restoration work by taking something home. \nCome for the plants\, stay for the coffee and conversation.
URL:https://santacruzheritage.org/event/borderlands-restoration-network-plant-sale/
LOCATION:Bar Crisol + Exo\, 196 West Simpson Street\, Tucson\, 85701\, United States
END:VEVENT
END:VCALENDAR