BEGIN:VCALENDAR
VERSION:2.0
PRODID:-//Santa Cruz Valley National Heritage Area - ECPv6.15.20//NONSGML v1.0//EN
CALSCALE:GREGORIAN
METHOD:PUBLISH
X-ORIGINAL-URL:https://santacruzheritage.org
X-WR-CALDESC:Events for Santa Cruz Valley National Heritage Area
REFRESH-INTERVAL;VALUE=DURATION:PT1H
X-Robots-Tag:noindex
X-PUBLISHED-TTL:PT1H
BEGIN:VTIMEZONE
TZID:America/Phoenix
BEGIN:STANDARD
TZOFFSETFROM:-0700
TZOFFSETTO:-0700
TZNAME:MST
DTSTART:20250101T000000
END:STANDARD
END:VTIMEZONE
BEGIN:VEVENT
DTSTART;TZID=America/Phoenix:20261024T100000
DTEND;TZID=America/Phoenix:20261024T120000
DTSTAMP:20260423T011442
CREATED:20250307T143126Z
LAST-MODIFIED:20260122T233016Z
UID:10003278-1792836000-1792843200@santacruzheritage.org
SUMMARY:Living Lab & Learning Center Tour
DESCRIPTION:Our guided Living Lab Tours happen every 2nd and 4th Saturdays of the month. You’ll be led through our demonstration site by one of our Docents to learn about our many water harvesting systems firsthand.
URL:https://santacruzheritage.org/event/living-lab-learning-center-tour-3/2026-10-24/
LOCATION:Watershed Management Group\, 1137 N Dodge Blvd.\, Tucson\, AZ\, 85716
CATEGORIES:Tours
ATTACH;FMTTYPE=image/png:https://santacruzheritage.org/wp-content/uploads/2024/12/Screenshot-2024-12-23-at-12.17.42 PM.png
END:VEVENT
BEGIN:VEVENT
DTSTART;TZID=America/Phoenix:20261114T170000
DTEND;TZID=America/Phoenix:20261114T190000
DTSTAMP:20260423T011442
CREATED:20241221T041424Z
LAST-MODIFIED:20250306T022426Z
UID:10002358-1794675600-1794682800@santacruzheritage.org
SUMMARY:Living Lab & Learning Center Tour
DESCRIPTION:Our guided Living Lab Tours happen every 2nd and 4th Saturdays of the month. You’ll be led through our demonstration site by one of our Docents to learn about our many water harvesting systems firsthand.
URL:https://santacruzheritage.org/event/living-lab-learning-center-tour-2/2026-11-14/
LOCATION:Watershed Management Group\, 1137 N Dodge Blvd.\, Tucson\, AZ\, 85716
CATEGORIES:Tours
ATTACH;FMTTYPE=image/png:https://santacruzheritage.org/wp-content/uploads/2024/12/Screenshot-2024-12-23-at-12.17.42 PM.png
END:VEVENT
BEGIN:VEVENT
DTSTART;TZID=America/Phoenix:20261128T100000
DTEND;TZID=America/Phoenix:20261128T120000
DTSTAMP:20260423T011442
CREATED:20250307T143126Z
LAST-MODIFIED:20260122T233016Z
UID:10003279-1795860000-1795867200@santacruzheritage.org
SUMMARY:Living Lab & Learning Center Tour
DESCRIPTION:Our guided Living Lab Tours happen every 2nd and 4th Saturdays of the month. You’ll be led through our demonstration site by one of our Docents to learn about our many water harvesting systems firsthand.
URL:https://santacruzheritage.org/event/living-lab-learning-center-tour-3/2026-11-28/
LOCATION:Watershed Management Group\, 1137 N Dodge Blvd.\, Tucson\, AZ\, 85716
CATEGORIES:Tours
ATTACH;FMTTYPE=image/png:https://santacruzheritage.org/wp-content/uploads/2024/12/Screenshot-2024-12-23-at-12.17.42 PM.png
END:VEVENT
BEGIN:VEVENT
DTSTART;TZID=America/Phoenix:20261212T170000
DTEND;TZID=America/Phoenix:20261212T190000
DTSTAMP:20260423T011442
CREATED:20241221T041424Z
LAST-MODIFIED:20250306T022426Z
UID:10002359-1797094800-1797102000@santacruzheritage.org
SUMMARY:Living Lab & Learning Center Tour
DESCRIPTION:Our guided Living Lab Tours happen every 2nd and 4th Saturdays of the month. You’ll be led through our demonstration site by one of our Docents to learn about our many water harvesting systems firsthand.
URL:https://santacruzheritage.org/event/living-lab-learning-center-tour-2/2026-12-12/
LOCATION:Watershed Management Group\, 1137 N Dodge Blvd.\, Tucson\, AZ\, 85716
CATEGORIES:Tours
ATTACH;FMTTYPE=image/png:https://santacruzheritage.org/wp-content/uploads/2024/12/Screenshot-2024-12-23-at-12.17.42 PM.png
END:VEVENT
BEGIN:VEVENT
DTSTART;TZID=America/Phoenix:20261226T100000
DTEND;TZID=America/Phoenix:20261226T120000
DTSTAMP:20260423T011442
CREATED:20250307T143126Z
LAST-MODIFIED:20260122T233016Z
UID:10003280-1798279200-1798286400@santacruzheritage.org
SUMMARY:Living Lab & Learning Center Tour
DESCRIPTION:Our guided Living Lab Tours happen every 2nd and 4th Saturdays of the month. You’ll be led through our demonstration site by one of our Docents to learn about our many water harvesting systems firsthand.
URL:https://santacruzheritage.org/event/living-lab-learning-center-tour-3/2026-12-26/
LOCATION:Watershed Management Group\, 1137 N Dodge Blvd.\, Tucson\, AZ\, 85716
CATEGORIES:Tours
ATTACH;FMTTYPE=image/png:https://santacruzheritage.org/wp-content/uploads/2024/12/Screenshot-2024-12-23-at-12.17.42 PM.png
END:VEVENT
BEGIN:VEVENT
DTSTART;TZID=America/Phoenix:20270109T170000
DTEND;TZID=America/Phoenix:20270109T190000
DTSTAMP:20260423T011442
CREATED:20241221T041424Z
LAST-MODIFIED:20250306T022426Z
UID:10002360-1799514000-1799521200@santacruzheritage.org
SUMMARY:Living Lab & Learning Center Tour
DESCRIPTION:Our guided Living Lab Tours happen every 2nd and 4th Saturdays of the month. You’ll be led through our demonstration site by one of our Docents to learn about our many water harvesting systems firsthand.
URL:https://santacruzheritage.org/event/living-lab-learning-center-tour-2/2027-01-09/
LOCATION:Watershed Management Group\, 1137 N Dodge Blvd.\, Tucson\, AZ\, 85716
CATEGORIES:Tours
ATTACH;FMTTYPE=image/png:https://santacruzheritage.org/wp-content/uploads/2024/12/Screenshot-2024-12-23-at-12.17.42 PM.png
END:VEVENT
BEGIN:VEVENT
DTSTART;TZID=America/Phoenix:20270123T100000
DTEND;TZID=America/Phoenix:20270123T120000
DTSTAMP:20260423T011442
CREATED:20250307T143126Z
LAST-MODIFIED:20260122T233016Z
UID:10003281-1800698400-1800705600@santacruzheritage.org
SUMMARY:Living Lab & Learning Center Tour
DESCRIPTION:Our guided Living Lab Tours happen every 2nd and 4th Saturdays of the month. You’ll be led through our demonstration site by one of our Docents to learn about our many water harvesting systems firsthand.
URL:https://santacruzheritage.org/event/living-lab-learning-center-tour-3/2027-01-23/
LOCATION:Watershed Management Group\, 1137 N Dodge Blvd.\, Tucson\, AZ\, 85716
CATEGORIES:Tours
ATTACH;FMTTYPE=image/png:https://santacruzheritage.org/wp-content/uploads/2024/12/Screenshot-2024-12-23-at-12.17.42 PM.png
END:VEVENT
BEGIN:VEVENT
DTSTART;TZID=America/Phoenix:20270213T170000
DTEND;TZID=America/Phoenix:20270213T190000
DTSTAMP:20260423T011442
CREATED:20241221T041424Z
LAST-MODIFIED:20250306T022426Z
UID:10002361-1802538000-1802545200@santacruzheritage.org
SUMMARY:Living Lab & Learning Center Tour
DESCRIPTION:Our guided Living Lab Tours happen every 2nd and 4th Saturdays of the month. You’ll be led through our demonstration site by one of our Docents to learn about our many water harvesting systems firsthand.
URL:https://santacruzheritage.org/event/living-lab-learning-center-tour-2/2027-02-13/
LOCATION:Watershed Management Group\, 1137 N Dodge Blvd.\, Tucson\, AZ\, 85716
CATEGORIES:Tours
ATTACH;FMTTYPE=image/png:https://santacruzheritage.org/wp-content/uploads/2024/12/Screenshot-2024-12-23-at-12.17.42 PM.png
END:VEVENT
BEGIN:VEVENT
DTSTART;TZID=America/Phoenix:20270227T100000
DTEND;TZID=America/Phoenix:20270227T120000
DTSTAMP:20260423T011442
CREATED:20250307T143126Z
LAST-MODIFIED:20260122T233016Z
UID:10003282-1803722400-1803729600@santacruzheritage.org
SUMMARY:Living Lab & Learning Center Tour
DESCRIPTION:Our guided Living Lab Tours happen every 2nd and 4th Saturdays of the month. You’ll be led through our demonstration site by one of our Docents to learn about our many water harvesting systems firsthand.
URL:https://santacruzheritage.org/event/living-lab-learning-center-tour-3/2027-02-27/
LOCATION:Watershed Management Group\, 1137 N Dodge Blvd.\, Tucson\, AZ\, 85716
CATEGORIES:Tours
ATTACH;FMTTYPE=image/png:https://santacruzheritage.org/wp-content/uploads/2024/12/Screenshot-2024-12-23-at-12.17.42 PM.png
END:VEVENT
BEGIN:VEVENT
DTSTART;TZID=America/Phoenix:20270313T170000
DTEND;TZID=America/Phoenix:20270313T190000
DTSTAMP:20260423T011442
CREATED:20241221T041424Z
LAST-MODIFIED:20250306T022426Z
UID:10002362-1804957200-1804964400@santacruzheritage.org
SUMMARY:Living Lab & Learning Center Tour
DESCRIPTION:Our guided Living Lab Tours happen every 2nd and 4th Saturdays of the month. You’ll be led through our demonstration site by one of our Docents to learn about our many water harvesting systems firsthand.
URL:https://santacruzheritage.org/event/living-lab-learning-center-tour-2/2027-03-13/
LOCATION:Watershed Management Group\, 1137 N Dodge Blvd.\, Tucson\, AZ\, 85716
CATEGORIES:Tours
ATTACH;FMTTYPE=image/png:https://santacruzheritage.org/wp-content/uploads/2024/12/Screenshot-2024-12-23-at-12.17.42 PM.png
END:VEVENT
BEGIN:VEVENT
DTSTART;TZID=America/Phoenix:20270327T100000
DTEND;TZID=America/Phoenix:20270327T120000
DTSTAMP:20260423T011442
CREATED:20250307T143126Z
LAST-MODIFIED:20260122T233016Z
UID:10003283-1806141600-1806148800@santacruzheritage.org
SUMMARY:Living Lab & Learning Center Tour
DESCRIPTION:Our guided Living Lab Tours happen every 2nd and 4th Saturdays of the month. You’ll be led through our demonstration site by one of our Docents to learn about our many water harvesting systems firsthand.
URL:https://santacruzheritage.org/event/living-lab-learning-center-tour-3/2027-03-27/
LOCATION:Watershed Management Group\, 1137 N Dodge Blvd.\, Tucson\, AZ\, 85716
CATEGORIES:Tours
ATTACH;FMTTYPE=image/png:https://santacruzheritage.org/wp-content/uploads/2024/12/Screenshot-2024-12-23-at-12.17.42 PM.png
END:VEVENT
BEGIN:VEVENT
DTSTART;TZID=America/Phoenix:20270410T170000
DTEND;TZID=America/Phoenix:20270410T190000
DTSTAMP:20260423T011442
CREATED:20241221T041424Z
LAST-MODIFIED:20250306T022426Z
UID:10002363-1807376400-1807383600@santacruzheritage.org
SUMMARY:Living Lab & Learning Center Tour
DESCRIPTION:Our guided Living Lab Tours happen every 2nd and 4th Saturdays of the month. You’ll be led through our demonstration site by one of our Docents to learn about our many water harvesting systems firsthand.
URL:https://santacruzheritage.org/event/living-lab-learning-center-tour-2/2027-04-10/
LOCATION:Watershed Management Group\, 1137 N Dodge Blvd.\, Tucson\, AZ\, 85716
CATEGORIES:Tours
ATTACH;FMTTYPE=image/png:https://santacruzheritage.org/wp-content/uploads/2024/12/Screenshot-2024-12-23-at-12.17.42 PM.png
END:VEVENT
BEGIN:VEVENT
DTSTART;TZID=America/Phoenix:20270424T100000
DTEND;TZID=America/Phoenix:20270424T120000
DTSTAMP:20260423T011442
CREATED:20250307T143126Z
LAST-MODIFIED:20260122T233016Z
UID:10003284-1808560800-1808568000@santacruzheritage.org
SUMMARY:Living Lab & Learning Center Tour
DESCRIPTION:Our guided Living Lab Tours happen every 2nd and 4th Saturdays of the month. You’ll be led through our demonstration site by one of our Docents to learn about our many water harvesting systems firsthand.
URL:https://santacruzheritage.org/event/living-lab-learning-center-tour-3/2027-04-24/
LOCATION:Watershed Management Group\, 1137 N Dodge Blvd.\, Tucson\, AZ\, 85716
CATEGORIES:Tours
ATTACH;FMTTYPE=image/png:https://santacruzheritage.org/wp-content/uploads/2024/12/Screenshot-2024-12-23-at-12.17.42 PM.png
END:VEVENT
BEGIN:VEVENT
DTSTART;TZID=America/Phoenix:20270508T170000
DTEND;TZID=America/Phoenix:20270508T190000
DTSTAMP:20260423T011442
CREATED:20241221T041424Z
LAST-MODIFIED:20250306T022426Z
UID:10002364-1809795600-1809802800@santacruzheritage.org
SUMMARY:Living Lab & Learning Center Tour
DESCRIPTION:Our guided Living Lab Tours happen every 2nd and 4th Saturdays of the month. You’ll be led through our demonstration site by one of our Docents to learn about our many water harvesting systems firsthand.
URL:https://santacruzheritage.org/event/living-lab-learning-center-tour-2/2027-05-08/
LOCATION:Watershed Management Group\, 1137 N Dodge Blvd.\, Tucson\, AZ\, 85716
CATEGORIES:Tours
ATTACH;FMTTYPE=image/png:https://santacruzheritage.org/wp-content/uploads/2024/12/Screenshot-2024-12-23-at-12.17.42 PM.png
END:VEVENT
BEGIN:VEVENT
DTSTART;TZID=America/Phoenix:20270522T100000
DTEND;TZID=America/Phoenix:20270522T120000
DTSTAMP:20260423T011442
CREATED:20250307T143126Z
LAST-MODIFIED:20260122T233016Z
UID:10003285-1810980000-1810987200@santacruzheritage.org
SUMMARY:Living Lab & Learning Center Tour
DESCRIPTION:Our guided Living Lab Tours happen every 2nd and 4th Saturdays of the month. You’ll be led through our demonstration site by one of our Docents to learn about our many water harvesting systems firsthand.
URL:https://santacruzheritage.org/event/living-lab-learning-center-tour-3/2027-05-22/
LOCATION:Watershed Management Group\, 1137 N Dodge Blvd.\, Tucson\, AZ\, 85716
CATEGORIES:Tours
ATTACH;FMTTYPE=image/png:https://santacruzheritage.org/wp-content/uploads/2024/12/Screenshot-2024-12-23-at-12.17.42 PM.png
END:VEVENT
BEGIN:VEVENT
DTSTART;TZID=America/Phoenix:20270612T170000
DTEND;TZID=America/Phoenix:20270612T190000
DTSTAMP:20260423T011442
CREATED:20241221T041424Z
LAST-MODIFIED:20250306T022426Z
UID:10002365-1812819600-1812826800@santacruzheritage.org
SUMMARY:Living Lab & Learning Center Tour
DESCRIPTION:Our guided Living Lab Tours happen every 2nd and 4th Saturdays of the month. You’ll be led through our demonstration site by one of our Docents to learn about our many water harvesting systems firsthand.
URL:https://santacruzheritage.org/event/living-lab-learning-center-tour-2/2027-06-12/
LOCATION:Watershed Management Group\, 1137 N Dodge Blvd.\, Tucson\, AZ\, 85716
CATEGORIES:Tours
ATTACH;FMTTYPE=image/png:https://santacruzheritage.org/wp-content/uploads/2024/12/Screenshot-2024-12-23-at-12.17.42 PM.png
END:VEVENT
BEGIN:VEVENT
DTSTART;TZID=America/Phoenix:20270626T100000
DTEND;TZID=America/Phoenix:20270626T120000
DTSTAMP:20260423T011442
CREATED:20250307T143126Z
LAST-MODIFIED:20260122T233016Z
UID:10003286-1814004000-1814011200@santacruzheritage.org
SUMMARY:Living Lab & Learning Center Tour
DESCRIPTION:Our guided Living Lab Tours happen every 2nd and 4th Saturdays of the month. You’ll be led through our demonstration site by one of our Docents to learn about our many water harvesting systems firsthand.
URL:https://santacruzheritage.org/event/living-lab-learning-center-tour-3/2027-06-26/
LOCATION:Watershed Management Group\, 1137 N Dodge Blvd.\, Tucson\, AZ\, 85716
CATEGORIES:Tours
ATTACH;FMTTYPE=image/png:https://santacruzheritage.org/wp-content/uploads/2024/12/Screenshot-2024-12-23-at-12.17.42 PM.png
END:VEVENT
BEGIN:VEVENT
DTSTART;TZID=America/Phoenix:20270710T170000
DTEND;TZID=America/Phoenix:20270710T190000
DTSTAMP:20260423T011442
CREATED:20241221T041424Z
LAST-MODIFIED:20250306T022426Z
UID:10002366-1815238800-1815246000@santacruzheritage.org
SUMMARY:Living Lab & Learning Center Tour
DESCRIPTION:Our guided Living Lab Tours happen every 2nd and 4th Saturdays of the month. You’ll be led through our demonstration site by one of our Docents to learn about our many water harvesting systems firsthand.
URL:https://santacruzheritage.org/event/living-lab-learning-center-tour-2/2027-07-10/
LOCATION:Watershed Management Group\, 1137 N Dodge Blvd.\, Tucson\, AZ\, 85716
CATEGORIES:Tours
ATTACH;FMTTYPE=image/png:https://santacruzheritage.org/wp-content/uploads/2024/12/Screenshot-2024-12-23-at-12.17.42 PM.png
END:VEVENT
BEGIN:VEVENT
DTSTART;TZID=America/Phoenix:20270724T100000
DTEND;TZID=America/Phoenix:20270724T120000
DTSTAMP:20260423T011442
CREATED:20250307T143126Z
LAST-MODIFIED:20260122T233016Z
UID:10003287-1816423200-1816430400@santacruzheritage.org
SUMMARY:Living Lab & Learning Center Tour
DESCRIPTION:Our guided Living Lab Tours happen every 2nd and 4th Saturdays of the month. You’ll be led through our demonstration site by one of our Docents to learn about our many water harvesting systems firsthand.
URL:https://santacruzheritage.org/event/living-lab-learning-center-tour-3/2027-07-24/
LOCATION:Watershed Management Group\, 1137 N Dodge Blvd.\, Tucson\, AZ\, 85716
CATEGORIES:Tours
ATTACH;FMTTYPE=image/png:https://santacruzheritage.org/wp-content/uploads/2024/12/Screenshot-2024-12-23-at-12.17.42 PM.png
END:VEVENT
BEGIN:VEVENT
DTSTART;TZID=America/Phoenix:20270814T170000
DTEND;TZID=America/Phoenix:20270814T190000
DTSTAMP:20260423T011442
CREATED:20241221T041424Z
LAST-MODIFIED:20250306T022426Z
UID:10002367-1818262800-1818270000@santacruzheritage.org
SUMMARY:Living Lab & Learning Center Tour
DESCRIPTION:Our guided Living Lab Tours happen every 2nd and 4th Saturdays of the month. You’ll be led through our demonstration site by one of our Docents to learn about our many water harvesting systems firsthand.
URL:https://santacruzheritage.org/event/living-lab-learning-center-tour-2/2027-08-14/
LOCATION:Watershed Management Group\, 1137 N Dodge Blvd.\, Tucson\, AZ\, 85716
CATEGORIES:Tours
ATTACH;FMTTYPE=image/png:https://santacruzheritage.org/wp-content/uploads/2024/12/Screenshot-2024-12-23-at-12.17.42 PM.png
END:VEVENT
BEGIN:VEVENT
DTSTART;TZID=America/Phoenix:20270828T100000
DTEND;TZID=America/Phoenix:20270828T120000
DTSTAMP:20260423T011442
CREATED:20250307T143126Z
LAST-MODIFIED:20260122T233016Z
UID:10003288-1819447200-1819454400@santacruzheritage.org
SUMMARY:Living Lab & Learning Center Tour
DESCRIPTION:Our guided Living Lab Tours happen every 2nd and 4th Saturdays of the month. You’ll be led through our demonstration site by one of our Docents to learn about our many water harvesting systems firsthand.
URL:https://santacruzheritage.org/event/living-lab-learning-center-tour-3/2027-08-28/
LOCATION:Watershed Management Group\, 1137 N Dodge Blvd.\, Tucson\, AZ\, 85716
CATEGORIES:Tours
ATTACH;FMTTYPE=image/png:https://santacruzheritage.org/wp-content/uploads/2024/12/Screenshot-2024-12-23-at-12.17.42 PM.png
END:VEVENT
BEGIN:VEVENT
DTSTART;TZID=America/Phoenix:20270911T170000
DTEND;TZID=America/Phoenix:20270911T190000
DTSTAMP:20260423T011442
CREATED:20241221T041424Z
LAST-MODIFIED:20250306T022426Z
UID:10002368-1820682000-1820689200@santacruzheritage.org
SUMMARY:Living Lab & Learning Center Tour
DESCRIPTION:Our guided Living Lab Tours happen every 2nd and 4th Saturdays of the month. You’ll be led through our demonstration site by one of our Docents to learn about our many water harvesting systems firsthand.
URL:https://santacruzheritage.org/event/living-lab-learning-center-tour-2/2027-09-11/
LOCATION:Watershed Management Group\, 1137 N Dodge Blvd.\, Tucson\, AZ\, 85716
CATEGORIES:Tours
ATTACH;FMTTYPE=image/png:https://santacruzheritage.org/wp-content/uploads/2024/12/Screenshot-2024-12-23-at-12.17.42 PM.png
END:VEVENT
BEGIN:VEVENT
DTSTART;TZID=America/Phoenix:20270925T100000
DTEND;TZID=America/Phoenix:20270925T120000
DTSTAMP:20260423T011442
CREATED:20250307T143126Z
LAST-MODIFIED:20260122T233016Z
UID:10003289-1821866400-1821873600@santacruzheritage.org
SUMMARY:Living Lab & Learning Center Tour
DESCRIPTION:Our guided Living Lab Tours happen every 2nd and 4th Saturdays of the month. You’ll be led through our demonstration site by one of our Docents to learn about our many water harvesting systems firsthand.
URL:https://santacruzheritage.org/event/living-lab-learning-center-tour-3/2027-09-25/
LOCATION:Watershed Management Group\, 1137 N Dodge Blvd.\, Tucson\, AZ\, 85716
CATEGORIES:Tours
ATTACH;FMTTYPE=image/png:https://santacruzheritage.org/wp-content/uploads/2024/12/Screenshot-2024-12-23-at-12.17.42 PM.png
END:VEVENT
BEGIN:VEVENT
DTSTART;TZID=America/Phoenix:20271009T170000
DTEND;TZID=America/Phoenix:20271009T190000
DTSTAMP:20260423T011442
CREATED:20241221T041424Z
LAST-MODIFIED:20250306T022426Z
UID:10002369-1823101200-1823108400@santacruzheritage.org
SUMMARY:Living Lab & Learning Center Tour
DESCRIPTION:Our guided Living Lab Tours happen every 2nd and 4th Saturdays of the month. You’ll be led through our demonstration site by one of our Docents to learn about our many water harvesting systems firsthand.
URL:https://santacruzheritage.org/event/living-lab-learning-center-tour-2/2027-10-09/
LOCATION:Watershed Management Group\, 1137 N Dodge Blvd.\, Tucson\, AZ\, 85716
CATEGORIES:Tours
ATTACH;FMTTYPE=image/png:https://santacruzheritage.org/wp-content/uploads/2024/12/Screenshot-2024-12-23-at-12.17.42 PM.png
END:VEVENT
BEGIN:VEVENT
DTSTART;TZID=America/Phoenix:20271023T100000
DTEND;TZID=America/Phoenix:20271023T120000
DTSTAMP:20260423T011442
CREATED:20250307T143126Z
LAST-MODIFIED:20260122T233016Z
UID:10003290-1824285600-1824292800@santacruzheritage.org
SUMMARY:Living Lab & Learning Center Tour
DESCRIPTION:Our guided Living Lab Tours happen every 2nd and 4th Saturdays of the month. You’ll be led through our demonstration site by one of our Docents to learn about our many water harvesting systems firsthand.
URL:https://santacruzheritage.org/event/living-lab-learning-center-tour-3/2027-10-23/
LOCATION:Watershed Management Group\, 1137 N Dodge Blvd.\, Tucson\, AZ\, 85716
CATEGORIES:Tours
ATTACH;FMTTYPE=image/png:https://santacruzheritage.org/wp-content/uploads/2024/12/Screenshot-2024-12-23-at-12.17.42 PM.png
END:VEVENT
BEGIN:VEVENT
DTSTART;TZID=America/Phoenix:20271113T170000
DTEND;TZID=America/Phoenix:20271113T190000
DTSTAMP:20260423T011442
CREATED:20241221T041424Z
LAST-MODIFIED:20250306T022426Z
UID:10002370-1826125200-1826132400@santacruzheritage.org
SUMMARY:Living Lab & Learning Center Tour
DESCRIPTION:Our guided Living Lab Tours happen every 2nd and 4th Saturdays of the month. You’ll be led through our demonstration site by one of our Docents to learn about our many water harvesting systems firsthand.
URL:https://santacruzheritage.org/event/living-lab-learning-center-tour-2/2027-11-13/
LOCATION:Watershed Management Group\, 1137 N Dodge Blvd.\, Tucson\, AZ\, 85716
CATEGORIES:Tours
ATTACH;FMTTYPE=image/png:https://santacruzheritage.org/wp-content/uploads/2024/12/Screenshot-2024-12-23-at-12.17.42 PM.png
END:VEVENT
BEGIN:VEVENT
DTSTART;TZID=America/Phoenix:20271127T100000
DTEND;TZID=America/Phoenix:20271127T120000
DTSTAMP:20260423T011442
CREATED:20250307T143126Z
LAST-MODIFIED:20260122T233016Z
UID:10003291-1827309600-1827316800@santacruzheritage.org
SUMMARY:Living Lab & Learning Center Tour
DESCRIPTION:Our guided Living Lab Tours happen every 2nd and 4th Saturdays of the month. You’ll be led through our demonstration site by one of our Docents to learn about our many water harvesting systems firsthand.
URL:https://santacruzheritage.org/event/living-lab-learning-center-tour-3/2027-11-27/
LOCATION:Watershed Management Group\, 1137 N Dodge Blvd.\, Tucson\, AZ\, 85716
CATEGORIES:Tours
ATTACH;FMTTYPE=image/png:https://santacruzheritage.org/wp-content/uploads/2024/12/Screenshot-2024-12-23-at-12.17.42 PM.png
END:VEVENT
BEGIN:VEVENT
DTSTART;TZID=America/Phoenix:20271211T170000
DTEND;TZID=America/Phoenix:20271211T190000
DTSTAMP:20260423T011442
CREATED:20241221T041424Z
LAST-MODIFIED:20250306T022426Z
UID:10002371-1828544400-1828551600@santacruzheritage.org
SUMMARY:Living Lab & Learning Center Tour
DESCRIPTION:Our guided Living Lab Tours happen every 2nd and 4th Saturdays of the month. You’ll be led through our demonstration site by one of our Docents to learn about our many water harvesting systems firsthand.
URL:https://santacruzheritage.org/event/living-lab-learning-center-tour-2/2027-12-11/
LOCATION:Watershed Management Group\, 1137 N Dodge Blvd.\, Tucson\, AZ\, 85716
CATEGORIES:Tours
ATTACH;FMTTYPE=image/png:https://santacruzheritage.org/wp-content/uploads/2024/12/Screenshot-2024-12-23-at-12.17.42 PM.png
END:VEVENT
BEGIN:VEVENT
DTSTART;TZID=America/Phoenix:20271225T100000
DTEND;TZID=America/Phoenix:20271225T120000
DTSTAMP:20260423T011442
CREATED:20250307T143126Z
LAST-MODIFIED:20260122T233016Z
UID:10003292-1829728800-1829736000@santacruzheritage.org
SUMMARY:Living Lab & Learning Center Tour
DESCRIPTION:Our guided Living Lab Tours happen every 2nd and 4th Saturdays of the month. You’ll be led through our demonstration site by one of our Docents to learn about our many water harvesting systems firsthand.
URL:https://santacruzheritage.org/event/living-lab-learning-center-tour-3/2027-12-25/
LOCATION:Watershed Management Group\, 1137 N Dodge Blvd.\, Tucson\, AZ\, 85716
CATEGORIES:Tours
ATTACH;FMTTYPE=image/png:https://santacruzheritage.org/wp-content/uploads/2024/12/Screenshot-2024-12-23-at-12.17.42 PM.png
END:VEVENT
BEGIN:VEVENT
DTSTART;TZID=America/Phoenix:20280108T170000
DTEND;TZID=America/Phoenix:20280108T190000
DTSTAMP:20260423T011442
CREATED:20241221T041424Z
LAST-MODIFIED:20250306T022426Z
UID:10002372-1830963600-1830970800@santacruzheritage.org
SUMMARY:Living Lab & Learning Center Tour
DESCRIPTION:Our guided Living Lab Tours happen every 2nd and 4th Saturdays of the month. You’ll be led through our demonstration site by one of our Docents to learn about our many water harvesting systems firsthand.
URL:https://santacruzheritage.org/event/living-lab-learning-center-tour-2/2028-01-08/
LOCATION:Watershed Management Group\, 1137 N Dodge Blvd.\, Tucson\, AZ\, 85716
CATEGORIES:Tours
ATTACH;FMTTYPE=image/png:https://santacruzheritage.org/wp-content/uploads/2024/12/Screenshot-2024-12-23-at-12.17.42 PM.png
END:VEVENT
END:VCALENDAR