BEGIN:VCALENDAR
VERSION:2.0
PRODID:-//Santa Cruz Valley National Heritage Area - ECPv6.15.20//NONSGML v1.0//EN
CALSCALE:GREGORIAN
METHOD:PUBLISH
X-ORIGINAL-URL:https://santacruzheritage.org
X-WR-CALDESC:Events for Santa Cruz Valley National Heritage Area
REFRESH-INTERVAL;VALUE=DURATION:PT1H
X-Robots-Tag:noindex
X-PUBLISHED-TTL:PT1H
BEGIN:VTIMEZONE
TZID:America/Phoenix
BEGIN:STANDARD
TZOFFSETFROM:-0700
TZOFFSETTO:-0700
TZNAME:MST
DTSTART:20250101T000000
END:STANDARD
END:VTIMEZONE
BEGIN:VEVENT
DTSTART;TZID=America/Phoenix:20260418T090000
DTEND;TZID=America/Phoenix:20260418T110000
DTSTAMP:20260423T011017
CREATED:20260407T195406Z
LAST-MODIFIED:20260407T195406Z
UID:10006148-1776502800-1776510000@santacruzheritage.org
SUMMARY:Fort Lowell Park Walking Tour
DESCRIPTION:Before Davis Monthan\, there was Fort Lowell! This walking tour covers the history of the land\, people\, and fort structures that played a huge part in the development of modern Tucson during the Apache Wars\, America’s longest-running military conflict. This 2-hour leisurely walk is just under a mile. It will feature the adobe ruins of fort structures such as the Quartermasters Building\, Officers’ Quarters\, Post Barracks and the Fort Hospital. Admission to the museum is included with the tour. \nBe prepared to be on your feet. No public water or restrooms are available at the museum\, but the park offers fountains and public restrooms (next to the parking lot\, by the Craycroft entrance). \nBegins and ends at the Fort Lowell Museum \n  \nBuy tickets here: https://tucsonpresidio.com/civicrm/event/register/?id=1193&reset=1 \n 
URL:https://santacruzheritage.org/event/fort-lowell-park-walking-tour/
LOCATION:Fort Lowell Museum\, 2900 N Craycroft Rd\, Tucson\, 85712\, United States
CATEGORIES:History,Tours
ORGANIZER;CN="Fort Lowell Museum":MAILTO:gingert@tucsonpresidio.com
END:VEVENT
BEGIN:VEVENT
DTSTART;TZID=America/Phoenix:20260418T090000
DTEND;TZID=America/Phoenix:20260418T120000
DTSTAMP:20260423T011017
CREATED:20260320T231334Z
LAST-MODIFIED:20260320T231334Z
UID:10005858-1776502800-1776513600@santacruzheritage.org
SUMMARY:America Semiquincentennial and the Town of Oro Valley
DESCRIPTION:As America’s Semiquincentennial celebration continues\, the Oro Valley Historical Society presents the third part of its annual exhibit at the Pusch House Museum in Steam Pump Ranch. America Semiquincentennial and the Town of Oro Valley reflects on the nation’s founding struggles\, Arizona’s path to statehood\, and the Town’s own early challenges. Volunteers will be on hand to share more\, and free tours are offered with donations gratefully accepted.
URL:https://santacruzheritage.org/event/america-semiquincentennial-and-the-town-of-oro-valley-3/
LOCATION:Steam Pump Ranch\, 10901 North Oracle Road\, Oro Valley\, 85737\, United States
CATEGORIES:History,Tours
ATTACH;FMTTYPE=image/jpeg:https://santacruzheritage.org/wp-content/uploads/2026/03/Town-Hall.webp.jpg
ORGANIZER;CN="Oro Valley Historical Society":MAILTO:secretary@ovhistory.org
END:VEVENT
END:VCALENDAR