BEGIN:VCALENDAR
VERSION:2.0
PRODID:-//Santa Cruz Valley National Heritage Area - ECPv6.15.20//NONSGML v1.0//EN
CALSCALE:GREGORIAN
METHOD:PUBLISH
X-ORIGINAL-URL:https://santacruzheritage.org
X-WR-CALDESC:Events for Santa Cruz Valley National Heritage Area
REFRESH-INTERVAL;VALUE=DURATION:PT1H
X-Robots-Tag:noindex
X-PUBLISHED-TTL:PT1H
BEGIN:VTIMEZONE
TZID:America/Phoenix
BEGIN:STANDARD
TZOFFSETFROM:-0700
TZOFFSETTO:-0700
TZNAME:MST
DTSTART:20250101T000000
END:STANDARD
END:VTIMEZONE
BEGIN:VEVENT
DTSTART;TZID=America/Phoenix:20260411T090000
DTEND;TZID=America/Phoenix:20260411T120000
DTSTAMP:20260423T011535
CREATED:20260317T162528Z
LAST-MODIFIED:20260317T233828Z
UID:10005850-1775898000-1775908800@santacruzheritage.org
SUMMARY:America Semiquincentennial and the Town of Oro Valley
DESCRIPTION:The Oro Valley Historical Society’s year‑long tribute to the America Semiquincentennial moves into its final phase for the season. Stop by the Pusch House Museum at historic Steam Pump Ranch to view America Semiquincentennial and the Town of Oro Valley\, an exhibit connecting the nation’s founding challenges with Arizona’s and Oro Valley’s own. Our naturalist will be on-site providing two one-hour gentle walking tours around the Ranch culminating in our Heritage Garden where visitors will be able to see a replica of a Tohono O’odham pit house and the plants that our growing in our garden this season. Volunteers will be available in the Museum for questions\, and complimentary tours are offered with grateful acceptance of donations.
URL:https://santacruzheritage.org/event/america-semiquincentennial-and-the-town-of-oro-valley-2/
LOCATION:Steam Pump Ranch\, 10901 North Oracle Road\, Oro Valley\, 85737\, United States
CATEGORIES:Hikes,History
ATTACH;FMTTYPE=image/jpeg:https://santacruzheritage.org/wp-content/uploads/2026/03/Pithouse-SR.jpg
ORGANIZER;CN="Oro Valley Historical Society":MAILTO:secretary@ovhistory.org
END:VEVENT
END:VCALENDAR