BEGIN:VCALENDAR
VERSION:2.0
PRODID:-//Santa Cruz Valley National Heritage Area - ECPv6.15.20//NONSGML v1.0//EN
CALSCALE:GREGORIAN
METHOD:PUBLISH
X-ORIGINAL-URL:https://santacruzheritage.org
X-WR-CALDESC:Events for Santa Cruz Valley National Heritage Area
REFRESH-INTERVAL;VALUE=DURATION:PT1H
X-Robots-Tag:noindex
X-PUBLISHED-TTL:PT1H
BEGIN:VTIMEZONE
TZID:America/Phoenix
BEGIN:STANDARD
TZOFFSETFROM:-0700
TZOFFSETTO:-0700
TZNAME:MST
DTSTART:20250101T000000
END:STANDARD
END:VTIMEZONE
BEGIN:VEVENT
DTSTART;TZID=America/Phoenix:20260321T090000
DTEND;TZID=America/Phoenix:20260321T120000
DTSTAMP:20260423T010933
CREATED:20260302T215437Z
LAST-MODIFIED:20260305T203115Z
UID:10005431-1774083600-1774094400@santacruzheritage.org
SUMMARY:America Semiquincentennial and Arizona Statehood
DESCRIPTION:Last chance to visit the Pusch House Museum to celebrate the founding of our country and why it took 137 years for Arizona to become a state!
URL:https://santacruzheritage.org/event/america-semiquincentennial-and-arizona-statehood/
LOCATION:Steam Pump Ranch\, 10901 North Oracle Road\, Oro Valley\, 85737\, United States
CATEGORIES:History
ATTACH;FMTTYPE=image/jpeg:https://santacruzheritage.org/wp-content/uploads/2026/03/Arizona-state-capitol.jpg
ORGANIZER;CN="Oro Valley Historical Society":MAILTO:secretary@ovhistory.org
END:VEVENT
BEGIN:VEVENT
DTSTART;TZID=America/Phoenix:20260328T090000
DTEND;TZID=America/Phoenix:20260328T120000
DTSTAMP:20260423T010933
CREATED:20260312T180320Z
LAST-MODIFIED:20260312T180320Z
UID:10005841-1774688400-1774699200@santacruzheritage.org
SUMMARY:America's Semiquincentennial and the Town of Oro Valley
DESCRIPTION:The Oro Valley Historical Society continues its year‑long America Semiquincentennial celebration with the third installment of its exhibit. Visit the Pusch House Museum at historic Steam Pump Ranch to explore America Semiquincentennial and the Town of Oro Valley\, highlighting the nation’s early struggles\, Arizona’s path to statehood\, and the challenges that shaped Oro Valley’s founding under the leadership and vision of Jim Kriegh. Volunteers will be available to share insights\, and complimentary museum tours are offered with donations gratefully accepted.
URL:https://santacruzheritage.org/event/americas-semiquincentennial-and-the-town-of-oro-valley/
LOCATION:Steam Pump Ranch\, 10901 North Oracle Road\, Oro Valley\, 85737\, United States
CATEGORIES:History
ATTACH;FMTTYPE=image/jpeg:https://santacruzheritage.org/wp-content/uploads/2026/03/Jim-Kriegh.jpg
ORGANIZER;CN="Oro Valley Historical Society":MAILTO:secretary@ovhistory.org
END:VEVENT
END:VCALENDAR