BEGIN:VCALENDAR
VERSION:2.0
PRODID:-//Santa Cruz Valley National Heritage Area - ECPv6.15.20//NONSGML v1.0//EN
CALSCALE:GREGORIAN
METHOD:PUBLISH
X-WR-CALNAME:Santa Cruz Valley National Heritage Area
X-ORIGINAL-URL:https://santacruzheritage.org
X-WR-CALDESC:Events for Santa Cruz Valley National Heritage Area
REFRESH-INTERVAL;VALUE=DURATION:PT1H
X-Robots-Tag:noindex
X-PUBLISHED-TTL:PT1H
BEGIN:VTIMEZONE
TZID:America/Phoenix
BEGIN:STANDARD
TZOFFSETFROM:-0700
TZOFFSETTO:-0700
TZNAME:MST
DTSTART:20250101T000000
END:STANDARD
END:VTIMEZONE
BEGIN:VEVENT
DTSTART;TZID=America/Phoenix:20260523T110000
DTEND;TZID=America/Phoenix:20260523T120000
DTSTAMP:20260423T010921
CREATED:20260416T190857Z
LAST-MODIFIED:20260416T190857Z
UID:10006818-1779534000-1779537600@santacruzheritage.org
SUMMARY:Docent Led Tour
DESCRIPTION:Docent Led Tour of the Empire Ranch House. 11 am to noon. Reservations are required by 5 pm the day before the tour. Click here to make a reservation. Free. Meet at the Visitor Contact Station.
URL:https://santacruzheritage.org/event/docent-led-tour-2/2026-05-23/
LOCATION:Empire Ranch\, 16655 E. Empire Ranch Rd\, Sonoita\, 85637\, United States
CATEGORIES:History,Tours
ORGANIZER;CN="Empire Ranch Foundation":MAILTO:admin@empireranchfoundation.org
END:VEVENT
BEGIN:VEVENT
DTSTART;TZID=America/Phoenix:20260627T110000
DTEND;TZID=America/Phoenix:20260627T120000
DTSTAMP:20260423T010921
CREATED:20260416T190857Z
LAST-MODIFIED:20260416T190857Z
UID:10006819-1782558000-1782561600@santacruzheritage.org
SUMMARY:Docent Led Tour
DESCRIPTION:Docent Led Tour of the Empire Ranch House. 11 am to noon. Reservations are required by 5 pm the day before the tour. Click here to make a reservation. Free. Meet at the Visitor Contact Station.
URL:https://santacruzheritage.org/event/docent-led-tour-2/2026-06-27/
LOCATION:Empire Ranch\, 16655 E. Empire Ranch Rd\, Sonoita\, 85637\, United States
CATEGORIES:History,Tours
ORGANIZER;CN="Empire Ranch Foundation":MAILTO:admin@empireranchfoundation.org
END:VEVENT
BEGIN:VEVENT
DTSTART;TZID=America/Phoenix:20260725T110000
DTEND;TZID=America/Phoenix:20260725T120000
DTSTAMP:20260423T010921
CREATED:20260416T190857Z
LAST-MODIFIED:20260416T190857Z
UID:10006820-1784977200-1784980800@santacruzheritage.org
SUMMARY:Docent Led Tour
DESCRIPTION:Docent Led Tour of the Empire Ranch House. 11 am to noon. Reservations are required by 5 pm the day before the tour. Click here to make a reservation. Free. Meet at the Visitor Contact Station.
URL:https://santacruzheritage.org/event/docent-led-tour-2/2026-07-25/
LOCATION:Empire Ranch\, 16655 E. Empire Ranch Rd\, Sonoita\, 85637\, United States
CATEGORIES:History,Tours
ORGANIZER;CN="Empire Ranch Foundation":MAILTO:admin@empireranchfoundation.org
END:VEVENT
BEGIN:VEVENT
DTSTART;TZID=America/Phoenix:20260822T110000
DTEND;TZID=America/Phoenix:20260822T120000
DTSTAMP:20260423T010921
CREATED:20260416T190857Z
LAST-MODIFIED:20260416T190857Z
UID:10006821-1787396400-1787400000@santacruzheritage.org
SUMMARY:Docent Led Tour
DESCRIPTION:Docent Led Tour of the Empire Ranch House. 11 am to noon. Reservations are required by 5 pm the day before the tour. Click here to make a reservation. Free. Meet at the Visitor Contact Station.
URL:https://santacruzheritage.org/event/docent-led-tour-2/2026-08-22/
LOCATION:Empire Ranch\, 16655 E. Empire Ranch Rd\, Sonoita\, 85637\, United States
CATEGORIES:History,Tours
ORGANIZER;CN="Empire Ranch Foundation":MAILTO:admin@empireranchfoundation.org
END:VEVENT
BEGIN:VEVENT
DTSTART;TZID=America/Phoenix:20260926T110000
DTEND;TZID=America/Phoenix:20260926T120000
DTSTAMP:20260423T010921
CREATED:20260416T190857Z
LAST-MODIFIED:20260416T190857Z
UID:10006822-1790420400-1790424000@santacruzheritage.org
SUMMARY:Docent Led Tour
DESCRIPTION:Docent Led Tour of the Empire Ranch House. 11 am to noon. Reservations are required by 5 pm the day before the tour. Click here to make a reservation. Free. Meet at the Visitor Contact Station.
URL:https://santacruzheritage.org/event/docent-led-tour-2/2026-09-26/
LOCATION:Empire Ranch\, 16655 E. Empire Ranch Rd\, Sonoita\, 85637\, United States
CATEGORIES:History,Tours
ORGANIZER;CN="Empire Ranch Foundation":MAILTO:admin@empireranchfoundation.org
END:VEVENT
BEGIN:VEVENT
DTSTART;TZID=America/Phoenix:20261024T110000
DTEND;TZID=America/Phoenix:20261024T120000
DTSTAMP:20260423T010921
CREATED:20260416T190857Z
LAST-MODIFIED:20260416T190857Z
UID:10006823-1792839600-1792843200@santacruzheritage.org
SUMMARY:Docent Led Tour
DESCRIPTION:Docent Led Tour of the Empire Ranch House. 11 am to noon. Reservations are required by 5 pm the day before the tour. Click here to make a reservation. Free. Meet at the Visitor Contact Station.
URL:https://santacruzheritage.org/event/docent-led-tour-2/2026-10-24/
LOCATION:Empire Ranch\, 16655 E. Empire Ranch Rd\, Sonoita\, 85637\, United States
CATEGORIES:History,Tours
ORGANIZER;CN="Empire Ranch Foundation":MAILTO:admin@empireranchfoundation.org
END:VEVENT
BEGIN:VEVENT
DTSTART;TZID=America/Phoenix:20261128T110000
DTEND;TZID=America/Phoenix:20261128T120000
DTSTAMP:20260423T010921
CREATED:20260416T190857Z
LAST-MODIFIED:20260416T190857Z
UID:10006824-1795863600-1795867200@santacruzheritage.org
SUMMARY:Docent Led Tour
DESCRIPTION:Docent Led Tour of the Empire Ranch House. 11 am to noon. Reservations are required by 5 pm the day before the tour. Click here to make a reservation. Free. Meet at the Visitor Contact Station.
URL:https://santacruzheritage.org/event/docent-led-tour-2/2026-11-28/
LOCATION:Empire Ranch\, 16655 E. Empire Ranch Rd\, Sonoita\, 85637\, United States
CATEGORIES:History,Tours
ORGANIZER;CN="Empire Ranch Foundation":MAILTO:admin@empireranchfoundation.org
END:VEVENT
BEGIN:VEVENT
DTSTART;TZID=America/Phoenix:20261226T110000
DTEND;TZID=America/Phoenix:20261226T120000
DTSTAMP:20260423T010921
CREATED:20260416T190857Z
LAST-MODIFIED:20260416T190857Z
UID:10006825-1798282800-1798286400@santacruzheritage.org
SUMMARY:Docent Led Tour
DESCRIPTION:Docent Led Tour of the Empire Ranch House. 11 am to noon. Reservations are required by 5 pm the day before the tour. Click here to make a reservation. Free. Meet at the Visitor Contact Station.
URL:https://santacruzheritage.org/event/docent-led-tour-2/2026-12-26/
LOCATION:Empire Ranch\, 16655 E. Empire Ranch Rd\, Sonoita\, 85637\, United States
CATEGORIES:History,Tours
ORGANIZER;CN="Empire Ranch Foundation":MAILTO:admin@empireranchfoundation.org
END:VEVENT
BEGIN:VEVENT
DTSTART;TZID=America/Phoenix:20270123T110000
DTEND;TZID=America/Phoenix:20270123T120000
DTSTAMP:20260423T010921
CREATED:20260416T190857Z
LAST-MODIFIED:20260416T190857Z
UID:10006826-1800702000-1800705600@santacruzheritage.org
SUMMARY:Docent Led Tour
DESCRIPTION:Docent Led Tour of the Empire Ranch House. 11 am to noon. Reservations are required by 5 pm the day before the tour. Click here to make a reservation. Free. Meet at the Visitor Contact Station.
URL:https://santacruzheritage.org/event/docent-led-tour-2/2027-01-23/
LOCATION:Empire Ranch\, 16655 E. Empire Ranch Rd\, Sonoita\, 85637\, United States
CATEGORIES:History,Tours
ORGANIZER;CN="Empire Ranch Foundation":MAILTO:admin@empireranchfoundation.org
END:VEVENT
BEGIN:VEVENT
DTSTART;TZID=America/Phoenix:20270227T110000
DTEND;TZID=America/Phoenix:20270227T120000
DTSTAMP:20260423T010921
CREATED:20260416T190857Z
LAST-MODIFIED:20260416T190857Z
UID:10006827-1803726000-1803729600@santacruzheritage.org
SUMMARY:Docent Led Tour
DESCRIPTION:Docent Led Tour of the Empire Ranch House. 11 am to noon. Reservations are required by 5 pm the day before the tour. Click here to make a reservation. Free. Meet at the Visitor Contact Station.
URL:https://santacruzheritage.org/event/docent-led-tour-2/2027-02-27/
LOCATION:Empire Ranch\, 16655 E. Empire Ranch Rd\, Sonoita\, 85637\, United States
CATEGORIES:History,Tours
ORGANIZER;CN="Empire Ranch Foundation":MAILTO:admin@empireranchfoundation.org
END:VEVENT
BEGIN:VEVENT
DTSTART;TZID=America/Phoenix:20270327T110000
DTEND;TZID=America/Phoenix:20270327T120000
DTSTAMP:20260423T010921
CREATED:20260416T190857Z
LAST-MODIFIED:20260416T190857Z
UID:10006828-1806145200-1806148800@santacruzheritage.org
SUMMARY:Docent Led Tour
DESCRIPTION:Docent Led Tour of the Empire Ranch House. 11 am to noon. Reservations are required by 5 pm the day before the tour. Click here to make a reservation. Free. Meet at the Visitor Contact Station.
URL:https://santacruzheritage.org/event/docent-led-tour-2/2027-03-27/
LOCATION:Empire Ranch\, 16655 E. Empire Ranch Rd\, Sonoita\, 85637\, United States
CATEGORIES:History,Tours
ORGANIZER;CN="Empire Ranch Foundation":MAILTO:admin@empireranchfoundation.org
END:VEVENT
BEGIN:VEVENT
DTSTART;TZID=America/Phoenix:20270424T110000
DTEND;TZID=America/Phoenix:20270424T120000
DTSTAMP:20260423T010921
CREATED:20260416T190857Z
LAST-MODIFIED:20260416T190857Z
UID:10006829-1808564400-1808568000@santacruzheritage.org
SUMMARY:Docent Led Tour
DESCRIPTION:Docent Led Tour of the Empire Ranch House. 11 am to noon. Reservations are required by 5 pm the day before the tour. Click here to make a reservation. Free. Meet at the Visitor Contact Station.
URL:https://santacruzheritage.org/event/docent-led-tour-2/2027-04-24/
LOCATION:Empire Ranch\, 16655 E. Empire Ranch Rd\, Sonoita\, 85637\, United States
CATEGORIES:History,Tours
ORGANIZER;CN="Empire Ranch Foundation":MAILTO:admin@empireranchfoundation.org
END:VEVENT
BEGIN:VEVENT
DTSTART;TZID=America/Phoenix:20270522T110000
DTEND;TZID=America/Phoenix:20270522T120000
DTSTAMP:20260423T010921
CREATED:20260416T190857Z
LAST-MODIFIED:20260416T190857Z
UID:10006830-1810983600-1810987200@santacruzheritage.org
SUMMARY:Docent Led Tour
DESCRIPTION:Docent Led Tour of the Empire Ranch House. 11 am to noon. Reservations are required by 5 pm the day before the tour. Click here to make a reservation. Free. Meet at the Visitor Contact Station.
URL:https://santacruzheritage.org/event/docent-led-tour-2/2027-05-22/
LOCATION:Empire Ranch\, 16655 E. Empire Ranch Rd\, Sonoita\, 85637\, United States
CATEGORIES:History,Tours
ORGANIZER;CN="Empire Ranch Foundation":MAILTO:admin@empireranchfoundation.org
END:VEVENT
BEGIN:VEVENT
DTSTART;TZID=America/Phoenix:20270626T110000
DTEND;TZID=America/Phoenix:20270626T120000
DTSTAMP:20260423T010921
CREATED:20260416T190857Z
LAST-MODIFIED:20260416T190857Z
UID:10006831-1814007600-1814011200@santacruzheritage.org
SUMMARY:Docent Led Tour
DESCRIPTION:Docent Led Tour of the Empire Ranch House. 11 am to noon. Reservations are required by 5 pm the day before the tour. Click here to make a reservation. Free. Meet at the Visitor Contact Station.
URL:https://santacruzheritage.org/event/docent-led-tour-2/2027-06-26/
LOCATION:Empire Ranch\, 16655 E. Empire Ranch Rd\, Sonoita\, 85637\, United States
CATEGORIES:History,Tours
ORGANIZER;CN="Empire Ranch Foundation":MAILTO:admin@empireranchfoundation.org
END:VEVENT
BEGIN:VEVENT
DTSTART;TZID=America/Phoenix:20270724T110000
DTEND;TZID=America/Phoenix:20270724T120000
DTSTAMP:20260423T010921
CREATED:20260416T190857Z
LAST-MODIFIED:20260416T190857Z
UID:10006832-1816426800-1816430400@santacruzheritage.org
SUMMARY:Docent Led Tour
DESCRIPTION:Docent Led Tour of the Empire Ranch House. 11 am to noon. Reservations are required by 5 pm the day before the tour. Click here to make a reservation. Free. Meet at the Visitor Contact Station.
URL:https://santacruzheritage.org/event/docent-led-tour-2/2027-07-24/
LOCATION:Empire Ranch\, 16655 E. Empire Ranch Rd\, Sonoita\, 85637\, United States
CATEGORIES:History,Tours
ORGANIZER;CN="Empire Ranch Foundation":MAILTO:admin@empireranchfoundation.org
END:VEVENT
BEGIN:VEVENT
DTSTART;TZID=America/Phoenix:20270828T110000
DTEND;TZID=America/Phoenix:20270828T120000
DTSTAMP:20260423T010921
CREATED:20260416T190857Z
LAST-MODIFIED:20260416T190857Z
UID:10006833-1819450800-1819454400@santacruzheritage.org
SUMMARY:Docent Led Tour
DESCRIPTION:Docent Led Tour of the Empire Ranch House. 11 am to noon. Reservations are required by 5 pm the day before the tour. Click here to make a reservation. Free. Meet at the Visitor Contact Station.
URL:https://santacruzheritage.org/event/docent-led-tour-2/2027-08-28/
LOCATION:Empire Ranch\, 16655 E. Empire Ranch Rd\, Sonoita\, 85637\, United States
CATEGORIES:History,Tours
ORGANIZER;CN="Empire Ranch Foundation":MAILTO:admin@empireranchfoundation.org
END:VEVENT
BEGIN:VEVENT
DTSTART;TZID=America/Phoenix:20270925T110000
DTEND;TZID=America/Phoenix:20270925T120000
DTSTAMP:20260423T010921
CREATED:20260416T190857Z
LAST-MODIFIED:20260416T190857Z
UID:10006834-1821870000-1821873600@santacruzheritage.org
SUMMARY:Docent Led Tour
DESCRIPTION:Docent Led Tour of the Empire Ranch House. 11 am to noon. Reservations are required by 5 pm the day before the tour. Click here to make a reservation. Free. Meet at the Visitor Contact Station.
URL:https://santacruzheritage.org/event/docent-led-tour-2/2027-09-25/
LOCATION:Empire Ranch\, 16655 E. Empire Ranch Rd\, Sonoita\, 85637\, United States
CATEGORIES:History,Tours
ORGANIZER;CN="Empire Ranch Foundation":MAILTO:admin@empireranchfoundation.org
END:VEVENT
BEGIN:VEVENT
DTSTART;TZID=America/Phoenix:20271023T110000
DTEND;TZID=America/Phoenix:20271023T120000
DTSTAMP:20260423T010921
CREATED:20260416T190857Z
LAST-MODIFIED:20260416T190857Z
UID:10006835-1824289200-1824292800@santacruzheritage.org
SUMMARY:Docent Led Tour
DESCRIPTION:Docent Led Tour of the Empire Ranch House. 11 am to noon. Reservations are required by 5 pm the day before the tour. Click here to make a reservation. Free. Meet at the Visitor Contact Station.
URL:https://santacruzheritage.org/event/docent-led-tour-2/2027-10-23/
LOCATION:Empire Ranch\, 16655 E. Empire Ranch Rd\, Sonoita\, 85637\, United States
CATEGORIES:History,Tours
ORGANIZER;CN="Empire Ranch Foundation":MAILTO:admin@empireranchfoundation.org
END:VEVENT
BEGIN:VEVENT
DTSTART;TZID=America/Phoenix:20271127T110000
DTEND;TZID=America/Phoenix:20271127T120000
DTSTAMP:20260423T010921
CREATED:20260416T190857Z
LAST-MODIFIED:20260416T190857Z
UID:10006836-1827313200-1827316800@santacruzheritage.org
SUMMARY:Docent Led Tour
DESCRIPTION:Docent Led Tour of the Empire Ranch House. 11 am to noon. Reservations are required by 5 pm the day before the tour. Click here to make a reservation. Free. Meet at the Visitor Contact Station.
URL:https://santacruzheritage.org/event/docent-led-tour-2/2027-11-27/
LOCATION:Empire Ranch\, 16655 E. Empire Ranch Rd\, Sonoita\, 85637\, United States
CATEGORIES:History,Tours
ORGANIZER;CN="Empire Ranch Foundation":MAILTO:admin@empireranchfoundation.org
END:VEVENT
BEGIN:VEVENT
DTSTART;TZID=America/Phoenix:20271225T110000
DTEND;TZID=America/Phoenix:20271225T120000
DTSTAMP:20260423T010921
CREATED:20260416T190857Z
LAST-MODIFIED:20260416T190857Z
UID:10006837-1829732400-1829736000@santacruzheritage.org
SUMMARY:Docent Led Tour
DESCRIPTION:Docent Led Tour of the Empire Ranch House. 11 am to noon. Reservations are required by 5 pm the day before the tour. Click here to make a reservation. Free. Meet at the Visitor Contact Station.
URL:https://santacruzheritage.org/event/docent-led-tour-2/2027-12-25/
LOCATION:Empire Ranch\, 16655 E. Empire Ranch Rd\, Sonoita\, 85637\, United States
CATEGORIES:History,Tours
ORGANIZER;CN="Empire Ranch Foundation":MAILTO:admin@empireranchfoundation.org
END:VEVENT
END:VCALENDAR