BEGIN:VCALENDAR
VERSION:2.0
PRODID:-//Santa Cruz Valley National Heritage Area - ECPv6.15.20//NONSGML v1.0//EN
CALSCALE:GREGORIAN
METHOD:PUBLISH
X-WR-CALNAME:Santa Cruz Valley National Heritage Area
X-ORIGINAL-URL:https://santacruzheritage.org
X-WR-CALDESC:Events for Santa Cruz Valley National Heritage Area
REFRESH-INTERVAL;VALUE=DURATION:PT1H
X-Robots-Tag:noindex
X-PUBLISHED-TTL:PT1H
BEGIN:VTIMEZONE
TZID:America/Phoenix
BEGIN:STANDARD
TZOFFSETFROM:-0700
TZOFFSETTO:-0700
TZNAME:MST
DTSTART:20250101T000000
END:STANDARD
END:VTIMEZONE
BEGIN:VEVENT
DTSTART;TZID=America/Phoenix:20260613T190000
DTEND;TZID=America/Phoenix:20260613T210000
DTSTAMP:20260423T043358
CREATED:20260402T220042Z
LAST-MODIFIED:20260402T220044Z
UID:10005878-1781377200-1781384400@santacruzheritage.org
SUMMARY:Death After Dark Walking Tour
DESCRIPTION:Escape the heat and join Mauro Trejo on an after-dark and unique and macabre tour that covers some of the most memorable deaths that have taken place in Tucson’s history. From executions to suicides\, and gunfights to accidents\, this 2 mile tour will take you back in time to some of Tucson’s most fascinating tragedies. \nBegins and ends at the Tucson Presidio Museum\, 196 N. Court Ave. \n$35 general | $20 member \nContact  info@TucsonPresidio.com to make a special reservation for a group of 6 or more.
URL:https://santacruzheritage.org/event/death-after-dark-walking-tour-2/2026-06-13/
LOCATION:Presidio San Augstin del Tucson\, 196 N Court Ave\, Tucson\, AZ\, 85701
CATEGORIES:History,Passport to Your National Parks® Stamp Station,Tours
ATTACH;FMTTYPE=image/png:https://santacruzheritage.org/wp-content/uploads/2025/04/Screenshot-2024-07-06-at-10.32.34___AM.png
END:VEVENT
BEGIN:VEVENT
DTSTART;TZID=America/Phoenix:20260627T190000
DTEND;TZID=America/Phoenix:20260627T210000
DTSTAMP:20260423T043358
CREATED:20260402T220042Z
LAST-MODIFIED:20260402T220044Z
UID:10005879-1782586800-1782594000@santacruzheritage.org
SUMMARY:Death After Dark Walking Tour
DESCRIPTION:Escape the heat and join Mauro Trejo on an after-dark and unique and macabre tour that covers some of the most memorable deaths that have taken place in Tucson’s history. From executions to suicides\, and gunfights to accidents\, this 2 mile tour will take you back in time to some of Tucson’s most fascinating tragedies. \nBegins and ends at the Tucson Presidio Museum\, 196 N. Court Ave. \n$35 general | $20 member \nContact  info@TucsonPresidio.com to make a special reservation for a group of 6 or more.
URL:https://santacruzheritage.org/event/death-after-dark-walking-tour-2/2026-06-27/
LOCATION:Presidio San Augstin del Tucson\, 196 N Court Ave\, Tucson\, AZ\, 85701
CATEGORIES:History,Passport to Your National Parks® Stamp Station,Tours
ATTACH;FMTTYPE=image/png:https://santacruzheritage.org/wp-content/uploads/2025/04/Screenshot-2024-07-06-at-10.32.34___AM.png
END:VEVENT
END:VCALENDAR