BEGIN:VCALENDAR
VERSION:2.0
PRODID:-//Santa Cruz Valley National Heritage Area - ECPv6.15.20//NONSGML v1.0//EN
CALSCALE:GREGORIAN
METHOD:PUBLISH
X-ORIGINAL-URL:https://santacruzheritage.org
X-WR-CALDESC:Events for Santa Cruz Valley National Heritage Area
REFRESH-INTERVAL;VALUE=DURATION:PT1H
X-Robots-Tag:noindex
X-PUBLISHED-TTL:PT1H
BEGIN:VTIMEZONE
TZID:America/Phoenix
BEGIN:STANDARD
TZOFFSETFROM:-0700
TZOFFSETTO:-0700
TZNAME:MST
DTSTART:20250101T000000
END:STANDARD
END:VTIMEZONE
BEGIN:VEVENT
DTSTART;TZID=America/Phoenix:20260412T070000
DTEND;TZID=America/Phoenix:20260412T090000
DTSTAMP:20260422T232723
CREATED:20260320T200846Z
LAST-MODIFIED:20260320T200846Z
UID:10005856-1775977200-1775984400@santacruzheritage.org
SUMMARY:Danny Lopez Park - Trash / Buffelgrass cleanup
DESCRIPTION:This trash/buffelgrass cleanup is on Sunday\, April 12 from 7 – 9 am.  Ramada #7 is reserved for a (no alcohol) potluck brunch after the cleanup.  Email me for at FriendsOfDLPark@gmail.com for more info and please copy/paste this link to sign up  https://forms.gle/kkU7mSAhQNn8c8EB7  if you would like to join.  You do not need to help with the cleanup in order to attend the potluck.  Meet at the SOUTHERN end of the lake. When you drive into the park\, take the first right and follow this all the way around behind PACC until you get to the meeting spot parking. \nAt the April 12 potluck\, Friends of Danny Lopez Park will be practicing using the iNaturalist app to help document the plants\, birds\, dragonflies and aquatic invertebrates around Silverbell Lake. They will use this skill on Saturday\, April 25 to do a Bioblitz for the 2026 City Nature Challenge.
URL:https://santacruzheritage.org/event/danny-lopez-park-trash-buffelgrass-cleanup/
LOCATION:Danny Lopez Park\, 4300 N Silverbell Rd\, Tucson\, 85745\, United States
CATEGORIES:Clean Up,Environmental Stewardship,Food Experience,Volunteer Opportunities
ORGANIZER;CN="Friends of Danny Lopez Park":MAILTO:FriendsOfDLPark@gmail.com
END:VEVENT
END:VCALENDAR