BEGIN:VCALENDAR
VERSION:2.0
PRODID:-//Santa Cruz Valley National Heritage Area - ECPv6.15.20//NONSGML v1.0//EN
CALSCALE:GREGORIAN
METHOD:PUBLISH
X-WR-CALNAME:Santa Cruz Valley National Heritage Area
X-ORIGINAL-URL:https://santacruzheritage.org
X-WR-CALDESC:Events for Santa Cruz Valley National Heritage Area
REFRESH-INTERVAL;VALUE=DURATION:PT1H
X-Robots-Tag:noindex
X-PUBLISHED-TTL:PT1H
BEGIN:VTIMEZONE
TZID:America/Phoenix
BEGIN:STANDARD
TZOFFSETFROM:-0700
TZOFFSETTO:-0700
TZNAME:MST
DTSTART:20250101T000000
END:STANDARD
END:VTIMEZONE
BEGIN:VEVENT
DTSTART;TZID=America/Phoenix:20260430T090000
DTEND;TZID=America/Phoenix:20260430T120000
DTSTAMP:20260423T043028
CREATED:20260331T204140Z
LAST-MODIFIED:20260408T171122Z
UID:10005872-1777539600-1777550400@santacruzheritage.org
SUMMARY:Santa Cruz River Research Days
DESCRIPTION:This FREE event is a venue for learning about research and conservation efforts while exploring the Santa Cruz River’s natural and cultural resources. With this year’s theme\, A Watershed of Protection\, we’re highlighting several public land protection and management efforts that have helped protect the river and its surrounding watershed over the last 25 years. With diverse speakers and real-time English–Spanish translation\, we aim to inspire new research questions\, strengthen your professional network\, catalyze collaborative projects\, and foster awareness of research and conservation efforts. Registration and program is available on the event page but includes two days of presentations and a guided hike in the Borderlands Wildlife Preserve.
URL:https://santacruzheritage.org/event/santa-cruz-river-research-days/2026-04-30/
LOCATION:Pima Community College – Downtown\, 1255 N Stone Ave\, Tucson\, AZ\, 85709
CATEGORIES:Environmental Stewardship,Hikes,Lectures
ATTACH;FMTTYPE=image/jpeg:https://santacruzheritage.org/wp-content/uploads/2026/03/SCRRD-Logo.jpg
END:VEVENT
BEGIN:VEVENT
DTSTART;TZID=America/Phoenix:20260430T090000
DTEND;TZID=America/Phoenix:20260430T150000
DTSTAMP:20260423T043028
CREATED:20260416T195935Z
LAST-MODIFIED:20260416T195935Z
UID:10007029-1777539600-1777561200@santacruzheritage.org
SUMMARY:ASARCO Self Guided Center Tours
DESCRIPTION:Since ASARCO opened their doors in 1997\, the ASARCO Mineral Discovery Center & Mine Tours’ vision has been to educate communities on the vital importance of the copper mining industry to our civilization\, to educate students and teachers in earth sciences\, and to preserve Arizona’s mining history. \nASARCO invites you to take our free self-guided tour of the center’s indoor and outdoor exhibits\, which walks through the copper transformation process. Afterward\, peruse the Company Store for unique and educational gifts.
URL:https://santacruzheritage.org/event/asarco-self-guided-center-tours-2/2026-04-30/
LOCATION:ASARCO Mineral Discovery Center\, 1421 W Pima Mine Rd\, Sahuarita\, 85629\, United States
END:VEVENT
BEGIN:VEVENT
DTSTART;TZID=America/Phoenix:20260430T090000
DTEND;TZID=America/Phoenix:20260430T170000
DTSTAMP:20260423T043028
CREATED:20260305T190819Z
LAST-MODIFIED:20260305T191658Z
UID:10005475-1777539600-1777568400@santacruzheritage.org
SUMMARY:ASARCO Self Guided Center Tours
DESCRIPTION:Since we opened our doors in 1997\, the ASARCO Mineral Discovery Center & Mine Tours’ vision has been to educate communities on the vital importance of the copper mining industry to our civilization\, to educate students and teachers in earth sciences\, and to preserve Arizona’s mining history. \nWe invite you to take our free self-guided tour of the center’s indoor and outdoor exhibits\, which walks through the copper transformation process. Afterward\, peruse the Company Store for unique and educational gifts.
URL:https://santacruzheritage.org/event/asarco-self-guided-center-tours/2026-04-30/
LOCATION:ASARCO Mineral Discovery Center\, 1421 W Pima Mine Rd\, Sahuarita\, 85629\, United States
CATEGORIES:History,Tours,Youth Programming
END:VEVENT
BEGIN:VEVENT
DTSTART;TZID=America/Phoenix:20260430T093000
DTEND;TZID=America/Phoenix:20260430T103000
DTSTAMP:20260423T043028
CREATED:20260305T191614Z
LAST-MODIFIED:20260305T191614Z
UID:10005777-1777541400-1777545000@santacruzheritage.org
SUMMARY:ASARCO
DESCRIPTION:The ASARCO Mineral Discovery Center & Mine Tours’ vision has been to educate communities on the vital importance of the copper mining industry to  civilization\, to educate students and teachers in earth sciences\, and to preserve Arizona’s mining history.’ \nJoin the mine tour for a firsthand look at the copper transformation process. Ticketed mine tours are approximately 65 minutes long. \nTours at 9:30 am\, 11:15 am\, 1:15 pm\, & 3:00 pm \nSPECIAL INSTRUCTIONS FOR THE MINE TOUR \n\n\nClosed-toed shoes are required to take the tour. No Crocs\, sandals\, or flip-flops will be allowed.\nWe suggest bringing a water bottle (filtered water station is available in the Center).\nPlease dress comfortably.
URL:https://santacruzheritage.org/event/asarco/2026-04-30/
LOCATION:ASARCO Mineral Discovery Center\, 1421 W Pima Mine Rd\, Sahuarita\, 85629\, United States
CATEGORIES:History,Tours,Youth Programming
END:VEVENT
BEGIN:VEVENT
DTSTART;TZID=America/Phoenix:20260430T093000
DTEND;TZID=America/Phoenix:20260430T103000
DTSTAMP:20260423T043028
CREATED:20260416T200315Z
LAST-MODIFIED:20260416T200315Z
UID:10007147-1777541400-1777545000@santacruzheritage.org
SUMMARY:ASARCO Ticketed Mine Tour
DESCRIPTION:The ASARCO Mineral Discovery Center & Mine Tours’ vision has been to educate communities on the vital importance of the copper mining industry to  civilization\, to educate students and teachers in earth sciences\, and to preserve Arizona’s mining history.’ \nJoin the mine tour for a firsthand look at the copper transformation process. Ticketed mine tours are approximately 65 minutes long. \nTours at 9:30 am\, 11:15 am \nSPECIAL INSTRUCTIONS FOR THE MINE TOUR \n\n\nClosed-toed shoes are required to take the tour. No Crocs\, sandals\, or flip-flops will be allowed.\nWe suggest bringing a water bottle (filtered water station is available in the Center).\nPlease dress comfortably.
URL:https://santacruzheritage.org/event/asarco-ticketed-mine-tour/2026-04-30/
LOCATION:ASARCO Mineral Discovery Center\, 1421 W Pima Mine Rd\, Sahuarita\, 85629\, United States
END:VEVENT
END:VCALENDAR