BEGIN:VCALENDAR
VERSION:2.0
PRODID:-//Santa Cruz Valley National Heritage Area - ECPv6.15.20//NONSGML v1.0//EN
CALSCALE:GREGORIAN
METHOD:PUBLISH
X-WR-CALNAME:Santa Cruz Valley National Heritage Area
X-ORIGINAL-URL:https://santacruzheritage.org
X-WR-CALDESC:Events for Santa Cruz Valley National Heritage Area
REFRESH-INTERVAL;VALUE=DURATION:PT1H
X-Robots-Tag:noindex
X-PUBLISHED-TTL:PT1H
BEGIN:VTIMEZONE
TZID:America/Phoenix
BEGIN:STANDARD
TZOFFSETFROM:-0700
TZOFFSETTO:-0700
TZNAME:MST
DTSTART:20250101T000000
END:STANDARD
END:VTIMEZONE
BEGIN:VEVENT
DTSTART;TZID=America/Phoenix:20260912T090000
DTEND;TZID=America/Phoenix:20260912T150000
DTSTAMP:20260423T222612
CREATED:20260416T195935Z
LAST-MODIFIED:20260416T195935Z
UID:10007126-1789203600-1789225200@santacruzheritage.org
SUMMARY:ASARCO Self Guided Center Tours
DESCRIPTION:Since ASARCO opened their doors in 1997\, the ASARCO Mineral Discovery Center & Mine Tours’ vision has been to educate communities on the vital importance of the copper mining industry to our civilization\, to educate students and teachers in earth sciences\, and to preserve Arizona’s mining history. \nASARCO invites you to take our free self-guided tour of the center’s indoor and outdoor exhibits\, which walks through the copper transformation process. Afterward\, peruse the Company Store for unique and educational gifts.
URL:https://santacruzheritage.org/event/asarco-self-guided-center-tours-2/2026-09-12/
LOCATION:ASARCO Mineral Discovery Center\, 1421 W Pima Mine Rd\, Sahuarita\, 85629\, United States
END:VEVENT
BEGIN:VEVENT
DTSTART;TZID=America/Phoenix:20260912T093000
DTEND;TZID=America/Phoenix:20260912T103000
DTSTAMP:20260423T222612
CREATED:20260416T200315Z
LAST-MODIFIED:20260416T200315Z
UID:10007225-1789205400-1789209000@santacruzheritage.org
SUMMARY:ASARCO Ticketed Mine Tour
DESCRIPTION:The ASARCO Mineral Discovery Center & Mine Tours’ vision has been to educate communities on the vital importance of the copper mining industry to  civilization\, to educate students and teachers in earth sciences\, and to preserve Arizona’s mining history.’ \nJoin the mine tour for a firsthand look at the copper transformation process. Ticketed mine tours are approximately 65 minutes long. \nTours at 9:30 am\, 11:15 am \nSPECIAL INSTRUCTIONS FOR THE MINE TOUR \n\n\nClosed-toed shoes are required to take the tour. No Crocs\, sandals\, or flip-flops will be allowed.\nWe suggest bringing a water bottle (filtered water station is available in the Center).\nPlease dress comfortably.
URL:https://santacruzheritage.org/event/asarco-ticketed-mine-tour/2026-09-12/
LOCATION:ASARCO Mineral Discovery Center\, 1421 W Pima Mine Rd\, Sahuarita\, 85629\, United States
END:VEVENT
BEGIN:VEVENT
DTSTART;TZID=America/Phoenix:20260913T090000
DTEND;TZID=America/Phoenix:20260913T150000
DTSTAMP:20260423T222612
CREATED:20260416T195935Z
LAST-MODIFIED:20260416T195935Z
UID:10007127-1789290000-1789311600@santacruzheritage.org
SUMMARY:ASARCO Self Guided Center Tours
DESCRIPTION:Since ASARCO opened their doors in 1997\, the ASARCO Mineral Discovery Center & Mine Tours’ vision has been to educate communities on the vital importance of the copper mining industry to our civilization\, to educate students and teachers in earth sciences\, and to preserve Arizona’s mining history. \nASARCO invites you to take our free self-guided tour of the center’s indoor and outdoor exhibits\, which walks through the copper transformation process. Afterward\, peruse the Company Store for unique and educational gifts.
URL:https://santacruzheritage.org/event/asarco-self-guided-center-tours-2/2026-09-13/
LOCATION:ASARCO Mineral Discovery Center\, 1421 W Pima Mine Rd\, Sahuarita\, 85629\, United States
END:VEVENT
BEGIN:VEVENT
DTSTART;TZID=America/Phoenix:20260916T090000
DTEND;TZID=America/Phoenix:20260916T150000
DTSTAMP:20260423T222612
CREATED:20260416T195935Z
LAST-MODIFIED:20260416T195935Z
UID:10007128-1789549200-1789570800@santacruzheritage.org
SUMMARY:ASARCO Self Guided Center Tours
DESCRIPTION:Since ASARCO opened their doors in 1997\, the ASARCO Mineral Discovery Center & Mine Tours’ vision has been to educate communities on the vital importance of the copper mining industry to our civilization\, to educate students and teachers in earth sciences\, and to preserve Arizona’s mining history. \nASARCO invites you to take our free self-guided tour of the center’s indoor and outdoor exhibits\, which walks through the copper transformation process. Afterward\, peruse the Company Store for unique and educational gifts.
URL:https://santacruzheritage.org/event/asarco-self-guided-center-tours-2/2026-09-16/
LOCATION:ASARCO Mineral Discovery Center\, 1421 W Pima Mine Rd\, Sahuarita\, 85629\, United States
END:VEVENT
BEGIN:VEVENT
DTSTART;TZID=America/Phoenix:20260916T093000
DTEND;TZID=America/Phoenix:20260916T103000
DTSTAMP:20260423T222612
CREATED:20260416T200315Z
LAST-MODIFIED:20260416T200315Z
UID:10007226-1789551000-1789554600@santacruzheritage.org
SUMMARY:ASARCO Ticketed Mine Tour
DESCRIPTION:The ASARCO Mineral Discovery Center & Mine Tours’ vision has been to educate communities on the vital importance of the copper mining industry to  civilization\, to educate students and teachers in earth sciences\, and to preserve Arizona’s mining history.’ \nJoin the mine tour for a firsthand look at the copper transformation process. Ticketed mine tours are approximately 65 minutes long. \nTours at 9:30 am\, 11:15 am \nSPECIAL INSTRUCTIONS FOR THE MINE TOUR \n\n\nClosed-toed shoes are required to take the tour. No Crocs\, sandals\, or flip-flops will be allowed.\nWe suggest bringing a water bottle (filtered water station is available in the Center).\nPlease dress comfortably.
URL:https://santacruzheritage.org/event/asarco-ticketed-mine-tour/2026-09-16/
LOCATION:ASARCO Mineral Discovery Center\, 1421 W Pima Mine Rd\, Sahuarita\, 85629\, United States
END:VEVENT
BEGIN:VEVENT
DTSTART;TZID=America/Phoenix:20260917T090000
DTEND;TZID=America/Phoenix:20260917T150000
DTSTAMP:20260423T222612
CREATED:20260416T195935Z
LAST-MODIFIED:20260416T195935Z
UID:10007129-1789635600-1789657200@santacruzheritage.org
SUMMARY:ASARCO Self Guided Center Tours
DESCRIPTION:Since ASARCO opened their doors in 1997\, the ASARCO Mineral Discovery Center & Mine Tours’ vision has been to educate communities on the vital importance of the copper mining industry to our civilization\, to educate students and teachers in earth sciences\, and to preserve Arizona’s mining history. \nASARCO invites you to take our free self-guided tour of the center’s indoor and outdoor exhibits\, which walks through the copper transformation process. Afterward\, peruse the Company Store for unique and educational gifts.
URL:https://santacruzheritage.org/event/asarco-self-guided-center-tours-2/2026-09-17/
LOCATION:ASARCO Mineral Discovery Center\, 1421 W Pima Mine Rd\, Sahuarita\, 85629\, United States
END:VEVENT
BEGIN:VEVENT
DTSTART;TZID=America/Phoenix:20260917T093000
DTEND;TZID=America/Phoenix:20260917T103000
DTSTAMP:20260423T222612
CREATED:20260416T200315Z
LAST-MODIFIED:20260416T200315Z
UID:10007227-1789637400-1789641000@santacruzheritage.org
SUMMARY:ASARCO Ticketed Mine Tour
DESCRIPTION:The ASARCO Mineral Discovery Center & Mine Tours’ vision has been to educate communities on the vital importance of the copper mining industry to  civilization\, to educate students and teachers in earth sciences\, and to preserve Arizona’s mining history.’ \nJoin the mine tour for a firsthand look at the copper transformation process. Ticketed mine tours are approximately 65 minutes long. \nTours at 9:30 am\, 11:15 am \nSPECIAL INSTRUCTIONS FOR THE MINE TOUR \n\n\nClosed-toed shoes are required to take the tour. No Crocs\, sandals\, or flip-flops will be allowed.\nWe suggest bringing a water bottle (filtered water station is available in the Center).\nPlease dress comfortably.
URL:https://santacruzheritage.org/event/asarco-ticketed-mine-tour/2026-09-17/
LOCATION:ASARCO Mineral Discovery Center\, 1421 W Pima Mine Rd\, Sahuarita\, 85629\, United States
END:VEVENT
BEGIN:VEVENT
DTSTART;TZID=America/Phoenix:20260918T090000
DTEND;TZID=America/Phoenix:20260918T150000
DTSTAMP:20260423T222613
CREATED:20260416T195935Z
LAST-MODIFIED:20260416T195935Z
UID:10007130-1789722000-1789743600@santacruzheritage.org
SUMMARY:ASARCO Self Guided Center Tours
DESCRIPTION:Since ASARCO opened their doors in 1997\, the ASARCO Mineral Discovery Center & Mine Tours’ vision has been to educate communities on the vital importance of the copper mining industry to our civilization\, to educate students and teachers in earth sciences\, and to preserve Arizona’s mining history. \nASARCO invites you to take our free self-guided tour of the center’s indoor and outdoor exhibits\, which walks through the copper transformation process. Afterward\, peruse the Company Store for unique and educational gifts.
URL:https://santacruzheritage.org/event/asarco-self-guided-center-tours-2/2026-09-18/
LOCATION:ASARCO Mineral Discovery Center\, 1421 W Pima Mine Rd\, Sahuarita\, 85629\, United States
END:VEVENT
BEGIN:VEVENT
DTSTART;TZID=America/Phoenix:20260918T093000
DTEND;TZID=America/Phoenix:20260918T103000
DTSTAMP:20260423T222613
CREATED:20260416T200315Z
LAST-MODIFIED:20260416T200315Z
UID:10007228-1789723800-1789727400@santacruzheritage.org
SUMMARY:ASARCO Ticketed Mine Tour
DESCRIPTION:The ASARCO Mineral Discovery Center & Mine Tours’ vision has been to educate communities on the vital importance of the copper mining industry to  civilization\, to educate students and teachers in earth sciences\, and to preserve Arizona’s mining history.’ \nJoin the mine tour for a firsthand look at the copper transformation process. Ticketed mine tours are approximately 65 minutes long. \nTours at 9:30 am\, 11:15 am \nSPECIAL INSTRUCTIONS FOR THE MINE TOUR \n\n\nClosed-toed shoes are required to take the tour. No Crocs\, sandals\, or flip-flops will be allowed.\nWe suggest bringing a water bottle (filtered water station is available in the Center).\nPlease dress comfortably.
URL:https://santacruzheritage.org/event/asarco-ticketed-mine-tour/2026-09-18/
LOCATION:ASARCO Mineral Discovery Center\, 1421 W Pima Mine Rd\, Sahuarita\, 85629\, United States
END:VEVENT
BEGIN:VEVENT
DTSTART;TZID=America/Phoenix:20260919T090000
DTEND;TZID=America/Phoenix:20260919T150000
DTSTAMP:20260423T222613
CREATED:20260416T195935Z
LAST-MODIFIED:20260416T195935Z
UID:10007131-1789808400-1789830000@santacruzheritage.org
SUMMARY:ASARCO Self Guided Center Tours
DESCRIPTION:Since ASARCO opened their doors in 1997\, the ASARCO Mineral Discovery Center & Mine Tours’ vision has been to educate communities on the vital importance of the copper mining industry to our civilization\, to educate students and teachers in earth sciences\, and to preserve Arizona’s mining history. \nASARCO invites you to take our free self-guided tour of the center’s indoor and outdoor exhibits\, which walks through the copper transformation process. Afterward\, peruse the Company Store for unique and educational gifts.
URL:https://santacruzheritage.org/event/asarco-self-guided-center-tours-2/2026-09-19/
LOCATION:ASARCO Mineral Discovery Center\, 1421 W Pima Mine Rd\, Sahuarita\, 85629\, United States
END:VEVENT
BEGIN:VEVENT
DTSTART;TZID=America/Phoenix:20260919T093000
DTEND;TZID=America/Phoenix:20260919T103000
DTSTAMP:20260423T222613
CREATED:20260416T200315Z
LAST-MODIFIED:20260416T200315Z
UID:10007229-1789810200-1789813800@santacruzheritage.org
SUMMARY:ASARCO Ticketed Mine Tour
DESCRIPTION:The ASARCO Mineral Discovery Center & Mine Tours’ vision has been to educate communities on the vital importance of the copper mining industry to  civilization\, to educate students and teachers in earth sciences\, and to preserve Arizona’s mining history.’ \nJoin the mine tour for a firsthand look at the copper transformation process. Ticketed mine tours are approximately 65 minutes long. \nTours at 9:30 am\, 11:15 am \nSPECIAL INSTRUCTIONS FOR THE MINE TOUR \n\n\nClosed-toed shoes are required to take the tour. No Crocs\, sandals\, or flip-flops will be allowed.\nWe suggest bringing a water bottle (filtered water station is available in the Center).\nPlease dress comfortably.
URL:https://santacruzheritage.org/event/asarco-ticketed-mine-tour/2026-09-19/
LOCATION:ASARCO Mineral Discovery Center\, 1421 W Pima Mine Rd\, Sahuarita\, 85629\, United States
END:VEVENT
BEGIN:VEVENT
DTSTART;TZID=America/Phoenix:20260920T090000
DTEND;TZID=America/Phoenix:20260920T150000
DTSTAMP:20260423T222613
CREATED:20260416T195935Z
LAST-MODIFIED:20260416T195935Z
UID:10007132-1789894800-1789916400@santacruzheritage.org
SUMMARY:ASARCO Self Guided Center Tours
DESCRIPTION:Since ASARCO opened their doors in 1997\, the ASARCO Mineral Discovery Center & Mine Tours’ vision has been to educate communities on the vital importance of the copper mining industry to our civilization\, to educate students and teachers in earth sciences\, and to preserve Arizona’s mining history. \nASARCO invites you to take our free self-guided tour of the center’s indoor and outdoor exhibits\, which walks through the copper transformation process. Afterward\, peruse the Company Store for unique and educational gifts.
URL:https://santacruzheritage.org/event/asarco-self-guided-center-tours-2/2026-09-20/
LOCATION:ASARCO Mineral Discovery Center\, 1421 W Pima Mine Rd\, Sahuarita\, 85629\, United States
END:VEVENT
BEGIN:VEVENT
DTSTART;TZID=America/Phoenix:20260923T090000
DTEND;TZID=America/Phoenix:20260923T150000
DTSTAMP:20260423T222613
CREATED:20260416T195935Z
LAST-MODIFIED:20260416T195935Z
UID:10007133-1790154000-1790175600@santacruzheritage.org
SUMMARY:ASARCO Self Guided Center Tours
DESCRIPTION:Since ASARCO opened their doors in 1997\, the ASARCO Mineral Discovery Center & Mine Tours’ vision has been to educate communities on the vital importance of the copper mining industry to our civilization\, to educate students and teachers in earth sciences\, and to preserve Arizona’s mining history. \nASARCO invites you to take our free self-guided tour of the center’s indoor and outdoor exhibits\, which walks through the copper transformation process. Afterward\, peruse the Company Store for unique and educational gifts.
URL:https://santacruzheritage.org/event/asarco-self-guided-center-tours-2/2026-09-23/
LOCATION:ASARCO Mineral Discovery Center\, 1421 W Pima Mine Rd\, Sahuarita\, 85629\, United States
END:VEVENT
BEGIN:VEVENT
DTSTART;TZID=America/Phoenix:20260923T093000
DTEND;TZID=America/Phoenix:20260923T103000
DTSTAMP:20260423T222613
CREATED:20260416T200315Z
LAST-MODIFIED:20260416T200315Z
UID:10007230-1790155800-1790159400@santacruzheritage.org
SUMMARY:ASARCO Ticketed Mine Tour
DESCRIPTION:The ASARCO Mineral Discovery Center & Mine Tours’ vision has been to educate communities on the vital importance of the copper mining industry to  civilization\, to educate students and teachers in earth sciences\, and to preserve Arizona’s mining history.’ \nJoin the mine tour for a firsthand look at the copper transformation process. Ticketed mine tours are approximately 65 minutes long. \nTours at 9:30 am\, 11:15 am \nSPECIAL INSTRUCTIONS FOR THE MINE TOUR \n\n\nClosed-toed shoes are required to take the tour. No Crocs\, sandals\, or flip-flops will be allowed.\nWe suggest bringing a water bottle (filtered water station is available in the Center).\nPlease dress comfortably.
URL:https://santacruzheritage.org/event/asarco-ticketed-mine-tour/2026-09-23/
LOCATION:ASARCO Mineral Discovery Center\, 1421 W Pima Mine Rd\, Sahuarita\, 85629\, United States
END:VEVENT
BEGIN:VEVENT
DTSTART;TZID=America/Phoenix:20260924T090000
DTEND;TZID=America/Phoenix:20260924T150000
DTSTAMP:20260423T222613
CREATED:20260416T195935Z
LAST-MODIFIED:20260416T195935Z
UID:10007134-1790240400-1790262000@santacruzheritage.org
SUMMARY:ASARCO Self Guided Center Tours
DESCRIPTION:Since ASARCO opened their doors in 1997\, the ASARCO Mineral Discovery Center & Mine Tours’ vision has been to educate communities on the vital importance of the copper mining industry to our civilization\, to educate students and teachers in earth sciences\, and to preserve Arizona’s mining history. \nASARCO invites you to take our free self-guided tour of the center’s indoor and outdoor exhibits\, which walks through the copper transformation process. Afterward\, peruse the Company Store for unique and educational gifts.
URL:https://santacruzheritage.org/event/asarco-self-guided-center-tours-2/2026-09-24/
LOCATION:ASARCO Mineral Discovery Center\, 1421 W Pima Mine Rd\, Sahuarita\, 85629\, United States
END:VEVENT
BEGIN:VEVENT
DTSTART;TZID=America/Phoenix:20260924T093000
DTEND;TZID=America/Phoenix:20260924T103000
DTSTAMP:20260423T222613
CREATED:20260416T200315Z
LAST-MODIFIED:20260416T200315Z
UID:10007231-1790242200-1790245800@santacruzheritage.org
SUMMARY:ASARCO Ticketed Mine Tour
DESCRIPTION:The ASARCO Mineral Discovery Center & Mine Tours’ vision has been to educate communities on the vital importance of the copper mining industry to  civilization\, to educate students and teachers in earth sciences\, and to preserve Arizona’s mining history.’ \nJoin the mine tour for a firsthand look at the copper transformation process. Ticketed mine tours are approximately 65 minutes long. \nTours at 9:30 am\, 11:15 am \nSPECIAL INSTRUCTIONS FOR THE MINE TOUR \n\n\nClosed-toed shoes are required to take the tour. No Crocs\, sandals\, or flip-flops will be allowed.\nWe suggest bringing a water bottle (filtered water station is available in the Center).\nPlease dress comfortably.
URL:https://santacruzheritage.org/event/asarco-ticketed-mine-tour/2026-09-24/
LOCATION:ASARCO Mineral Discovery Center\, 1421 W Pima Mine Rd\, Sahuarita\, 85629\, United States
END:VEVENT
BEGIN:VEVENT
DTSTART;TZID=America/Phoenix:20260925T090000
DTEND;TZID=America/Phoenix:20260925T150000
DTSTAMP:20260423T222613
CREATED:20260416T195935Z
LAST-MODIFIED:20260416T195935Z
UID:10007135-1790326800-1790348400@santacruzheritage.org
SUMMARY:ASARCO Self Guided Center Tours
DESCRIPTION:Since ASARCO opened their doors in 1997\, the ASARCO Mineral Discovery Center & Mine Tours’ vision has been to educate communities on the vital importance of the copper mining industry to our civilization\, to educate students and teachers in earth sciences\, and to preserve Arizona’s mining history. \nASARCO invites you to take our free self-guided tour of the center’s indoor and outdoor exhibits\, which walks through the copper transformation process. Afterward\, peruse the Company Store for unique and educational gifts.
URL:https://santacruzheritage.org/event/asarco-self-guided-center-tours-2/2026-09-25/
LOCATION:ASARCO Mineral Discovery Center\, 1421 W Pima Mine Rd\, Sahuarita\, 85629\, United States
END:VEVENT
BEGIN:VEVENT
DTSTART;TZID=America/Phoenix:20260925T093000
DTEND;TZID=America/Phoenix:20260925T103000
DTSTAMP:20260423T222613
CREATED:20260416T200315Z
LAST-MODIFIED:20260416T200315Z
UID:10007232-1790328600-1790332200@santacruzheritage.org
SUMMARY:ASARCO Ticketed Mine Tour
DESCRIPTION:The ASARCO Mineral Discovery Center & Mine Tours’ vision has been to educate communities on the vital importance of the copper mining industry to  civilization\, to educate students and teachers in earth sciences\, and to preserve Arizona’s mining history.’ \nJoin the mine tour for a firsthand look at the copper transformation process. Ticketed mine tours are approximately 65 minutes long. \nTours at 9:30 am\, 11:15 am \nSPECIAL INSTRUCTIONS FOR THE MINE TOUR \n\n\nClosed-toed shoes are required to take the tour. No Crocs\, sandals\, or flip-flops will be allowed.\nWe suggest bringing a water bottle (filtered water station is available in the Center).\nPlease dress comfortably.
URL:https://santacruzheritage.org/event/asarco-ticketed-mine-tour/2026-09-25/
LOCATION:ASARCO Mineral Discovery Center\, 1421 W Pima Mine Rd\, Sahuarita\, 85629\, United States
END:VEVENT
BEGIN:VEVENT
DTSTART;TZID=America/Phoenix:20260926T090000
DTEND;TZID=America/Phoenix:20260926T150000
DTSTAMP:20260423T222613
CREATED:20260416T195935Z
LAST-MODIFIED:20260416T195935Z
UID:10007136-1790413200-1790434800@santacruzheritage.org
SUMMARY:ASARCO Self Guided Center Tours
DESCRIPTION:Since ASARCO opened their doors in 1997\, the ASARCO Mineral Discovery Center & Mine Tours’ vision has been to educate communities on the vital importance of the copper mining industry to our civilization\, to educate students and teachers in earth sciences\, and to preserve Arizona’s mining history. \nASARCO invites you to take our free self-guided tour of the center’s indoor and outdoor exhibits\, which walks through the copper transformation process. Afterward\, peruse the Company Store for unique and educational gifts.
URL:https://santacruzheritage.org/event/asarco-self-guided-center-tours-2/2026-09-26/
LOCATION:ASARCO Mineral Discovery Center\, 1421 W Pima Mine Rd\, Sahuarita\, 85629\, United States
END:VEVENT
BEGIN:VEVENT
DTSTART;TZID=America/Phoenix:20260926T093000
DTEND;TZID=America/Phoenix:20260926T103000
DTSTAMP:20260423T222613
CREATED:20260416T200315Z
LAST-MODIFIED:20260416T200315Z
UID:10007233-1790415000-1790418600@santacruzheritage.org
SUMMARY:ASARCO Ticketed Mine Tour
DESCRIPTION:The ASARCO Mineral Discovery Center & Mine Tours’ vision has been to educate communities on the vital importance of the copper mining industry to  civilization\, to educate students and teachers in earth sciences\, and to preserve Arizona’s mining history.’ \nJoin the mine tour for a firsthand look at the copper transformation process. Ticketed mine tours are approximately 65 minutes long. \nTours at 9:30 am\, 11:15 am \nSPECIAL INSTRUCTIONS FOR THE MINE TOUR \n\n\nClosed-toed shoes are required to take the tour. No Crocs\, sandals\, or flip-flops will be allowed.\nWe suggest bringing a water bottle (filtered water station is available in the Center).\nPlease dress comfortably.
URL:https://santacruzheritage.org/event/asarco-ticketed-mine-tour/2026-09-26/
LOCATION:ASARCO Mineral Discovery Center\, 1421 W Pima Mine Rd\, Sahuarita\, 85629\, United States
END:VEVENT
BEGIN:VEVENT
DTSTART;TZID=America/Phoenix:20260927T090000
DTEND;TZID=America/Phoenix:20260927T150000
DTSTAMP:20260423T222613
CREATED:20260416T195935Z
LAST-MODIFIED:20260416T195935Z
UID:10007137-1790499600-1790521200@santacruzheritage.org
SUMMARY:ASARCO Self Guided Center Tours
DESCRIPTION:Since ASARCO opened their doors in 1997\, the ASARCO Mineral Discovery Center & Mine Tours’ vision has been to educate communities on the vital importance of the copper mining industry to our civilization\, to educate students and teachers in earth sciences\, and to preserve Arizona’s mining history. \nASARCO invites you to take our free self-guided tour of the center’s indoor and outdoor exhibits\, which walks through the copper transformation process. Afterward\, peruse the Company Store for unique and educational gifts.
URL:https://santacruzheritage.org/event/asarco-self-guided-center-tours-2/2026-09-27/
LOCATION:ASARCO Mineral Discovery Center\, 1421 W Pima Mine Rd\, Sahuarita\, 85629\, United States
END:VEVENT
BEGIN:VEVENT
DTSTART;TZID=America/Phoenix:20260930T090000
DTEND;TZID=America/Phoenix:20260930T150000
DTSTAMP:20260423T222613
CREATED:20260416T195935Z
LAST-MODIFIED:20260416T195935Z
UID:10007138-1790758800-1790780400@santacruzheritage.org
SUMMARY:ASARCO Self Guided Center Tours
DESCRIPTION:Since ASARCO opened their doors in 1997\, the ASARCO Mineral Discovery Center & Mine Tours’ vision has been to educate communities on the vital importance of the copper mining industry to our civilization\, to educate students and teachers in earth sciences\, and to preserve Arizona’s mining history. \nASARCO invites you to take our free self-guided tour of the center’s indoor and outdoor exhibits\, which walks through the copper transformation process. Afterward\, peruse the Company Store for unique and educational gifts.
URL:https://santacruzheritage.org/event/asarco-self-guided-center-tours-2/2026-09-30/
LOCATION:ASARCO Mineral Discovery Center\, 1421 W Pima Mine Rd\, Sahuarita\, 85629\, United States
END:VEVENT
BEGIN:VEVENT
DTSTART;TZID=America/Phoenix:20260930T093000
DTEND;TZID=America/Phoenix:20260930T103000
DTSTAMP:20260423T222613
CREATED:20260416T200315Z
LAST-MODIFIED:20260416T200315Z
UID:10007234-1790760600-1790764200@santacruzheritage.org
SUMMARY:ASARCO Ticketed Mine Tour
DESCRIPTION:The ASARCO Mineral Discovery Center & Mine Tours’ vision has been to educate communities on the vital importance of the copper mining industry to  civilization\, to educate students and teachers in earth sciences\, and to preserve Arizona’s mining history.’ \nJoin the mine tour for a firsthand look at the copper transformation process. Ticketed mine tours are approximately 65 minutes long. \nTours at 9:30 am\, 11:15 am \nSPECIAL INSTRUCTIONS FOR THE MINE TOUR \n\n\nClosed-toed shoes are required to take the tour. No Crocs\, sandals\, or flip-flops will be allowed.\nWe suggest bringing a water bottle (filtered water station is available in the Center).\nPlease dress comfortably.
URL:https://santacruzheritage.org/event/asarco-ticketed-mine-tour/2026-09-30/
LOCATION:ASARCO Mineral Discovery Center\, 1421 W Pima Mine Rd\, Sahuarita\, 85629\, United States
END:VEVENT
END:VCALENDAR