BEGIN:VCALENDAR
VERSION:2.0
PRODID:-//Santa Cruz Valley National Heritage Area - ECPv6.15.20//NONSGML v1.0//EN
CALSCALE:GREGORIAN
METHOD:PUBLISH
X-WR-CALNAME:Santa Cruz Valley National Heritage Area
X-ORIGINAL-URL:https://santacruzheritage.org
X-WR-CALDESC:Events for Santa Cruz Valley National Heritage Area
REFRESH-INTERVAL;VALUE=DURATION:PT1H
X-Robots-Tag:noindex
X-PUBLISHED-TTL:PT1H
BEGIN:VTIMEZONE
TZID:America/Phoenix
BEGIN:STANDARD
TZOFFSETFROM:-0700
TZOFFSETTO:-0700
TZNAME:MST
DTSTART:20250101T000000
END:STANDARD
END:VTIMEZONE
BEGIN:VEVENT
DTSTART;TZID=America/Phoenix:20260425T080000
DTEND;TZID=America/Phoenix:20260425T100000
DTSTAMP:20260422T231827
CREATED:20260223T234231Z
LAST-MODIFIED:20260223T234231Z
UID:10005418-1777104000-1777111200@santacruzheritage.org
SUMMARY:Highway Cleanup
DESCRIPTION:Join the Coalition for Sonoran Desert Protection for a highway cleanup within a wildlife corridor! \nHelp us collect trash along our adopted stretch of highway along the I-10 frontage road near Avra Valley Road and the Santa Cruz River wildlife ramp. Gloves\, safety vests\, snacks and drinks\, trash bags\, and pick-up sticks (grabbers) are provided. More specific information and directions will be sent in an email to all RSVPs. \nPlease bring a reusable water bottle and coffee mug. We recommend sun protection and long sleeves/pants. \nThis project is funded in part by the Santa Cruz Valley National Heritage Area. Thank you! \nPhysical requirements: Frequent bending and kneeling\, walking in the sun for prolonged periods\, walking on potentially uneven surfaces. Due to safety and ADOT regulation\, volunteers must be 12 years or older.
URL:https://santacruzheritage.org/event/highway-cleanup/
LOCATION:10501 N. Casa Grande Hwy (32.39729\, -111.12557)\, 10501 N. Casa Grande Hwy (32.39729\, -111.12557)
CATEGORIES:Clean Up,Funded in Part by SCVNHA,Volunteer Opportunities
ATTACH;FMTTYPE=image/png:https://santacruzheritage.org/wp-content/uploads/2026/02/Untitled-design-2025-12-05T111116.186.png
END:VEVENT
BEGIN:VEVENT
DTSTART;TZID=America/Phoenix:20260425T100000
DTEND;TZID=America/Phoenix:20260425T130000
DTSTAMP:20260422T231827
CREATED:20260326T233039Z
LAST-MODIFIED:20260330T204158Z
UID:10005863-1777111200-1777122000@santacruzheritage.org
SUMMARY:Sosa-Carrillo House Grand Re-Opening
DESCRIPTION:Los Descendientes de Tucson is celebrating the reopening of the Sosa-Carrillo House after 2 years of rehabilitation. Event remarks begin at 11am followed by light bites in the back patio. Visitors are encourage to walk through the house and see the new and expanded exhibits on the history of the barrio\, the Sosas and Carillos\, the Tohono O’odham and Pasqua Yaqui tribes\, and art from Ruben Moreno.
URL:https://santacruzheritage.org/event/sosa-carrillo-house-grand-re-opening/
LOCATION:Sosa-Carrillo House\, 151 S Granda\, Tucson\, AZ\, 85701\, United States
CATEGORIES:Other
ATTACH;FMTTYPE=image/png:https://santacruzheritage.org/wp-content/uploads/2026/03/Grand-Opening-Poster.png
ORGANIZER;CN="Los Descendientes de Tucson":MAILTO:rikkiriojas@gmail.com
END:VEVENT
END:VCALENDAR