BEGIN:VCALENDAR
VERSION:2.0
PRODID:-//Santa Cruz Valley National Heritage Area - ECPv6.15.20//NONSGML v1.0//EN
CALSCALE:GREGORIAN
METHOD:PUBLISH
X-ORIGINAL-URL:https://santacruzheritage.org
X-WR-CALDESC:Events for Santa Cruz Valley National Heritage Area
REFRESH-INTERVAL;VALUE=DURATION:PT1H
X-Robots-Tag:noindex
X-PUBLISHED-TTL:PT1H
BEGIN:VTIMEZONE
TZID:America/Phoenix
BEGIN:STANDARD
TZOFFSETFROM:-0700
TZOFFSETTO:-0700
TZNAME:MST
DTSTART:20250101T000000
END:STANDARD
END:VTIMEZONE
BEGIN:VEVENT
DTSTART;TZID=America/Phoenix:20260408T140000
DTEND;TZID=America/Phoenix:20260408T153000
DTSTAMP:20260425T081310
CREATED:20260330T203917Z
LAST-MODIFIED:20260330T203917Z
UID:10005864-1775656800-1775662200@santacruzheritage.org
SUMMARY:The Geometry of Birding
DESCRIPTION:A presentation by Peg Abbott\, owner and founder of Naturalist Journeys.  If birding is your lifelong passion\, or even just an enjoyable hobby\, you know that it grows with a stairstep progression of acquired skills. Sometimes you level out in ability and get frustrated. Peg Abbott of Naturalist Journeys presents a skill session aimed to help you with a new perspective. Within each bird there is a ruler or other tools related to shape that can help you unlock its ID. Learn how the basics of geometry – points\, lines\, angles\, and planes – come together to create shapes. And how comparing the relative proportions of these shapes within a single bird\, or between birds in a group or flock\, can help you gain that next level to empower your birding skills and passion to grow.
URL:https://santacruzheritage.org/event/the-geometry-of-birding/
LOCATION:Tubac Community Center\, 50 Bridge Road\, Tubac\, AZ\, United States
CATEGORIES:Lectures
ATTACH;FMTTYPE=image/png:https://santacruzheritage.org/wp-content/uploads/2026/03/Screenshot-2026-03-26-at-4.28.31-PM.png
END:VEVENT
END:VCALENDAR