BEGIN:VCALENDAR
VERSION:2.0
PRODID:-//Santa Cruz Valley National Heritage Area - ECPv6.15.20//NONSGML v1.0//EN
CALSCALE:GREGORIAN
METHOD:PUBLISH
X-WR-CALNAME:Santa Cruz Valley National Heritage Area
X-ORIGINAL-URL:https://santacruzheritage.org
X-WR-CALDESC:Events for Santa Cruz Valley National Heritage Area
REFRESH-INTERVAL;VALUE=DURATION:PT1H
X-Robots-Tag:noindex
X-PUBLISHED-TTL:PT1H
BEGIN:VTIMEZONE
TZID:America/Phoenix
BEGIN:STANDARD
TZOFFSETFROM:-0700
TZOFFSETTO:-0700
TZNAME:MST
DTSTART:20250101T000000
END:STANDARD
END:VTIMEZONE
BEGIN:VEVENT
DTSTART;TZID=America/Phoenix:20260428T080000
DTEND;TZID=America/Phoenix:20260428T110000
DTSTAMP:20260423T002902
CREATED:20260416T183624Z
LAST-MODIFIED:20260416T183652Z
UID:10006538-1777363200-1777374000@santacruzheritage.org
SUMMARY:Tubac Nature Center Bird Walk
DESCRIPTION:Meet at the Nature Center\, 50 Bridge Road\, Tubac. Sign in at the door. the leaders will select a section of the Anza Trail for the walk. All expertise levels welcomed. Bring binoculars.
URL:https://santacruzheritage.org/event/tubac-nature-center-bird-walk/2026-04-28/
LOCATION:Tubac Nature Center\, 50 Bridge Road\, Tubac\, AZ\, United States
CATEGORIES:Hikes
END:VEVENT
BEGIN:VEVENT
DTSTART;TZID=America/Phoenix:20260505T080000
DTEND;TZID=America/Phoenix:20260505T110000
DTSTAMP:20260423T002902
CREATED:20260416T183624Z
LAST-MODIFIED:20260416T183652Z
UID:10006539-1777968000-1777978800@santacruzheritage.org
SUMMARY:Tubac Nature Center Bird Walk
DESCRIPTION:Meet at the Nature Center\, 50 Bridge Road\, Tubac. Sign in at the door. the leaders will select a section of the Anza Trail for the walk. All expertise levels welcomed. Bring binoculars.
URL:https://santacruzheritage.org/event/tubac-nature-center-bird-walk/2026-05-05/
LOCATION:Tubac Nature Center\, 50 Bridge Road\, Tubac\, AZ\, United States
CATEGORIES:Hikes
END:VEVENT
BEGIN:VEVENT
DTSTART;TZID=America/Phoenix:20260512T080000
DTEND;TZID=America/Phoenix:20260512T110000
DTSTAMP:20260423T002902
CREATED:20260416T183624Z
LAST-MODIFIED:20260416T183652Z
UID:10006540-1778572800-1778583600@santacruzheritage.org
SUMMARY:Tubac Nature Center Bird Walk
DESCRIPTION:Meet at the Nature Center\, 50 Bridge Road\, Tubac. Sign in at the door. the leaders will select a section of the Anza Trail for the walk. All expertise levels welcomed. Bring binoculars.
URL:https://santacruzheritage.org/event/tubac-nature-center-bird-walk/2026-05-12/
LOCATION:Tubac Nature Center\, 50 Bridge Road\, Tubac\, AZ\, United States
CATEGORIES:Hikes
END:VEVENT
BEGIN:VEVENT
DTSTART;TZID=America/Phoenix:20260519T080000
DTEND;TZID=America/Phoenix:20260519T110000
DTSTAMP:20260423T002902
CREATED:20260416T183624Z
LAST-MODIFIED:20260416T183652Z
UID:10006541-1779177600-1779188400@santacruzheritage.org
SUMMARY:Tubac Nature Center Bird Walk
DESCRIPTION:Meet at the Nature Center\, 50 Bridge Road\, Tubac. Sign in at the door. the leaders will select a section of the Anza Trail for the walk. All expertise levels welcomed. Bring binoculars.
URL:https://santacruzheritage.org/event/tubac-nature-center-bird-walk/2026-05-19/
LOCATION:Tubac Nature Center\, 50 Bridge Road\, Tubac\, AZ\, United States
CATEGORIES:Hikes
END:VEVENT
BEGIN:VEVENT
DTSTART;TZID=America/Phoenix:20260526T080000
DTEND;TZID=America/Phoenix:20260526T110000
DTSTAMP:20260423T002902
CREATED:20260416T183624Z
LAST-MODIFIED:20260416T183652Z
UID:10006542-1779782400-1779793200@santacruzheritage.org
SUMMARY:Tubac Nature Center Bird Walk
DESCRIPTION:Meet at the Nature Center\, 50 Bridge Road\, Tubac. Sign in at the door. the leaders will select a section of the Anza Trail for the walk. All expertise levels welcomed. Bring binoculars.
URL:https://santacruzheritage.org/event/tubac-nature-center-bird-walk/2026-05-26/
LOCATION:Tubac Nature Center\, 50 Bridge Road\, Tubac\, AZ\, United States
CATEGORIES:Hikes
END:VEVENT
BEGIN:VEVENT
DTSTART;TZID=America/Phoenix:20260602T080000
DTEND;TZID=America/Phoenix:20260602T110000
DTSTAMP:20260423T002902
CREATED:20260416T183624Z
LAST-MODIFIED:20260416T183652Z
UID:10006543-1780387200-1780398000@santacruzheritage.org
SUMMARY:Tubac Nature Center Bird Walk
DESCRIPTION:Meet at the Nature Center\, 50 Bridge Road\, Tubac. Sign in at the door. the leaders will select a section of the Anza Trail for the walk. All expertise levels welcomed. Bring binoculars.
URL:https://santacruzheritage.org/event/tubac-nature-center-bird-walk/2026-06-02/
LOCATION:Tubac Nature Center\, 50 Bridge Road\, Tubac\, AZ\, United States
CATEGORIES:Hikes
END:VEVENT
END:VCALENDAR