BEGIN:VCALENDAR
VERSION:2.0
PRODID:-//Santa Cruz Valley National Heritage Area - ECPv6.15.20//NONSGML v1.0//EN
CALSCALE:GREGORIAN
METHOD:PUBLISH
X-WR-CALNAME:Santa Cruz Valley National Heritage Area
X-ORIGINAL-URL:https://santacruzheritage.org
X-WR-CALDESC:Events for Santa Cruz Valley National Heritage Area
REFRESH-INTERVAL;VALUE=DURATION:PT1H
X-Robots-Tag:noindex
X-PUBLISHED-TTL:PT1H
BEGIN:VTIMEZONE
TZID:America/Phoenix
BEGIN:STANDARD
TZOFFSETFROM:-0700
TZOFFSETTO:-0700
TZNAME:MST
DTSTART:20250101T000000
END:STANDARD
END:VTIMEZONE
BEGIN:VEVENT
DTSTART;TZID=America/Phoenix:20260425T080000
DTEND;TZID=America/Phoenix:20260425T170000
DTSTAMP:20260422T225100
CREATED:20251223T182930Z
LAST-MODIFIED:20260122T232611Z
UID:10004202-1777104000-1777136400@santacruzheritage.org
SUMMARY:Guided Birding Walks at Patagonia Sonoita Creek
DESCRIPTION:Join us for guided birding walks at Patagonia-Sonoita Creek Preserve in Southern Arizona on Saturday mornings\, starting November 1st\, 2025! \nLearn about the resident and migrating birds\, ranging from gray hawks to vermilion flycatchers to thick-billed kingbirds. Tours will also touch on the environmental history of the region surrounding the preserve. Birders of all levels are welcome. \nThe start time of the walks will vary depending on the point in the season\, so be sure to check the sign-up form to see when they will begin each week. The fee is $8 per person\, or $5 for Santa Cruz/Cochise County residents and TNC members. Free to Patagonia/Sonoita/Elgin residents and children under 17. Registration is required. \nPlease bring comfortable clothes and footwear to walk 1-2 miles\, a water bottle\, sun protection and snacks. We suggest bringing your own binoculars\, but the preserve has a limited number available for checkout. Read more about preserve regulations here. \nFor more information\, contact Preserve Manager Aaron at aaron.mrotek@tnc.org.
URL:https://santacruzheritage.org/event/guided-birding-walks-at-patagonia-sonoita-creek/2026-04-25/
LOCATION:Patagonia-Sonoita Creek Preserve Visitor Center\, 150 Blue Haven Road\, Patagonia\, Arizona\, 85624\, United States
END:VEVENT
BEGIN:VEVENT
DTSTART;TZID=America/Phoenix:20260502T080000
DTEND;TZID=America/Phoenix:20260502T170000
DTSTAMP:20260422T225100
CREATED:20251223T182930Z
LAST-MODIFIED:20260122T232611Z
UID:10004203-1777708800-1777741200@santacruzheritage.org
SUMMARY:Guided Birding Walks at Patagonia Sonoita Creek
DESCRIPTION:Join us for guided birding walks at Patagonia-Sonoita Creek Preserve in Southern Arizona on Saturday mornings\, starting November 1st\, 2025! \nLearn about the resident and migrating birds\, ranging from gray hawks to vermilion flycatchers to thick-billed kingbirds. Tours will also touch on the environmental history of the region surrounding the preserve. Birders of all levels are welcome. \nThe start time of the walks will vary depending on the point in the season\, so be sure to check the sign-up form to see when they will begin each week. The fee is $8 per person\, or $5 for Santa Cruz/Cochise County residents and TNC members. Free to Patagonia/Sonoita/Elgin residents and children under 17. Registration is required. \nPlease bring comfortable clothes and footwear to walk 1-2 miles\, a water bottle\, sun protection and snacks. We suggest bringing your own binoculars\, but the preserve has a limited number available for checkout. Read more about preserve regulations here. \nFor more information\, contact Preserve Manager Aaron at aaron.mrotek@tnc.org.
URL:https://santacruzheritage.org/event/guided-birding-walks-at-patagonia-sonoita-creek/2026-05-02/
LOCATION:Patagonia-Sonoita Creek Preserve Visitor Center\, 150 Blue Haven Road\, Patagonia\, Arizona\, 85624\, United States
END:VEVENT
BEGIN:VEVENT
DTSTART;TZID=America/Phoenix:20260509T080000
DTEND;TZID=America/Phoenix:20260509T170000
DTSTAMP:20260422T225100
CREATED:20251223T182930Z
LAST-MODIFIED:20260122T232611Z
UID:10004204-1778313600-1778346000@santacruzheritage.org
SUMMARY:Guided Birding Walks at Patagonia Sonoita Creek
DESCRIPTION:Join us for guided birding walks at Patagonia-Sonoita Creek Preserve in Southern Arizona on Saturday mornings\, starting November 1st\, 2025! \nLearn about the resident and migrating birds\, ranging from gray hawks to vermilion flycatchers to thick-billed kingbirds. Tours will also touch on the environmental history of the region surrounding the preserve. Birders of all levels are welcome. \nThe start time of the walks will vary depending on the point in the season\, so be sure to check the sign-up form to see when they will begin each week. The fee is $8 per person\, or $5 for Santa Cruz/Cochise County residents and TNC members. Free to Patagonia/Sonoita/Elgin residents and children under 17. Registration is required. \nPlease bring comfortable clothes and footwear to walk 1-2 miles\, a water bottle\, sun protection and snacks. We suggest bringing your own binoculars\, but the preserve has a limited number available for checkout. Read more about preserve regulations here. \nFor more information\, contact Preserve Manager Aaron at aaron.mrotek@tnc.org.
URL:https://santacruzheritage.org/event/guided-birding-walks-at-patagonia-sonoita-creek/2026-05-09/
LOCATION:Patagonia-Sonoita Creek Preserve Visitor Center\, 150 Blue Haven Road\, Patagonia\, Arizona\, 85624\, United States
END:VEVENT
BEGIN:VEVENT
DTSTART;TZID=America/Phoenix:20260516T080000
DTEND;TZID=America/Phoenix:20260516T170000
DTSTAMP:20260422T225100
CREATED:20251223T182930Z
LAST-MODIFIED:20260122T232611Z
UID:10004205-1778918400-1778950800@santacruzheritage.org
SUMMARY:Guided Birding Walks at Patagonia Sonoita Creek
DESCRIPTION:Join us for guided birding walks at Patagonia-Sonoita Creek Preserve in Southern Arizona on Saturday mornings\, starting November 1st\, 2025! \nLearn about the resident and migrating birds\, ranging from gray hawks to vermilion flycatchers to thick-billed kingbirds. Tours will also touch on the environmental history of the region surrounding the preserve. Birders of all levels are welcome. \nThe start time of the walks will vary depending on the point in the season\, so be sure to check the sign-up form to see when they will begin each week. The fee is $8 per person\, or $5 for Santa Cruz/Cochise County residents and TNC members. Free to Patagonia/Sonoita/Elgin residents and children under 17. Registration is required. \nPlease bring comfortable clothes and footwear to walk 1-2 miles\, a water bottle\, sun protection and snacks. We suggest bringing your own binoculars\, but the preserve has a limited number available for checkout. Read more about preserve regulations here. \nFor more information\, contact Preserve Manager Aaron at aaron.mrotek@tnc.org.
URL:https://santacruzheritage.org/event/guided-birding-walks-at-patagonia-sonoita-creek/2026-05-16/
LOCATION:Patagonia-Sonoita Creek Preserve Visitor Center\, 150 Blue Haven Road\, Patagonia\, Arizona\, 85624\, United States
END:VEVENT
END:VCALENDAR