BEGIN:VCALENDAR
VERSION:2.0
PRODID:-//Santa Cruz Valley National Heritage Area - ECPv6.15.20//NONSGML v1.0//EN
CALSCALE:GREGORIAN
METHOD:PUBLISH
X-WR-CALNAME:Santa Cruz Valley National Heritage Area
X-ORIGINAL-URL:https://santacruzheritage.org
X-WR-CALDESC:Events for Santa Cruz Valley National Heritage Area
REFRESH-INTERVAL;VALUE=DURATION:PT1H
X-Robots-Tag:noindex
X-PUBLISHED-TTL:PT1H
BEGIN:VTIMEZONE
TZID:America/Phoenix
BEGIN:STANDARD
TZOFFSETFROM:-0700
TZOFFSETTO:-0700
TZNAME:MST
DTSTART:20250101T000000
END:STANDARD
END:VTIMEZONE
BEGIN:VEVENT
DTSTART;TZID=America/Phoenix:20261003T090000
DTEND;TZID=America/Phoenix:20261003T100000
DTSTAMP:20260423T164541
CREATED:20250325T172454Z
LAST-MODIFIED:20260401T230953Z
UID:10003380-1791018000-1791021600@santacruzheritage.org
SUMMARY:Healing Herb Walk
DESCRIPTION:Learn about some of the 50 medicinal plants in Mission Garden’s Moore Medicinal Garden. The plants are native to the American Southwest deserts and in many cases have been used for millennia. Modern herbalists are keeping this tradition alive at Mission Garden.
URL:https://santacruzheritage.org/event/healing-herb-walk/2026-10-03/
LOCATION:Mission Garden\, 946 W Mission Ln\, Tucson\, AZ\, 85745
CATEGORIES:Hikes
ATTACH;FMTTYPE=image/jpeg:https://santacruzheritage.org/wp-content/uploads/2025/03/Texas2BRanger2Bin2BMichael2BMoore2BMedicinal2BGarden2B5BKendall2BKroesen5D.jpg
END:VEVENT
BEGIN:VEVENT
DTSTART;TZID=America/Phoenix:20261003T090000
DTEND;TZID=America/Phoenix:20261003T123000
DTSTAMP:20260423T164541
CREATED:20260416T194146Z
LAST-MODIFIED:20260416T194216Z
UID:10006888-1791018000-1791030600@santacruzheritage.org
SUMMARY:Boat Tours at Patagonia Lake State Park
DESCRIPTION:Every Saturday and Sunday\, $7 per adult\, $5 per child (13 years and under) \n  \n\n9 a.m. Avian Adventure Tour\n10:15 a.m. Avian Adventure Tour\n11:30 a.m. Lake Discovery Tour\nTwilight Tour on Saturdays only. Time varies.\n\n  \nPlease call the park to make your reservation: 520-287-2791.\nBoat rentals are available at the Patagonia Lake Marina.
URL:https://santacruzheritage.org/event/boat-tours-at-patagonia-lake-state-park/2026-10-03/
LOCATION:Patagonia Lake\, 400 Patagonia Lake Rd\, Patagonia\,\, AZ\, 85624\, United States
CATEGORIES:Youth Programming
END:VEVENT
BEGIN:VEVENT
DTSTART;TZID=America/Phoenix:20261004T090000
DTEND;TZID=America/Phoenix:20261004T123000
DTSTAMP:20260423T164541
CREATED:20260416T194146Z
LAST-MODIFIED:20260416T194216Z
UID:10006889-1791104400-1791117000@santacruzheritage.org
SUMMARY:Boat Tours at Patagonia Lake State Park
DESCRIPTION:Every Saturday and Sunday\, $7 per adult\, $5 per child (13 years and under) \n  \n\n9 a.m. Avian Adventure Tour\n10:15 a.m. Avian Adventure Tour\n11:30 a.m. Lake Discovery Tour\nTwilight Tour on Saturdays only. Time varies.\n\n  \nPlease call the park to make your reservation: 520-287-2791.\nBoat rentals are available at the Patagonia Lake Marina.
URL:https://santacruzheritage.org/event/boat-tours-at-patagonia-lake-state-park/2026-10-04/
LOCATION:Patagonia Lake\, 400 Patagonia Lake Rd\, Patagonia\,\, AZ\, 85624\, United States
CATEGORIES:Youth Programming
END:VEVENT
BEGIN:VEVENT
DTSTART;TZID=America/Phoenix:20261008T080000
DTEND;TZID=America/Phoenix:20261008T093000
DTSTAMP:20260423T164541
CREATED:20241212T041700Z
LAST-MODIFIED:20260122T233710Z
UID:10003582-1791446400-1791451800@santacruzheritage.org
SUMMARY:Monthly Bird Walk
DESCRIPTION:Walk around Mission Garden to look for seasonal and resident birds. Learn to identify some common calls and songs of the birds here. The garden is a good place for beginning and intermediate birders to learn about many of the birds common to the greater Tucson area. Check in with Kevin (the roadrunner) and our resident chickens. We always check the hummingbird feeder to see what hummingbirds are visiting it! \nWalks usually last about one and half hours. Walking is easy in the garden and the paths\, while not paved\, are made of compacted material that is ADA compatible and suitable for wheelchairs and walkers. The length of this walk is 0.50 to 0.75 mile.
URL:https://santacruzheritage.org/event/monthly-bird-walk/2026-10-08/
LOCATION:Mission Garden\, 946 W Mission Ln\, Tucson\, AZ\, 85745
CATEGORIES:Tours
ATTACH;FMTTYPE=image/png:https://santacruzheritage.org/wp-content/uploads/2024/11/Erica-Freese-Entry-1.png
END:VEVENT
BEGIN:VEVENT
DTSTART;TZID=America/Phoenix:20261008T080000
DTEND;TZID=America/Phoenix:20261008T093000
DTSTAMP:20260423T164541
CREATED:20250507T212211Z
LAST-MODIFIED:20260402T220814Z
UID:10003640-1791446400-1791451800@santacruzheritage.org
SUMMARY:Birds of Mission Garden
DESCRIPTION:At Mission Garden\, meet at the front gate\n \nWalk around beautiful Mission Garden with one of the garden’s expert birders. We’ll look for seasonal and resident birds and learn to identify some common calls and songs. The garden is a good place for beginning and intermediate birders to learn about many of the birds common to the greater Tucson area. Check in with the roadrunners. We always check the hummingbird feeder! Take the opportunity to learn about the history of Tucson’s agriculture and some of the crops that have been important here.
URL:https://santacruzheritage.org/event/birds-of-mission-garden/2026-10-08/
LOCATION:Mission Garden\, 946 W Mission Ln\, Tucson\, AZ\, 85745
ATTACH;FMTTYPE=image/png:https://santacruzheritage.org/wp-content/uploads/2025/05/quail.png
END:VEVENT
BEGIN:VEVENT
DTSTART;TZID=America/Phoenix:20261010T090000
DTEND;TZID=America/Phoenix:20261010T123000
DTSTAMP:20260423T164541
CREATED:20260416T194146Z
LAST-MODIFIED:20260416T194216Z
UID:10006890-1791622800-1791635400@santacruzheritage.org
SUMMARY:Boat Tours at Patagonia Lake State Park
DESCRIPTION:Every Saturday and Sunday\, $7 per adult\, $5 per child (13 years and under) \n  \n\n9 a.m. Avian Adventure Tour\n10:15 a.m. Avian Adventure Tour\n11:30 a.m. Lake Discovery Tour\nTwilight Tour on Saturdays only. Time varies.\n\n  \nPlease call the park to make your reservation: 520-287-2791.\nBoat rentals are available at the Patagonia Lake Marina.
URL:https://santacruzheritage.org/event/boat-tours-at-patagonia-lake-state-park/2026-10-10/
LOCATION:Patagonia Lake\, 400 Patagonia Lake Rd\, Patagonia\,\, AZ\, 85624\, United States
CATEGORIES:Youth Programming
END:VEVENT
BEGIN:VEVENT
DTSTART;TZID=America/Phoenix:20261010T110000
DTEND;TZID=America/Phoenix:20261010T120000
DTSTAMP:20260423T164541
CREATED:20260416T190626Z
LAST-MODIFIED:20260416T190626Z
UID:10006803-1791630000-1791633600@santacruzheritage.org
SUMMARY:Docent Led Tour
DESCRIPTION:Docent Led Tour of the Empire Ranch House. 11 am to noon. Reservations are required by 5 pm the day before the tour. Click here to make a reservation. Free. Meet at the Visitor Contact Station.
URL:https://santacruzheritage.org/event/docent-led-tour/2026-10-10/
LOCATION:Empire Ranch\, 16655 E. Empire Ranch Rd\, Sonoita\, 85637\, United States
CATEGORIES:History,Tours
ORGANIZER;CN="Empire Ranch Foundation":MAILTO:admin@empireranchfoundation.org
END:VEVENT
BEGIN:VEVENT
DTSTART;TZID=America/Phoenix:20261010T170000
DTEND;TZID=America/Phoenix:20261010T190000
DTSTAMP:20260423T164541
CREATED:20241221T041424Z
LAST-MODIFIED:20250306T022426Z
UID:10002357-1791651600-1791658800@santacruzheritage.org
SUMMARY:Living Lab & Learning Center Tour
DESCRIPTION:Our guided Living Lab Tours happen every 2nd and 4th Saturdays of the month. You’ll be led through our demonstration site by one of our Docents to learn about our many water harvesting systems firsthand.
URL:https://santacruzheritage.org/event/living-lab-learning-center-tour-2/2026-10-10/
LOCATION:Watershed Management Group\, 1137 N Dodge Blvd.\, Tucson\, AZ\, 85716
CATEGORIES:Tours
ATTACH;FMTTYPE=image/png:https://santacruzheritage.org/wp-content/uploads/2024/12/Screenshot-2024-12-23-at-12.17.42 PM.png
END:VEVENT
BEGIN:VEVENT
DTSTART;TZID=America/Phoenix:20261011T090000
DTEND;TZID=America/Phoenix:20261011T123000
DTSTAMP:20260423T164541
CREATED:20260416T194146Z
LAST-MODIFIED:20260416T194216Z
UID:10006891-1791709200-1791721800@santacruzheritage.org
SUMMARY:Boat Tours at Patagonia Lake State Park
DESCRIPTION:Every Saturday and Sunday\, $7 per adult\, $5 per child (13 years and under) \n  \n\n9 a.m. Avian Adventure Tour\n10:15 a.m. Avian Adventure Tour\n11:30 a.m. Lake Discovery Tour\nTwilight Tour on Saturdays only. Time varies.\n\n  \nPlease call the park to make your reservation: 520-287-2791.\nBoat rentals are available at the Patagonia Lake Marina.
URL:https://santacruzheritage.org/event/boat-tours-at-patagonia-lake-state-park/2026-10-11/
LOCATION:Patagonia Lake\, 400 Patagonia Lake Rd\, Patagonia\,\, AZ\, 85624\, United States
CATEGORIES:Youth Programming
END:VEVENT
BEGIN:VEVENT
DTSTART;TZID=America/Phoenix:20261017T090000
DTEND;TZID=America/Phoenix:20261017T123000
DTSTAMP:20260423T164541
CREATED:20260416T194146Z
LAST-MODIFIED:20260416T194216Z
UID:10006892-1792227600-1792240200@santacruzheritage.org
SUMMARY:Boat Tours at Patagonia Lake State Park
DESCRIPTION:Every Saturday and Sunday\, $7 per adult\, $5 per child (13 years and under) \n  \n\n9 a.m. Avian Adventure Tour\n10:15 a.m. Avian Adventure Tour\n11:30 a.m. Lake Discovery Tour\nTwilight Tour on Saturdays only. Time varies.\n\n  \nPlease call the park to make your reservation: 520-287-2791.\nBoat rentals are available at the Patagonia Lake Marina.
URL:https://santacruzheritage.org/event/boat-tours-at-patagonia-lake-state-park/2026-10-17/
LOCATION:Patagonia Lake\, 400 Patagonia Lake Rd\, Patagonia\,\, AZ\, 85624\, United States
CATEGORIES:Youth Programming
END:VEVENT
BEGIN:VEVENT
DTSTART;TZID=America/Phoenix:20261018T090000
DTEND;TZID=America/Phoenix:20261018T123000
DTSTAMP:20260423T164541
CREATED:20260416T194146Z
LAST-MODIFIED:20260416T194216Z
UID:10006893-1792314000-1792326600@santacruzheritage.org
SUMMARY:Boat Tours at Patagonia Lake State Park
DESCRIPTION:Every Saturday and Sunday\, $7 per adult\, $5 per child (13 years and under) \n  \n\n9 a.m. Avian Adventure Tour\n10:15 a.m. Avian Adventure Tour\n11:30 a.m. Lake Discovery Tour\nTwilight Tour on Saturdays only. Time varies.\n\n  \nPlease call the park to make your reservation: 520-287-2791.\nBoat rentals are available at the Patagonia Lake Marina.
URL:https://santacruzheritage.org/event/boat-tours-at-patagonia-lake-state-park/2026-10-18/
LOCATION:Patagonia Lake\, 400 Patagonia Lake Rd\, Patagonia\,\, AZ\, 85624\, United States
CATEGORIES:Youth Programming
END:VEVENT
BEGIN:VEVENT
DTSTART;TZID=America/Phoenix:20261024T080000
DTEND;TZID=America/Phoenix:20261024T110000
DTSTAMP:20260423T164541
CREATED:20250508T162956Z
LAST-MODIFIED:20260122T232744Z
UID:10003776-1792828800-1792839600@santacruzheritage.org
SUMMARY:Archaeology Day
DESCRIPTION:At our monthly (fourth Saturday) Archaeology Day\, representatives of Tucson’s archaeology community come to Mission Garden to teach practical hands-on skills. Archaeology Southwest will be doing their Hands-on Archaeology program. It allows kids of all ages to try out fascinating ancient technologies. Old Pueblo Archaeology Center is represented at these events\, also presenting interactive programs about things like pinch pots\, pendants\, and cordage. John Palacio speaks about and demonstrates making replicas of petroglyphs. Come join in any time between 8am and 11am.
URL:https://santacruzheritage.org/event/archaeology-day/2026-10-24/
LOCATION:Mission Garden\, 946 W Mission Ln\, Tucson\, AZ\, 85745
CATEGORIES:History,Youth Programming
ATTACH;FMTTYPE=image/png:https://santacruzheritage.org/wp-content/uploads/2025/05/PithouseinarchaeologicalexcavationAllenDenoyerHomerThiel.png
END:VEVENT
BEGIN:VEVENT
DTSTART;TZID=America/Phoenix:20261024T090000
DTEND;TZID=America/Phoenix:20261024T123000
DTSTAMP:20260423T164541
CREATED:20260416T194146Z
LAST-MODIFIED:20260416T194216Z
UID:10006894-1792832400-1792845000@santacruzheritage.org
SUMMARY:Boat Tours at Patagonia Lake State Park
DESCRIPTION:Every Saturday and Sunday\, $7 per adult\, $5 per child (13 years and under) \n  \n\n9 a.m. Avian Adventure Tour\n10:15 a.m. Avian Adventure Tour\n11:30 a.m. Lake Discovery Tour\nTwilight Tour on Saturdays only. Time varies.\n\n  \nPlease call the park to make your reservation: 520-287-2791.\nBoat rentals are available at the Patagonia Lake Marina.
URL:https://santacruzheritage.org/event/boat-tours-at-patagonia-lake-state-park/2026-10-24/
LOCATION:Patagonia Lake\, 400 Patagonia Lake Rd\, Patagonia\,\, AZ\, 85624\, United States
CATEGORIES:Youth Programming
END:VEVENT
BEGIN:VEVENT
DTSTART;TZID=America/Phoenix:20261024T100000
DTEND;TZID=America/Phoenix:20261024T120000
DTSTAMP:20260423T164541
CREATED:20250307T143126Z
LAST-MODIFIED:20260122T233016Z
UID:10003278-1792836000-1792843200@santacruzheritage.org
SUMMARY:Living Lab & Learning Center Tour
DESCRIPTION:Our guided Living Lab Tours happen every 2nd and 4th Saturdays of the month. You’ll be led through our demonstration site by one of our Docents to learn about our many water harvesting systems firsthand.
URL:https://santacruzheritage.org/event/living-lab-learning-center-tour-3/2026-10-24/
LOCATION:Watershed Management Group\, 1137 N Dodge Blvd.\, Tucson\, AZ\, 85716
CATEGORIES:Tours
ATTACH;FMTTYPE=image/png:https://santacruzheritage.org/wp-content/uploads/2024/12/Screenshot-2024-12-23-at-12.17.42 PM.png
END:VEVENT
BEGIN:VEVENT
DTSTART;TZID=America/Phoenix:20261024T110000
DTEND;TZID=America/Phoenix:20261024T120000
DTSTAMP:20260423T164541
CREATED:20260416T190857Z
LAST-MODIFIED:20260416T190857Z
UID:10006823-1792839600-1792843200@santacruzheritage.org
SUMMARY:Docent Led Tour
DESCRIPTION:Docent Led Tour of the Empire Ranch House. 11 am to noon. Reservations are required by 5 pm the day before the tour. Click here to make a reservation. Free. Meet at the Visitor Contact Station.
URL:https://santacruzheritage.org/event/docent-led-tour-2/2026-10-24/
LOCATION:Empire Ranch\, 16655 E. Empire Ranch Rd\, Sonoita\, 85637\, United States
CATEGORIES:History,Tours
ORGANIZER;CN="Empire Ranch Foundation":MAILTO:admin@empireranchfoundation.org
END:VEVENT
BEGIN:VEVENT
DTSTART;TZID=America/Phoenix:20261025T090000
DTEND;TZID=America/Phoenix:20261025T123000
DTSTAMP:20260423T164541
CREATED:20260416T194146Z
LAST-MODIFIED:20260416T194216Z
UID:10006895-1792918800-1792931400@santacruzheritage.org
SUMMARY:Boat Tours at Patagonia Lake State Park
DESCRIPTION:Every Saturday and Sunday\, $7 per adult\, $5 per child (13 years and under) \n  \n\n9 a.m. Avian Adventure Tour\n10:15 a.m. Avian Adventure Tour\n11:30 a.m. Lake Discovery Tour\nTwilight Tour on Saturdays only. Time varies.\n\n  \nPlease call the park to make your reservation: 520-287-2791.\nBoat rentals are available at the Patagonia Lake Marina.
URL:https://santacruzheritage.org/event/boat-tours-at-patagonia-lake-state-park/2026-10-25/
LOCATION:Patagonia Lake\, 400 Patagonia Lake Rd\, Patagonia\,\, AZ\, 85624\, United States
CATEGORIES:Youth Programming
END:VEVENT
BEGIN:VEVENT
DTSTART;TZID=America/Phoenix:20261031T090000
DTEND;TZID=America/Phoenix:20261031T123000
DTSTAMP:20260423T164541
CREATED:20260416T194146Z
LAST-MODIFIED:20260416T194216Z
UID:10006896-1793437200-1793449800@santacruzheritage.org
SUMMARY:Boat Tours at Patagonia Lake State Park
DESCRIPTION:Every Saturday and Sunday\, $7 per adult\, $5 per child (13 years and under) \n  \n\n9 a.m. Avian Adventure Tour\n10:15 a.m. Avian Adventure Tour\n11:30 a.m. Lake Discovery Tour\nTwilight Tour on Saturdays only. Time varies.\n\n  \nPlease call the park to make your reservation: 520-287-2791.\nBoat rentals are available at the Patagonia Lake Marina.
URL:https://santacruzheritage.org/event/boat-tours-at-patagonia-lake-state-park/2026-10-31/
LOCATION:Patagonia Lake\, 400 Patagonia Lake Rd\, Patagonia\,\, AZ\, 85624\, United States
CATEGORIES:Youth Programming
END:VEVENT
END:VCALENDAR