BEGIN:VCALENDAR
VERSION:2.0
PRODID:-//Santa Cruz Valley National Heritage Area - ECPv6.15.20//NONSGML v1.0//EN
CALSCALE:GREGORIAN
METHOD:PUBLISH
X-ORIGINAL-URL:https://santacruzheritage.org
X-WR-CALDESC:Events for Santa Cruz Valley National Heritage Area
REFRESH-INTERVAL;VALUE=DURATION:PT1H
X-Robots-Tag:noindex
X-PUBLISHED-TTL:PT1H
BEGIN:VTIMEZONE
TZID:America/Phoenix
BEGIN:STANDARD
TZOFFSETFROM:-0700
TZOFFSETTO:-0700
TZNAME:MST
DTSTART:20250101T000000
END:STANDARD
END:VTIMEZONE
BEGIN:VEVENT
DTSTART;TZID=America/Phoenix:20260429T090000
DTEND;TZID=America/Phoenix:20260429T170000
DTSTAMP:20260422T224325
CREATED:20260305T190819Z
LAST-MODIFIED:20260305T191658Z
UID:10005474-1777453200-1777482000@santacruzheritage.org
SUMMARY:ASARCO Self Guided Center Tours
DESCRIPTION:Since we opened our doors in 1997\, the ASARCO Mineral Discovery Center & Mine Tours’ vision has been to educate communities on the vital importance of the copper mining industry to our civilization\, to educate students and teachers in earth sciences\, and to preserve Arizona’s mining history. \nWe invite you to take our free self-guided tour of the center’s indoor and outdoor exhibits\, which walks through the copper transformation process. Afterward\, peruse the Company Store for unique and educational gifts.
URL:https://santacruzheritage.org/event/asarco-self-guided-center-tours/2026-04-29/
LOCATION:ASARCO Mineral Discovery Center\, 1421 W Pima Mine Rd\, Sahuarita\, 85629\, United States
CATEGORIES:History,Tours,Youth Programming
END:VEVENT
BEGIN:VEVENT
DTSTART;TZID=America/Phoenix:20260429T093000
DTEND;TZID=America/Phoenix:20260429T103000
DTSTAMP:20260422T224325
CREATED:20260305T191614Z
LAST-MODIFIED:20260305T191614Z
UID:10005776-1777455000-1777458600@santacruzheritage.org
SUMMARY:ASARCO
DESCRIPTION:The ASARCO Mineral Discovery Center & Mine Tours’ vision has been to educate communities on the vital importance of the copper mining industry to  civilization\, to educate students and teachers in earth sciences\, and to preserve Arizona’s mining history.’ \nJoin the mine tour for a firsthand look at the copper transformation process. Ticketed mine tours are approximately 65 minutes long. \nTours at 9:30 am\, 11:15 am\, 1:15 pm\, & 3:00 pm \nSPECIAL INSTRUCTIONS FOR THE MINE TOUR \n\n\nClosed-toed shoes are required to take the tour. No Crocs\, sandals\, or flip-flops will be allowed.\nWe suggest bringing a water bottle (filtered water station is available in the Center).\nPlease dress comfortably.
URL:https://santacruzheritage.org/event/asarco/2026-04-29/
LOCATION:ASARCO Mineral Discovery Center\, 1421 W Pima Mine Rd\, Sahuarita\, 85629\, United States
CATEGORIES:History,Tours,Youth Programming
END:VEVENT
BEGIN:VEVENT
DTSTART;TZID=America/Phoenix:20260430T090000
DTEND;TZID=America/Phoenix:20260430T170000
DTSTAMP:20260422T224325
CREATED:20260305T190819Z
LAST-MODIFIED:20260305T191658Z
UID:10005475-1777539600-1777568400@santacruzheritage.org
SUMMARY:ASARCO Self Guided Center Tours
DESCRIPTION:Since we opened our doors in 1997\, the ASARCO Mineral Discovery Center & Mine Tours’ vision has been to educate communities on the vital importance of the copper mining industry to our civilization\, to educate students and teachers in earth sciences\, and to preserve Arizona’s mining history. \nWe invite you to take our free self-guided tour of the center’s indoor and outdoor exhibits\, which walks through the copper transformation process. Afterward\, peruse the Company Store for unique and educational gifts.
URL:https://santacruzheritage.org/event/asarco-self-guided-center-tours/2026-04-30/
LOCATION:ASARCO Mineral Discovery Center\, 1421 W Pima Mine Rd\, Sahuarita\, 85629\, United States
CATEGORIES:History,Tours,Youth Programming
END:VEVENT
BEGIN:VEVENT
DTSTART;TZID=America/Phoenix:20260430T093000
DTEND;TZID=America/Phoenix:20260430T103000
DTSTAMP:20260422T224325
CREATED:20260305T191614Z
LAST-MODIFIED:20260305T191614Z
UID:10005777-1777541400-1777545000@santacruzheritage.org
SUMMARY:ASARCO
DESCRIPTION:The ASARCO Mineral Discovery Center & Mine Tours’ vision has been to educate communities on the vital importance of the copper mining industry to  civilization\, to educate students and teachers in earth sciences\, and to preserve Arizona’s mining history.’ \nJoin the mine tour for a firsthand look at the copper transformation process. Ticketed mine tours are approximately 65 minutes long. \nTours at 9:30 am\, 11:15 am\, 1:15 pm\, & 3:00 pm \nSPECIAL INSTRUCTIONS FOR THE MINE TOUR \n\n\nClosed-toed shoes are required to take the tour. No Crocs\, sandals\, or flip-flops will be allowed.\nWe suggest bringing a water bottle (filtered water station is available in the Center).\nPlease dress comfortably.
URL:https://santacruzheritage.org/event/asarco/2026-04-30/
LOCATION:ASARCO Mineral Discovery Center\, 1421 W Pima Mine Rd\, Sahuarita\, 85629\, United States
CATEGORIES:History,Tours,Youth Programming
END:VEVENT
BEGIN:VEVENT
DTSTART;TZID=America/Phoenix:20260502T090000
DTEND;TZID=America/Phoenix:20260502T123000
DTSTAMP:20260422T224325
CREATED:20260416T194146Z
LAST-MODIFIED:20260416T194216Z
UID:10006844-1777712400-1777725000@santacruzheritage.org
SUMMARY:Boat Tours at Patagonia Lake State Park
DESCRIPTION:Every Saturday and Sunday\, $7 per adult\, $5 per child (13 years and under) \n  \n\n9 a.m. Avian Adventure Tour\n10:15 a.m. Avian Adventure Tour\n11:30 a.m. Lake Discovery Tour\nTwilight Tour on Saturdays only. Time varies.\n\n  \nPlease call the park to make your reservation: 520-287-2791.\nBoat rentals are available at the Patagonia Lake Marina.
URL:https://santacruzheritage.org/event/boat-tours-at-patagonia-lake-state-park/2026-05-02/
LOCATION:Patagonia Lake\, 400 Patagonia Lake Rd\, Patagonia\,\, AZ\, 85624\, United States
CATEGORIES:Youth Programming
END:VEVENT
BEGIN:VEVENT
DTSTART;TZID=America/Phoenix:20260503T090000
DTEND;TZID=America/Phoenix:20260503T123000
DTSTAMP:20260422T224325
CREATED:20260416T194146Z
LAST-MODIFIED:20260416T194216Z
UID:10006845-1777798800-1777811400@santacruzheritage.org
SUMMARY:Boat Tours at Patagonia Lake State Park
DESCRIPTION:Every Saturday and Sunday\, $7 per adult\, $5 per child (13 years and under) \n  \n\n9 a.m. Avian Adventure Tour\n10:15 a.m. Avian Adventure Tour\n11:30 a.m. Lake Discovery Tour\nTwilight Tour on Saturdays only. Time varies.\n\n  \nPlease call the park to make your reservation: 520-287-2791.\nBoat rentals are available at the Patagonia Lake Marina.
URL:https://santacruzheritage.org/event/boat-tours-at-patagonia-lake-state-park/2026-05-03/
LOCATION:Patagonia Lake\, 400 Patagonia Lake Rd\, Patagonia\,\, AZ\, 85624\, United States
CATEGORIES:Youth Programming
END:VEVENT
BEGIN:VEVENT
DTSTART;TZID=America/Phoenix:20260509T090000
DTEND;TZID=America/Phoenix:20260509T123000
DTSTAMP:20260422T224325
CREATED:20260416T194146Z
LAST-MODIFIED:20260416T194216Z
UID:10006846-1778317200-1778329800@santacruzheritage.org
SUMMARY:Boat Tours at Patagonia Lake State Park
DESCRIPTION:Every Saturday and Sunday\, $7 per adult\, $5 per child (13 years and under) \n  \n\n9 a.m. Avian Adventure Tour\n10:15 a.m. Avian Adventure Tour\n11:30 a.m. Lake Discovery Tour\nTwilight Tour on Saturdays only. Time varies.\n\n  \nPlease call the park to make your reservation: 520-287-2791.\nBoat rentals are available at the Patagonia Lake Marina.
URL:https://santacruzheritage.org/event/boat-tours-at-patagonia-lake-state-park/2026-05-09/
LOCATION:Patagonia Lake\, 400 Patagonia Lake Rd\, Patagonia\,\, AZ\, 85624\, United States
CATEGORIES:Youth Programming
END:VEVENT
BEGIN:VEVENT
DTSTART;TZID=America/Phoenix:20260510T090000
DTEND;TZID=America/Phoenix:20260510T123000
DTSTAMP:20260422T224325
CREATED:20260416T194146Z
LAST-MODIFIED:20260416T194216Z
UID:10006847-1778403600-1778416200@santacruzheritage.org
SUMMARY:Boat Tours at Patagonia Lake State Park
DESCRIPTION:Every Saturday and Sunday\, $7 per adult\, $5 per child (13 years and under) \n  \n\n9 a.m. Avian Adventure Tour\n10:15 a.m. Avian Adventure Tour\n11:30 a.m. Lake Discovery Tour\nTwilight Tour on Saturdays only. Time varies.\n\n  \nPlease call the park to make your reservation: 520-287-2791.\nBoat rentals are available at the Patagonia Lake Marina.
URL:https://santacruzheritage.org/event/boat-tours-at-patagonia-lake-state-park/2026-05-10/
LOCATION:Patagonia Lake\, 400 Patagonia Lake Rd\, Patagonia\,\, AZ\, 85624\, United States
CATEGORIES:Youth Programming
END:VEVENT
BEGIN:VEVENT
DTSTART;TZID=America/Phoenix:20260516T090000
DTEND;TZID=America/Phoenix:20260516T123000
DTSTAMP:20260422T224325
CREATED:20260416T194146Z
LAST-MODIFIED:20260416T194216Z
UID:10006848-1778922000-1778934600@santacruzheritage.org
SUMMARY:Boat Tours at Patagonia Lake State Park
DESCRIPTION:Every Saturday and Sunday\, $7 per adult\, $5 per child (13 years and under) \n  \n\n9 a.m. Avian Adventure Tour\n10:15 a.m. Avian Adventure Tour\n11:30 a.m. Lake Discovery Tour\nTwilight Tour on Saturdays only. Time varies.\n\n  \nPlease call the park to make your reservation: 520-287-2791.\nBoat rentals are available at the Patagonia Lake Marina.
URL:https://santacruzheritage.org/event/boat-tours-at-patagonia-lake-state-park/2026-05-16/
LOCATION:Patagonia Lake\, 400 Patagonia Lake Rd\, Patagonia\,\, AZ\, 85624\, United States
CATEGORIES:Youth Programming
END:VEVENT
BEGIN:VEVENT
DTSTART;TZID=America/Phoenix:20260517T090000
DTEND;TZID=America/Phoenix:20260517T123000
DTSTAMP:20260422T224325
CREATED:20260416T194146Z
LAST-MODIFIED:20260416T194216Z
UID:10006849-1779008400-1779021000@santacruzheritage.org
SUMMARY:Boat Tours at Patagonia Lake State Park
DESCRIPTION:Every Saturday and Sunday\, $7 per adult\, $5 per child (13 years and under) \n  \n\n9 a.m. Avian Adventure Tour\n10:15 a.m. Avian Adventure Tour\n11:30 a.m. Lake Discovery Tour\nTwilight Tour on Saturdays only. Time varies.\n\n  \nPlease call the park to make your reservation: 520-287-2791.\nBoat rentals are available at the Patagonia Lake Marina.
URL:https://santacruzheritage.org/event/boat-tours-at-patagonia-lake-state-park/2026-05-17/
LOCATION:Patagonia Lake\, 400 Patagonia Lake Rd\, Patagonia\,\, AZ\, 85624\, United States
CATEGORIES:Youth Programming
END:VEVENT
BEGIN:VEVENT
DTSTART;TZID=America/Phoenix:20260523T080000
DTEND;TZID=America/Phoenix:20260523T110000
DTSTAMP:20260422T224325
CREATED:20250508T162956Z
LAST-MODIFIED:20260122T232744Z
UID:10003771-1779523200-1779534000@santacruzheritage.org
SUMMARY:Archaeology Day
DESCRIPTION:At our monthly (fourth Saturday) Archaeology Day\, representatives of Tucson’s archaeology community come to Mission Garden to teach practical hands-on skills. Archaeology Southwest will be doing their Hands-on Archaeology program. It allows kids of all ages to try out fascinating ancient technologies. Old Pueblo Archaeology Center is represented at these events\, also presenting interactive programs about things like pinch pots\, pendants\, and cordage. John Palacio speaks about and demonstrates making replicas of petroglyphs. Come join in any time between 8am and 11am.
URL:https://santacruzheritage.org/event/archaeology-day/2026-05-23/
LOCATION:Mission Garden\, 946 W Mission Ln\, Tucson\, AZ\, 85745
CATEGORIES:History,Youth Programming
ATTACH;FMTTYPE=image/png:https://santacruzheritage.org/wp-content/uploads/2025/05/PithouseinarchaeologicalexcavationAllenDenoyerHomerThiel.png
END:VEVENT
BEGIN:VEVENT
DTSTART;TZID=America/Phoenix:20260523T090000
DTEND;TZID=America/Phoenix:20260523T123000
DTSTAMP:20260422T224325
CREATED:20260416T194146Z
LAST-MODIFIED:20260416T194216Z
UID:10006850-1779526800-1779539400@santacruzheritage.org
SUMMARY:Boat Tours at Patagonia Lake State Park
DESCRIPTION:Every Saturday and Sunday\, $7 per adult\, $5 per child (13 years and under) \n  \n\n9 a.m. Avian Adventure Tour\n10:15 a.m. Avian Adventure Tour\n11:30 a.m. Lake Discovery Tour\nTwilight Tour on Saturdays only. Time varies.\n\n  \nPlease call the park to make your reservation: 520-287-2791.\nBoat rentals are available at the Patagonia Lake Marina.
URL:https://santacruzheritage.org/event/boat-tours-at-patagonia-lake-state-park/2026-05-23/
LOCATION:Patagonia Lake\, 400 Patagonia Lake Rd\, Patagonia\,\, AZ\, 85624\, United States
CATEGORIES:Youth Programming
END:VEVENT
BEGIN:VEVENT
DTSTART;TZID=America/Phoenix:20260524T090000
DTEND;TZID=America/Phoenix:20260524T123000
DTSTAMP:20260422T224325
CREATED:20260416T194146Z
LAST-MODIFIED:20260416T194216Z
UID:10006851-1779613200-1779625800@santacruzheritage.org
SUMMARY:Boat Tours at Patagonia Lake State Park
DESCRIPTION:Every Saturday and Sunday\, $7 per adult\, $5 per child (13 years and under) \n  \n\n9 a.m. Avian Adventure Tour\n10:15 a.m. Avian Adventure Tour\n11:30 a.m. Lake Discovery Tour\nTwilight Tour on Saturdays only. Time varies.\n\n  \nPlease call the park to make your reservation: 520-287-2791.\nBoat rentals are available at the Patagonia Lake Marina.
URL:https://santacruzheritage.org/event/boat-tours-at-patagonia-lake-state-park/2026-05-24/
LOCATION:Patagonia Lake\, 400 Patagonia Lake Rd\, Patagonia\,\, AZ\, 85624\, United States
CATEGORIES:Youth Programming
END:VEVENT
BEGIN:VEVENT
DTSTART;TZID=America/Phoenix:20260530T090000
DTEND;TZID=America/Phoenix:20260530T123000
DTSTAMP:20260422T224325
CREATED:20260416T194146Z
LAST-MODIFIED:20260416T194216Z
UID:10006852-1780131600-1780144200@santacruzheritage.org
SUMMARY:Boat Tours at Patagonia Lake State Park
DESCRIPTION:Every Saturday and Sunday\, $7 per adult\, $5 per child (13 years and under) \n  \n\n9 a.m. Avian Adventure Tour\n10:15 a.m. Avian Adventure Tour\n11:30 a.m. Lake Discovery Tour\nTwilight Tour on Saturdays only. Time varies.\n\n  \nPlease call the park to make your reservation: 520-287-2791.\nBoat rentals are available at the Patagonia Lake Marina.
URL:https://santacruzheritage.org/event/boat-tours-at-patagonia-lake-state-park/2026-05-30/
LOCATION:Patagonia Lake\, 400 Patagonia Lake Rd\, Patagonia\,\, AZ\, 85624\, United States
CATEGORIES:Youth Programming
END:VEVENT
BEGIN:VEVENT
DTSTART;TZID=America/Phoenix:20260531T090000
DTEND;TZID=America/Phoenix:20260531T123000
DTSTAMP:20260422T224325
CREATED:20260416T194146Z
LAST-MODIFIED:20260416T194216Z
UID:10006853-1780218000-1780230600@santacruzheritage.org
SUMMARY:Boat Tours at Patagonia Lake State Park
DESCRIPTION:Every Saturday and Sunday\, $7 per adult\, $5 per child (13 years and under) \n  \n\n9 a.m. Avian Adventure Tour\n10:15 a.m. Avian Adventure Tour\n11:30 a.m. Lake Discovery Tour\nTwilight Tour on Saturdays only. Time varies.\n\n  \nPlease call the park to make your reservation: 520-287-2791.\nBoat rentals are available at the Patagonia Lake Marina.
URL:https://santacruzheritage.org/event/boat-tours-at-patagonia-lake-state-park/2026-05-31/
LOCATION:Patagonia Lake\, 400 Patagonia Lake Rd\, Patagonia\,\, AZ\, 85624\, United States
CATEGORIES:Youth Programming
END:VEVENT
BEGIN:VEVENT
DTSTART;TZID=America/Phoenix:20260606T090000
DTEND;TZID=America/Phoenix:20260606T123000
DTSTAMP:20260422T224325
CREATED:20260416T194146Z
LAST-MODIFIED:20260416T194216Z
UID:10006854-1780736400-1780749000@santacruzheritage.org
SUMMARY:Boat Tours at Patagonia Lake State Park
DESCRIPTION:Every Saturday and Sunday\, $7 per adult\, $5 per child (13 years and under) \n  \n\n9 a.m. Avian Adventure Tour\n10:15 a.m. Avian Adventure Tour\n11:30 a.m. Lake Discovery Tour\nTwilight Tour on Saturdays only. Time varies.\n\n  \nPlease call the park to make your reservation: 520-287-2791.\nBoat rentals are available at the Patagonia Lake Marina.
URL:https://santacruzheritage.org/event/boat-tours-at-patagonia-lake-state-park/2026-06-06/
LOCATION:Patagonia Lake\, 400 Patagonia Lake Rd\, Patagonia\,\, AZ\, 85624\, United States
CATEGORIES:Youth Programming
END:VEVENT
BEGIN:VEVENT
DTSTART;TZID=America/Phoenix:20260607T090000
DTEND;TZID=America/Phoenix:20260607T123000
DTSTAMP:20260422T224325
CREATED:20260416T194146Z
LAST-MODIFIED:20260416T194216Z
UID:10006855-1780822800-1780835400@santacruzheritage.org
SUMMARY:Boat Tours at Patagonia Lake State Park
DESCRIPTION:Every Saturday and Sunday\, $7 per adult\, $5 per child (13 years and under) \n  \n\n9 a.m. Avian Adventure Tour\n10:15 a.m. Avian Adventure Tour\n11:30 a.m. Lake Discovery Tour\nTwilight Tour on Saturdays only. Time varies.\n\n  \nPlease call the park to make your reservation: 520-287-2791.\nBoat rentals are available at the Patagonia Lake Marina.
URL:https://santacruzheritage.org/event/boat-tours-at-patagonia-lake-state-park/2026-06-07/
LOCATION:Patagonia Lake\, 400 Patagonia Lake Rd\, Patagonia\,\, AZ\, 85624\, United States
CATEGORIES:Youth Programming
END:VEVENT
BEGIN:VEVENT
DTSTART;TZID=America/Phoenix:20260613T090000
DTEND;TZID=America/Phoenix:20260613T123000
DTSTAMP:20260422T224325
CREATED:20260416T194146Z
LAST-MODIFIED:20260416T194216Z
UID:10006856-1781341200-1781353800@santacruzheritage.org
SUMMARY:Boat Tours at Patagonia Lake State Park
DESCRIPTION:Every Saturday and Sunday\, $7 per adult\, $5 per child (13 years and under) \n  \n\n9 a.m. Avian Adventure Tour\n10:15 a.m. Avian Adventure Tour\n11:30 a.m. Lake Discovery Tour\nTwilight Tour on Saturdays only. Time varies.\n\n  \nPlease call the park to make your reservation: 520-287-2791.\nBoat rentals are available at the Patagonia Lake Marina.
URL:https://santacruzheritage.org/event/boat-tours-at-patagonia-lake-state-park/2026-06-13/
LOCATION:Patagonia Lake\, 400 Patagonia Lake Rd\, Patagonia\,\, AZ\, 85624\, United States
CATEGORIES:Youth Programming
END:VEVENT
BEGIN:VEVENT
DTSTART;TZID=America/Phoenix:20260614T090000
DTEND;TZID=America/Phoenix:20260614T123000
DTSTAMP:20260422T224325
CREATED:20260416T194146Z
LAST-MODIFIED:20260416T194216Z
UID:10006857-1781427600-1781440200@santacruzheritage.org
SUMMARY:Boat Tours at Patagonia Lake State Park
DESCRIPTION:Every Saturday and Sunday\, $7 per adult\, $5 per child (13 years and under) \n  \n\n9 a.m. Avian Adventure Tour\n10:15 a.m. Avian Adventure Tour\n11:30 a.m. Lake Discovery Tour\nTwilight Tour on Saturdays only. Time varies.\n\n  \nPlease call the park to make your reservation: 520-287-2791.\nBoat rentals are available at the Patagonia Lake Marina.
URL:https://santacruzheritage.org/event/boat-tours-at-patagonia-lake-state-park/2026-06-14/
LOCATION:Patagonia Lake\, 400 Patagonia Lake Rd\, Patagonia\,\, AZ\, 85624\, United States
CATEGORIES:Youth Programming
END:VEVENT
BEGIN:VEVENT
DTSTART;TZID=America/Phoenix:20260620T090000
DTEND;TZID=America/Phoenix:20260620T123000
DTSTAMP:20260422T224325
CREATED:20260416T194146Z
LAST-MODIFIED:20260416T194216Z
UID:10006858-1781946000-1781958600@santacruzheritage.org
SUMMARY:Boat Tours at Patagonia Lake State Park
DESCRIPTION:Every Saturday and Sunday\, $7 per adult\, $5 per child (13 years and under) \n  \n\n9 a.m. Avian Adventure Tour\n10:15 a.m. Avian Adventure Tour\n11:30 a.m. Lake Discovery Tour\nTwilight Tour on Saturdays only. Time varies.\n\n  \nPlease call the park to make your reservation: 520-287-2791.\nBoat rentals are available at the Patagonia Lake Marina.
URL:https://santacruzheritage.org/event/boat-tours-at-patagonia-lake-state-park/2026-06-20/
LOCATION:Patagonia Lake\, 400 Patagonia Lake Rd\, Patagonia\,\, AZ\, 85624\, United States
CATEGORIES:Youth Programming
END:VEVENT
BEGIN:VEVENT
DTSTART;TZID=America/Phoenix:20260621T090000
DTEND;TZID=America/Phoenix:20260621T123000
DTSTAMP:20260422T224325
CREATED:20260416T194146Z
LAST-MODIFIED:20260416T194216Z
UID:10006859-1782032400-1782045000@santacruzheritage.org
SUMMARY:Boat Tours at Patagonia Lake State Park
DESCRIPTION:Every Saturday and Sunday\, $7 per adult\, $5 per child (13 years and under) \n  \n\n9 a.m. Avian Adventure Tour\n10:15 a.m. Avian Adventure Tour\n11:30 a.m. Lake Discovery Tour\nTwilight Tour on Saturdays only. Time varies.\n\n  \nPlease call the park to make your reservation: 520-287-2791.\nBoat rentals are available at the Patagonia Lake Marina.
URL:https://santacruzheritage.org/event/boat-tours-at-patagonia-lake-state-park/2026-06-21/
LOCATION:Patagonia Lake\, 400 Patagonia Lake Rd\, Patagonia\,\, AZ\, 85624\, United States
CATEGORIES:Youth Programming
END:VEVENT
BEGIN:VEVENT
DTSTART;TZID=America/Phoenix:20260627T080000
DTEND;TZID=America/Phoenix:20260627T110000
DTSTAMP:20260422T224325
CREATED:20250508T162956Z
LAST-MODIFIED:20260122T232744Z
UID:10003772-1782547200-1782558000@santacruzheritage.org
SUMMARY:Archaeology Day
DESCRIPTION:At our monthly (fourth Saturday) Archaeology Day\, representatives of Tucson’s archaeology community come to Mission Garden to teach practical hands-on skills. Archaeology Southwest will be doing their Hands-on Archaeology program. It allows kids of all ages to try out fascinating ancient technologies. Old Pueblo Archaeology Center is represented at these events\, also presenting interactive programs about things like pinch pots\, pendants\, and cordage. John Palacio speaks about and demonstrates making replicas of petroglyphs. Come join in any time between 8am and 11am.
URL:https://santacruzheritage.org/event/archaeology-day/2026-06-27/
LOCATION:Mission Garden\, 946 W Mission Ln\, Tucson\, AZ\, 85745
CATEGORIES:History,Youth Programming
ATTACH;FMTTYPE=image/png:https://santacruzheritage.org/wp-content/uploads/2025/05/PithouseinarchaeologicalexcavationAllenDenoyerHomerThiel.png
END:VEVENT
BEGIN:VEVENT
DTSTART;TZID=America/Phoenix:20260627T090000
DTEND;TZID=America/Phoenix:20260627T123000
DTSTAMP:20260422T224325
CREATED:20260416T194146Z
LAST-MODIFIED:20260416T194216Z
UID:10006860-1782550800-1782563400@santacruzheritage.org
SUMMARY:Boat Tours at Patagonia Lake State Park
DESCRIPTION:Every Saturday and Sunday\, $7 per adult\, $5 per child (13 years and under) \n  \n\n9 a.m. Avian Adventure Tour\n10:15 a.m. Avian Adventure Tour\n11:30 a.m. Lake Discovery Tour\nTwilight Tour on Saturdays only. Time varies.\n\n  \nPlease call the park to make your reservation: 520-287-2791.\nBoat rentals are available at the Patagonia Lake Marina.
URL:https://santacruzheritage.org/event/boat-tours-at-patagonia-lake-state-park/2026-06-27/
LOCATION:Patagonia Lake\, 400 Patagonia Lake Rd\, Patagonia\,\, AZ\, 85624\, United States
CATEGORIES:Youth Programming
END:VEVENT
BEGIN:VEVENT
DTSTART;TZID=America/Phoenix:20260628T090000
DTEND;TZID=America/Phoenix:20260628T123000
DTSTAMP:20260422T224325
CREATED:20260416T194146Z
LAST-MODIFIED:20260416T194216Z
UID:10006861-1782637200-1782649800@santacruzheritage.org
SUMMARY:Boat Tours at Patagonia Lake State Park
DESCRIPTION:Every Saturday and Sunday\, $7 per adult\, $5 per child (13 years and under) \n  \n\n9 a.m. Avian Adventure Tour\n10:15 a.m. Avian Adventure Tour\n11:30 a.m. Lake Discovery Tour\nTwilight Tour on Saturdays only. Time varies.\n\n  \nPlease call the park to make your reservation: 520-287-2791.\nBoat rentals are available at the Patagonia Lake Marina.
URL:https://santacruzheritage.org/event/boat-tours-at-patagonia-lake-state-park/2026-06-28/
LOCATION:Patagonia Lake\, 400 Patagonia Lake Rd\, Patagonia\,\, AZ\, 85624\, United States
CATEGORIES:Youth Programming
END:VEVENT
BEGIN:VEVENT
DTSTART;TZID=America/Phoenix:20260704T090000
DTEND;TZID=America/Phoenix:20260704T123000
DTSTAMP:20260422T224325
CREATED:20260416T194146Z
LAST-MODIFIED:20260416T194216Z
UID:10006862-1783155600-1783168200@santacruzheritage.org
SUMMARY:Boat Tours at Patagonia Lake State Park
DESCRIPTION:Every Saturday and Sunday\, $7 per adult\, $5 per child (13 years and under) \n  \n\n9 a.m. Avian Adventure Tour\n10:15 a.m. Avian Adventure Tour\n11:30 a.m. Lake Discovery Tour\nTwilight Tour on Saturdays only. Time varies.\n\n  \nPlease call the park to make your reservation: 520-287-2791.\nBoat rentals are available at the Patagonia Lake Marina.
URL:https://santacruzheritage.org/event/boat-tours-at-patagonia-lake-state-park/2026-07-04/
LOCATION:Patagonia Lake\, 400 Patagonia Lake Rd\, Patagonia\,\, AZ\, 85624\, United States
CATEGORIES:Youth Programming
END:VEVENT
BEGIN:VEVENT
DTSTART;TZID=America/Phoenix:20260705T090000
DTEND;TZID=America/Phoenix:20260705T123000
DTSTAMP:20260422T224325
CREATED:20260416T194146Z
LAST-MODIFIED:20260416T194216Z
UID:10006863-1783242000-1783254600@santacruzheritage.org
SUMMARY:Boat Tours at Patagonia Lake State Park
DESCRIPTION:Every Saturday and Sunday\, $7 per adult\, $5 per child (13 years and under) \n  \n\n9 a.m. Avian Adventure Tour\n10:15 a.m. Avian Adventure Tour\n11:30 a.m. Lake Discovery Tour\nTwilight Tour on Saturdays only. Time varies.\n\n  \nPlease call the park to make your reservation: 520-287-2791.\nBoat rentals are available at the Patagonia Lake Marina.
URL:https://santacruzheritage.org/event/boat-tours-at-patagonia-lake-state-park/2026-07-05/
LOCATION:Patagonia Lake\, 400 Patagonia Lake Rd\, Patagonia\,\, AZ\, 85624\, United States
CATEGORIES:Youth Programming
END:VEVENT
BEGIN:VEVENT
DTSTART;TZID=America/Phoenix:20260711T090000
DTEND;TZID=America/Phoenix:20260711T123000
DTSTAMP:20260422T224325
CREATED:20260416T194146Z
LAST-MODIFIED:20260416T194216Z
UID:10006864-1783760400-1783773000@santacruzheritage.org
SUMMARY:Boat Tours at Patagonia Lake State Park
DESCRIPTION:Every Saturday and Sunday\, $7 per adult\, $5 per child (13 years and under) \n  \n\n9 a.m. Avian Adventure Tour\n10:15 a.m. Avian Adventure Tour\n11:30 a.m. Lake Discovery Tour\nTwilight Tour on Saturdays only. Time varies.\n\n  \nPlease call the park to make your reservation: 520-287-2791.\nBoat rentals are available at the Patagonia Lake Marina.
URL:https://santacruzheritage.org/event/boat-tours-at-patagonia-lake-state-park/2026-07-11/
LOCATION:Patagonia Lake\, 400 Patagonia Lake Rd\, Patagonia\,\, AZ\, 85624\, United States
CATEGORIES:Youth Programming
END:VEVENT
BEGIN:VEVENT
DTSTART;TZID=America/Phoenix:20260712T090000
DTEND;TZID=America/Phoenix:20260712T123000
DTSTAMP:20260422T224325
CREATED:20260416T194146Z
LAST-MODIFIED:20260416T194216Z
UID:10006865-1783846800-1783859400@santacruzheritage.org
SUMMARY:Boat Tours at Patagonia Lake State Park
DESCRIPTION:Every Saturday and Sunday\, $7 per adult\, $5 per child (13 years and under) \n  \n\n9 a.m. Avian Adventure Tour\n10:15 a.m. Avian Adventure Tour\n11:30 a.m. Lake Discovery Tour\nTwilight Tour on Saturdays only. Time varies.\n\n  \nPlease call the park to make your reservation: 520-287-2791.\nBoat rentals are available at the Patagonia Lake Marina.
URL:https://santacruzheritage.org/event/boat-tours-at-patagonia-lake-state-park/2026-07-12/
LOCATION:Patagonia Lake\, 400 Patagonia Lake Rd\, Patagonia\,\, AZ\, 85624\, United States
CATEGORIES:Youth Programming
END:VEVENT
BEGIN:VEVENT
DTSTART;TZID=America/Phoenix:20260718T090000
DTEND;TZID=America/Phoenix:20260718T123000
DTSTAMP:20260422T224325
CREATED:20260416T194146Z
LAST-MODIFIED:20260416T194216Z
UID:10006866-1784365200-1784377800@santacruzheritage.org
SUMMARY:Boat Tours at Patagonia Lake State Park
DESCRIPTION:Every Saturday and Sunday\, $7 per adult\, $5 per child (13 years and under) \n  \n\n9 a.m. Avian Adventure Tour\n10:15 a.m. Avian Adventure Tour\n11:30 a.m. Lake Discovery Tour\nTwilight Tour on Saturdays only. Time varies.\n\n  \nPlease call the park to make your reservation: 520-287-2791.\nBoat rentals are available at the Patagonia Lake Marina.
URL:https://santacruzheritage.org/event/boat-tours-at-patagonia-lake-state-park/2026-07-18/
LOCATION:Patagonia Lake\, 400 Patagonia Lake Rd\, Patagonia\,\, AZ\, 85624\, United States
CATEGORIES:Youth Programming
END:VEVENT
BEGIN:VEVENT
DTSTART;TZID=America/Phoenix:20260719T090000
DTEND;TZID=America/Phoenix:20260719T123000
DTSTAMP:20260422T224325
CREATED:20260416T194146Z
LAST-MODIFIED:20260416T194216Z
UID:10006867-1784451600-1784464200@santacruzheritage.org
SUMMARY:Boat Tours at Patagonia Lake State Park
DESCRIPTION:Every Saturday and Sunday\, $7 per adult\, $5 per child (13 years and under) \n  \n\n9 a.m. Avian Adventure Tour\n10:15 a.m. Avian Adventure Tour\n11:30 a.m. Lake Discovery Tour\nTwilight Tour on Saturdays only. Time varies.\n\n  \nPlease call the park to make your reservation: 520-287-2791.\nBoat rentals are available at the Patagonia Lake Marina.
URL:https://santacruzheritage.org/event/boat-tours-at-patagonia-lake-state-park/2026-07-19/
LOCATION:Patagonia Lake\, 400 Patagonia Lake Rd\, Patagonia\,\, AZ\, 85624\, United States
CATEGORIES:Youth Programming
END:VEVENT
END:VCALENDAR