BEGIN:VCALENDAR
VERSION:2.0
PRODID:-//Santa Cruz Valley National Heritage Area - ECPv6.15.20//NONSGML v1.0//EN
CALSCALE:GREGORIAN
METHOD:PUBLISH
X-ORIGINAL-URL:https://santacruzheritage.org
X-WR-CALDESC:Events for Santa Cruz Valley National Heritage Area
REFRESH-INTERVAL;VALUE=DURATION:PT1H
X-Robots-Tag:noindex
X-PUBLISHED-TTL:PT1H
BEGIN:VTIMEZONE
TZID:America/Phoenix
BEGIN:STANDARD
TZOFFSETFROM:-0700
TZOFFSETTO:-0700
TZNAME:MST
DTSTART:20250101T000000
END:STANDARD
END:VTIMEZONE
BEGIN:VEVENT
DTSTART;TZID=America/Phoenix:20260613T110000
DTEND;TZID=America/Phoenix:20260613T120000
DTSTAMP:20260425T064805
CREATED:20260416T190626Z
LAST-MODIFIED:20260416T190626Z
UID:10006799-1781348400-1781352000@santacruzheritage.org
SUMMARY:Docent Led Tour
DESCRIPTION:Docent Led Tour of the Empire Ranch House. 11 am to noon. Reservations are required by 5 pm the day before the tour. Click here to make a reservation. Free. Meet at the Visitor Contact Station.
URL:https://santacruzheritage.org/event/docent-led-tour/2026-06-13/
LOCATION:Empire Ranch\, 16655 E. Empire Ranch Rd\, Sonoita\, 85637\, United States
CATEGORIES:History,Tours
ORGANIZER;CN="Empire Ranch Foundation":MAILTO:admin@empireranchfoundation.org
END:VEVENT
BEGIN:VEVENT
DTSTART;TZID=America/Phoenix:20260613T170000
DTEND;TZID=America/Phoenix:20260613T190000
DTSTAMP:20260425T064805
CREATED:20241221T041424Z
LAST-MODIFIED:20250306T022426Z
UID:10002353-1781370000-1781377200@santacruzheritage.org
SUMMARY:Living Lab & Learning Center Tour
DESCRIPTION:Our guided Living Lab Tours happen every 2nd and 4th Saturdays of the month. You’ll be led through our demonstration site by one of our Docents to learn about our many water harvesting systems firsthand.
URL:https://santacruzheritage.org/event/living-lab-learning-center-tour-2/2026-06-13/
LOCATION:Watershed Management Group\, 1137 N Dodge Blvd.\, Tucson\, AZ\, 85716
CATEGORIES:Tours
ATTACH;FMTTYPE=image/png:https://santacruzheritage.org/wp-content/uploads/2024/12/Screenshot-2024-12-23-at-12.17.42 PM.png
END:VEVENT
BEGIN:VEVENT
DTSTART;TZID=America/Phoenix:20260613T190000
DTEND;TZID=America/Phoenix:20260613T210000
DTSTAMP:20260425T064805
CREATED:20260402T220042Z
LAST-MODIFIED:20260402T220044Z
UID:10005878-1781377200-1781384400@santacruzheritage.org
SUMMARY:Death After Dark Walking Tour
DESCRIPTION:Escape the heat and join Mauro Trejo on an after-dark and unique and macabre tour that covers some of the most memorable deaths that have taken place in Tucson’s history. From executions to suicides\, and gunfights to accidents\, this 2 mile tour will take you back in time to some of Tucson’s most fascinating tragedies. \nBegins and ends at the Tucson Presidio Museum\, 196 N. Court Ave. \n$35 general | $20 member \nContact  info@TucsonPresidio.com to make a special reservation for a group of 6 or more.
URL:https://santacruzheritage.org/event/death-after-dark-walking-tour-2/2026-06-13/
LOCATION:Presidio San Augstin del Tucson\, 196 N Court Ave\, Tucson\, AZ\, 85701
CATEGORIES:History,Passport to Your National Parks® Stamp Station,Tours
ATTACH;FMTTYPE=image/png:https://santacruzheritage.org/wp-content/uploads/2025/04/Screenshot-2024-07-06-at-10.32.34___AM.png
END:VEVENT
END:VCALENDAR