BEGIN:VCALENDAR
VERSION:2.0
PRODID:-//Santa Cruz Valley National Heritage Area - ECPv6.15.20//NONSGML v1.0//EN
CALSCALE:GREGORIAN
METHOD:PUBLISH
X-ORIGINAL-URL:https://santacruzheritage.org
X-WR-CALDESC:Events for Santa Cruz Valley National Heritage Area
REFRESH-INTERVAL;VALUE=DURATION:PT1H
X-Robots-Tag:noindex
X-PUBLISHED-TTL:PT1H
BEGIN:VTIMEZONE
TZID:America/Phoenix
BEGIN:STANDARD
TZOFFSETFROM:-0700
TZOFFSETTO:-0700
TZNAME:MST
DTSTART:20250101T000000
END:STANDARD
END:VTIMEZONE
BEGIN:VEVENT
DTSTART;TZID=America/Phoenix:20260523T090000
DTEND;TZID=America/Phoenix:20260523T103000
DTSTAMP:20260423T003002
CREATED:20260416T210056Z
LAST-MODIFIED:20260416T210056Z
UID:10007243-1779526800-1779532200@santacruzheritage.org
SUMMARY:Tour of Historic Canoa Ranch
DESCRIPTION:Join a walking tour of the Canoa Ranch headquarters. Visit the historic buildings and corrals and enjoy the special exhibits of the people of Canoa. DIRECTIONS: Historic Canoa Ranch\, 5375 S. I-19 Frontage Rd.\, Green Valley 85622 From Tucson – Take 1-19 south to exit 56 – Canoa Road. Go around the traffic circle until you are heading east. Turn left (north) on the east side frontage road for about ½ mile and turn at the Hacienda de la Canoa sign on your right. Please carry water and wear sturdy walking shoes.
URL:https://santacruzheritage.org/event/tour-of-historic-canoa-ranch-3/2026-05-23/
LOCATION:Historic Canoa Ranch\, 5375 I-19 Frontage Rd\, Green Valley\, AZ\, 85614
CATEGORIES:Tours
END:VEVENT
BEGIN:VEVENT
DTSTART;TZID=America/Phoenix:20260523T100000
DTEND;TZID=America/Phoenix:20260523T120000
DTSTAMP:20260423T003002
CREATED:20250307T143126Z
LAST-MODIFIED:20260122T233016Z
UID:10003273-1779530400-1779537600@santacruzheritage.org
SUMMARY:Living Lab & Learning Center Tour
DESCRIPTION:Our guided Living Lab Tours happen every 2nd and 4th Saturdays of the month. You’ll be led through our demonstration site by one of our Docents to learn about our many water harvesting systems firsthand.
URL:https://santacruzheritage.org/event/living-lab-learning-center-tour-3/2026-05-23/
LOCATION:Watershed Management Group\, 1137 N Dodge Blvd.\, Tucson\, AZ\, 85716
CATEGORIES:Tours
ATTACH;FMTTYPE=image/png:https://santacruzheritage.org/wp-content/uploads/2024/12/Screenshot-2024-12-23-at-12.17.42 PM.png
END:VEVENT
BEGIN:VEVENT
DTSTART;TZID=America/Phoenix:20260523T110000
DTEND;TZID=America/Phoenix:20260523T120000
DTSTAMP:20260423T003002
CREATED:20260416T190857Z
LAST-MODIFIED:20260416T190857Z
UID:10006818-1779534000-1779537600@santacruzheritage.org
SUMMARY:Docent Led Tour
DESCRIPTION:Docent Led Tour of the Empire Ranch House. 11 am to noon. Reservations are required by 5 pm the day before the tour. Click here to make a reservation. Free. Meet at the Visitor Contact Station.
URL:https://santacruzheritage.org/event/docent-led-tour-2/2026-05-23/
LOCATION:Empire Ranch\, 16655 E. Empire Ranch Rd\, Sonoita\, 85637\, United States
CATEGORIES:History,Tours
ORGANIZER;CN="Empire Ranch Foundation":MAILTO:admin@empireranchfoundation.org
END:VEVENT
END:VCALENDAR