BEGIN:VCALENDAR
VERSION:2.0
PRODID:-//Santa Cruz Valley National Heritage Area - ECPv6.15.20//NONSGML v1.0//EN
CALSCALE:GREGORIAN
METHOD:PUBLISH
X-WR-CALNAME:Santa Cruz Valley National Heritage Area
X-ORIGINAL-URL:https://santacruzheritage.org
X-WR-CALDESC:Events for Santa Cruz Valley National Heritage Area
REFRESH-INTERVAL;VALUE=DURATION:PT1H
X-Robots-Tag:noindex
X-PUBLISHED-TTL:PT1H
BEGIN:VTIMEZONE
TZID:America/Phoenix
BEGIN:STANDARD
TZOFFSETFROM:-0700
TZOFFSETTO:-0700
TZNAME:MST
DTSTART:20250101T000000
END:STANDARD
END:VTIMEZONE
BEGIN:VEVENT
DTSTART;TZID=America/Phoenix:20260330T090000
DTEND;TZID=America/Phoenix:20260330T120000
DTSTAMP:20260422T224441
CREATED:20250117T030854Z
LAST-MODIFIED:20260122T233212Z
UID:10002720-1774861200-1774872000@santacruzheritage.org
SUMMARY:Guided Birding Walks at Patagonia Lake State Park
DESCRIPTION:Guided bird walks are back!​ Join park rangers at the Birding Trail kiosk (next to campsite #12) for a ranger-led hike to learn about the diverse avian wildlife at Patagonia Lake and Sonoita Creek. \nThe event repeats each Friday and Monday at 9:00 a.m.​ For more information\,  These walks are limited to 15 people. Sign up in advance at the Visitor Center or by calling (520) 287-2791 or please visit https://azstateparks.com/patagonia-lake/events/bird-walk-patagonia​
URL:https://santacruzheritage.org/event/guided-birding-walks-at-patagonia-lake-state-park/2026-03-30/
LOCATION:Patagonia Lake\, 400 Patagonia Lake Rd\, Patagonia\,\, AZ\, 85624\, United States
CATEGORIES:Tours
ORGANIZER;CN="Nogales Santa Cruz County Chamber of Commerce":MAILTO:visitus@thenogaleschamber.org
END:VEVENT
END:VCALENDAR