BEGIN:VCALENDAR
VERSION:2.0
PRODID:-//Santa Cruz Valley National Heritage Area - ECPv6.15.20//NONSGML v1.0//EN
CALSCALE:GREGORIAN
METHOD:PUBLISH
X-ORIGINAL-URL:https://santacruzheritage.org
X-WR-CALDESC:Events for Santa Cruz Valley National Heritage Area
REFRESH-INTERVAL;VALUE=DURATION:PT1H
X-Robots-Tag:noindex
X-PUBLISHED-TTL:PT1H
BEGIN:VTIMEZONE
TZID:America/Phoenix
BEGIN:STANDARD
TZOFFSETFROM:-0700
TZOFFSETTO:-0700
TZNAME:MST
DTSTART:20250101T000000
END:STANDARD
END:VTIMEZONE
BEGIN:VEVENT
DTSTART;TZID=America/Phoenix:20260317T080000
DTEND;TZID=America/Phoenix:20260317T170000
DTSTAMP:20260423T003005
CREATED:20260219T173159Z
LAST-MODIFIED:20260219T173300Z
UID:10005051-1773734400-1773766800@santacruzheritage.org
SUMMARY:Tubac HawkWatch Festival
DESCRIPTION:It’s peak week at the Tubac HawkWatch! Join HWI\, the Tubac Nature Center\, and Tucson Bird Alliance for a week celebrating spring migration. This is a family-friendly event with free activities in the park to coincide with the peak flight of the Common Black Hawk migration. You can expect to hawkwatch alongside experts daily\, enjoy birding walks and lectures\, shop birdy merch and optics\, and meet live Raptor Ambassadors. \nOn Optics Days\, you can shop and try out the latest binoculars with the best optics dealers. Don’t forget to stop at HawkWatch International\, Tubac Nature Center\, and Tucson Bird Alliance for some bird merch! \nBring a chair\, hat\, sunscreen\, water\, and binoculars. \n  \nWe will be there on 3/13 and 3/14. If you are interested in volunteering (tabling with us) please reach out to zabrina@santacruzheritage.org 
URL:https://santacruzheritage.org/event/tubac-hawkwatch-festival/2026-03-17/
LOCATION:Ron Morriss Park\, 31 Calle Iglesia\, Tubac\, AZ\, 85746
CATEGORIES:Festivals,Lectures,Tours,Volunteer Opportunities
END:VEVENT
BEGIN:VEVENT
DTSTART;TZID=America/Phoenix:20260317T090000
DTEND;TZID=America/Phoenix:20260317T170000
DTSTAMP:20260423T003005
CREATED:20260305T190819Z
LAST-MODIFIED:20260305T191658Z
UID:10005443-1773738000-1773766800@santacruzheritage.org
SUMMARY:ASARCO Self Guided Center Tours
DESCRIPTION:Since we opened our doors in 1997\, the ASARCO Mineral Discovery Center & Mine Tours’ vision has been to educate communities on the vital importance of the copper mining industry to our civilization\, to educate students and teachers in earth sciences\, and to preserve Arizona’s mining history. \nWe invite you to take our free self-guided tour of the center’s indoor and outdoor exhibits\, which walks through the copper transformation process. Afterward\, peruse the Company Store for unique and educational gifts.
URL:https://santacruzheritage.org/event/asarco-self-guided-center-tours/2026-03-17/
LOCATION:ASARCO Mineral Discovery Center\, 1421 W Pima Mine Rd\, Sahuarita\, 85629\, United States
CATEGORIES:History,Tours,Youth Programming
END:VEVENT
END:VCALENDAR