BEGIN:VCALENDAR
VERSION:2.0
PRODID:-//Santa Cruz Valley National Heritage Area - ECPv6.15.20//NONSGML v1.0//EN
CALSCALE:GREGORIAN
METHOD:PUBLISH
X-WR-CALNAME:Santa Cruz Valley National Heritage Area
X-ORIGINAL-URL:https://santacruzheritage.org
X-WR-CALDESC:Events for Santa Cruz Valley National Heritage Area
REFRESH-INTERVAL;VALUE=DURATION:PT1H
X-Robots-Tag:noindex
X-PUBLISHED-TTL:PT1H
BEGIN:VTIMEZONE
TZID:America/Phoenix
BEGIN:STANDARD
TZOFFSETFROM:-0700
TZOFFSETTO:-0700
TZNAME:MST
DTSTART:20250101T000000
END:STANDARD
END:VTIMEZONE
BEGIN:VEVENT
DTSTART;TZID=America/Phoenix:20260501T080000
DTEND;TZID=America/Phoenix:20260501T120000
DTSTAMP:20260422T224323
CREATED:20260402T220453Z
LAST-MODIFIED:20260402T220526Z
UID:10005889-1777622400-1777636800@santacruzheritage.org
SUMMARY:Guided Birding Walks at Patagonia Lake State Park
DESCRIPTION:Guided bird walks are back!​ Join park rangers at the Birding Trail kiosk (next to campsite #12) for a ranger-led hike to learn about the diverse avian wildlife at Patagonia Lake and Sonoita Creek. \nThe event repeats each Friday at 9:00 a.m through April.​ For more information\,  These walks are limited to 15 people. Sign up in advance at the Visitor Center or by calling (520) 287-2791 or please visit https://azstateparks.com/patagonia-lake/events/bird-walk-patagonia​
URL:https://santacruzheritage.org/event/guided-birding-walks-at-patagonia-lake-state-park-2/2026-05-01/
LOCATION:Patagonia Lake\, 400 Patagonia Lake Rd\, Patagonia\,\, AZ\, 85624\, United States
CATEGORIES:Tours
ORGANIZER;CN="Nogales Santa Cruz County Chamber of Commerce":MAILTO:visitus@thenogaleschamber.org
END:VEVENT
BEGIN:VEVENT
DTSTART;TZID=America/Phoenix:20260502T090000
DTEND;TZID=America/Phoenix:20260502T103000
DTSTAMP:20260422T224323
CREATED:20260416T210056Z
LAST-MODIFIED:20260416T210056Z
UID:10007240-1777712400-1777717800@santacruzheritage.org
SUMMARY:Tour of Historic Canoa Ranch
DESCRIPTION:Join a walking tour of the Canoa Ranch headquarters. Visit the historic buildings and corrals and enjoy the special exhibits of the people of Canoa. DIRECTIONS: Historic Canoa Ranch\, 5375 S. I-19 Frontage Rd.\, Green Valley 85622 From Tucson – Take 1-19 south to exit 56 – Canoa Road. Go around the traffic circle until you are heading east. Turn left (north) on the east side frontage road for about ½ mile and turn at the Hacienda de la Canoa sign on your right. Please carry water and wear sturdy walking shoes.
URL:https://santacruzheritage.org/event/tour-of-historic-canoa-ranch-3/2026-05-02/
LOCATION:Historic Canoa Ranch\, 5375 I-19 Frontage Rd\, Green Valley\, AZ\, 85614
CATEGORIES:Tours
END:VEVENT
BEGIN:VEVENT
DTSTART;TZID=America/Phoenix:20260502T190000
DTEND;TZID=America/Phoenix:20260502T210000
DTSTAMP:20260422T224323
CREATED:20260402T220042Z
LAST-MODIFIED:20260402T220044Z
UID:10005875-1777748400-1777755600@santacruzheritage.org
SUMMARY:Death After Dark Walking Tour
DESCRIPTION:Escape the heat and join Mauro Trejo on an after-dark and unique and macabre tour that covers some of the most memorable deaths that have taken place in Tucson’s history. From executions to suicides\, and gunfights to accidents\, this 2 mile tour will take you back in time to some of Tucson’s most fascinating tragedies. \nBegins and ends at the Tucson Presidio Museum\, 196 N. Court Ave. \n$35 general | $20 member \nContact  info@TucsonPresidio.com to make a special reservation for a group of 6 or more.
URL:https://santacruzheritage.org/event/death-after-dark-walking-tour-2/2026-05-02/
LOCATION:Presidio San Augstin del Tucson\, 196 N Court Ave\, Tucson\, AZ\, 85701
CATEGORIES:History,Passport to Your National Parks® Stamp Station,Tours
ATTACH;FMTTYPE=image/png:https://santacruzheritage.org/wp-content/uploads/2025/04/Screenshot-2024-07-06-at-10.32.34___AM.png
END:VEVENT
BEGIN:VEVENT
DTSTART;TZID=America/Phoenix:20260508T100000
DTEND;TZID=America/Phoenix:20260508T113000
DTSTAMP:20260422T224323
CREATED:20260212T181537Z
LAST-MODIFIED:20260212T181537Z
UID:10004294-1778234400-1778239800@santacruzheritage.org
SUMMARY:Walk the Anza Trail at Tumacácori National Historical Park
DESCRIPTION:Join an Anza Trail park ranger at Tumacácori National Historical Park for a guided walk! \n-Meet at the mission church at 10 am\n-Walk to the Santa Cruz River along the Anza Trail\n-Return around 11:30 am \nWe’ll be walking along the same route the Anza expedition followed 250 years ago! This is an easy trail but expect uneven and unpaved surfaces. It’s a 1- to 2-mile roundtrip journey. Bring comfortable shoes\, sun protection\, water\, and an interest in natural and cultural history! \n\nFebruary 13\, 2026 from  10:00 – 11:30 am\n\nMarch 13\, 2026 from 10:00 – 11:30 am\n\n\nApril 10\, 2026 from 10:00 – 11:30 am\n\n\nMay 8\, 2026 from 10:00 – 11:30 am\n\n\n1891 I-19 Frontage Rd\, Tumacacori\, AZ 85640
URL:https://santacruzheritage.org/event/walk-the-anza-trail-at-tumacacori-national-historical-park/2026-05-08/
LOCATION:Tumacácori National Historical Park\, 1891 E Frontage Rd\, Tumacacori\, 85640\, United States
CATEGORIES:History,Tours
ATTACH;FMTTYPE=image/jpeg:https://santacruzheritage.org/wp-content/uploads/2026/02/Anza-Trail-Walk-Flyer-TUMA-JUBA-2025-26-_2_-1.jpg
ORGANIZER;CN="Nogales Santa Cruz County Chamber of Commerce":MAILTO:visitus@thenogaleschamber.org
END:VEVENT
BEGIN:VEVENT
DTSTART;TZID=America/Phoenix:20260509T090000
DTEND;TZID=America/Phoenix:20260509T103000
DTSTAMP:20260422T224323
CREATED:20260416T210056Z
LAST-MODIFIED:20260416T210056Z
UID:10007241-1778317200-1778322600@santacruzheritage.org
SUMMARY:Tour of Historic Canoa Ranch
DESCRIPTION:Join a walking tour of the Canoa Ranch headquarters. Visit the historic buildings and corrals and enjoy the special exhibits of the people of Canoa. DIRECTIONS: Historic Canoa Ranch\, 5375 S. I-19 Frontage Rd.\, Green Valley 85622 From Tucson – Take 1-19 south to exit 56 – Canoa Road. Go around the traffic circle until you are heading east. Turn left (north) on the east side frontage road for about ½ mile and turn at the Hacienda de la Canoa sign on your right. Please carry water and wear sturdy walking shoes.
URL:https://santacruzheritage.org/event/tour-of-historic-canoa-ranch-3/2026-05-09/
LOCATION:Historic Canoa Ranch\, 5375 I-19 Frontage Rd\, Green Valley\, AZ\, 85614
CATEGORIES:Tours
END:VEVENT
BEGIN:VEVENT
DTSTART;TZID=America/Phoenix:20260509T110000
DTEND;TZID=America/Phoenix:20260509T120000
DTSTAMP:20260422T224323
CREATED:20260416T190626Z
LAST-MODIFIED:20260416T190626Z
UID:10006798-1778324400-1778328000@santacruzheritage.org
SUMMARY:Docent Led Tour
DESCRIPTION:Docent Led Tour of the Empire Ranch House. 11 am to noon. Reservations are required by 5 pm the day before the tour. Click here to make a reservation. Free. Meet at the Visitor Contact Station.
URL:https://santacruzheritage.org/event/docent-led-tour/2026-05-09/
LOCATION:Empire Ranch\, 16655 E. Empire Ranch Rd\, Sonoita\, 85637\, United States
CATEGORIES:History,Tours
ORGANIZER;CN="Empire Ranch Foundation":MAILTO:admin@empireranchfoundation.org
END:VEVENT
BEGIN:VEVENT
DTSTART;TZID=America/Phoenix:20260509T170000
DTEND;TZID=America/Phoenix:20260509T190000
DTSTAMP:20260422T224323
CREATED:20241221T041424Z
LAST-MODIFIED:20250306T022426Z
UID:10002352-1778346000-1778353200@santacruzheritage.org
SUMMARY:Living Lab & Learning Center Tour
DESCRIPTION:Our guided Living Lab Tours happen every 2nd and 4th Saturdays of the month. You’ll be led through our demonstration site by one of our Docents to learn about our many water harvesting systems firsthand.
URL:https://santacruzheritage.org/event/living-lab-learning-center-tour-2/2026-05-09/
LOCATION:Watershed Management Group\, 1137 N Dodge Blvd.\, Tucson\, AZ\, 85716
CATEGORIES:Tours
ATTACH;FMTTYPE=image/png:https://santacruzheritage.org/wp-content/uploads/2024/12/Screenshot-2024-12-23-at-12.17.42 PM.png
END:VEVENT
BEGIN:VEVENT
DTSTART;TZID=America/Phoenix:20260514T080000
DTEND;TZID=America/Phoenix:20260514T093000
DTSTAMP:20260422T224323
CREATED:20241212T041700Z
LAST-MODIFIED:20260122T233710Z
UID:10003577-1778745600-1778751000@santacruzheritage.org
SUMMARY:Monthly Bird Walk
DESCRIPTION:Walk around Mission Garden to look for seasonal and resident birds. Learn to identify some common calls and songs of the birds here. The garden is a good place for beginning and intermediate birders to learn about many of the birds common to the greater Tucson area. Check in with Kevin (the roadrunner) and our resident chickens. We always check the hummingbird feeder to see what hummingbirds are visiting it! \nWalks usually last about one and half hours. Walking is easy in the garden and the paths\, while not paved\, are made of compacted material that is ADA compatible and suitable for wheelchairs and walkers. The length of this walk is 0.50 to 0.75 mile.
URL:https://santacruzheritage.org/event/monthly-bird-walk/2026-05-14/
LOCATION:Mission Garden\, 946 W Mission Ln\, Tucson\, AZ\, 85745
CATEGORIES:Tours
ATTACH;FMTTYPE=image/png:https://santacruzheritage.org/wp-content/uploads/2024/11/Erica-Freese-Entry-1.png
END:VEVENT
BEGIN:VEVENT
DTSTART;TZID=America/Phoenix:20260516T090000
DTEND;TZID=America/Phoenix:20260516T103000
DTSTAMP:20260422T224323
CREATED:20260416T210056Z
LAST-MODIFIED:20260416T210056Z
UID:10007242-1778922000-1778927400@santacruzheritage.org
SUMMARY:Tour of Historic Canoa Ranch
DESCRIPTION:Join a walking tour of the Canoa Ranch headquarters. Visit the historic buildings and corrals and enjoy the special exhibits of the people of Canoa. DIRECTIONS: Historic Canoa Ranch\, 5375 S. I-19 Frontage Rd.\, Green Valley 85622 From Tucson – Take 1-19 south to exit 56 – Canoa Road. Go around the traffic circle until you are heading east. Turn left (north) on the east side frontage road for about ½ mile and turn at the Hacienda de la Canoa sign on your right. Please carry water and wear sturdy walking shoes.
URL:https://santacruzheritage.org/event/tour-of-historic-canoa-ranch-3/2026-05-16/
LOCATION:Historic Canoa Ranch\, 5375 I-19 Frontage Rd\, Green Valley\, AZ\, 85614
CATEGORIES:Tours
END:VEVENT
BEGIN:VEVENT
DTSTART;TZID=America/Phoenix:20260516T100000
DTEND;TZID=America/Phoenix:20260516T120000
DTSTAMP:20260422T224323
CREATED:20251219T184459Z
LAST-MODIFIED:20260122T234443Z
UID:10004177-1778925600-1778932800@santacruzheritage.org
SUMMARY:Santa Cruz River History Tour
DESCRIPTION:This two-mile walking tour is led by Mauro Trejo and focuses on our relationship with the Santa Cruz River\, how it supported Tucson’s early residents\, and the factors in the 19th and 20th century that affected its demise. \nThe tour begins at Tucson’s Mission Gardens and includes the sites of the former Spanish mission and the O’odham village that was the origin of our modern city. Attendees also visit Tucson’s tallest tree and the Garden of Gethsemane\, a holy site of statues made by WWI veteran and artist Felix Lucero in the 1940s.
URL:https://santacruzheritage.org/event/santa-cruz-river-history-tour-2-3/2026-05-16/
LOCATION:Mission Garden\, 946 W Mission Ln\, Tucson\, AZ\, 85745
CATEGORIES:Hikes,History,Tours
ATTACH;FMTTYPE=image/jpeg:https://santacruzheritage.org/wp-content/uploads/2025/04/SC-River-Mauro-2-scaled.jpg
END:VEVENT
BEGIN:VEVENT
DTSTART;TZID=America/Phoenix:20260516T190000
DTEND;TZID=America/Phoenix:20260516T210000
DTSTAMP:20260422T224323
CREATED:20260402T220042Z
LAST-MODIFIED:20260402T220044Z
UID:10005876-1778958000-1778965200@santacruzheritage.org
SUMMARY:Death After Dark Walking Tour
DESCRIPTION:Escape the heat and join Mauro Trejo on an after-dark and unique and macabre tour that covers some of the most memorable deaths that have taken place in Tucson’s history. From executions to suicides\, and gunfights to accidents\, this 2 mile tour will take you back in time to some of Tucson’s most fascinating tragedies. \nBegins and ends at the Tucson Presidio Museum\, 196 N. Court Ave. \n$35 general | $20 member \nContact  info@TucsonPresidio.com to make a special reservation for a group of 6 or more.
URL:https://santacruzheritage.org/event/death-after-dark-walking-tour-2/2026-05-16/
LOCATION:Presidio San Augstin del Tucson\, 196 N Court Ave\, Tucson\, AZ\, 85701
CATEGORIES:History,Passport to Your National Parks® Stamp Station,Tours
ATTACH;FMTTYPE=image/png:https://santacruzheritage.org/wp-content/uploads/2025/04/Screenshot-2024-07-06-at-10.32.34___AM.png
END:VEVENT
BEGIN:VEVENT
DTSTART;TZID=America/Phoenix:20260517T100000
DTEND;TZID=America/Phoenix:20260517T120000
DTSTAMP:20260422T224323
CREATED:20260416T182919Z
LAST-MODIFIED:20260416T182919Z
UID:10006536-1779012000-1779019200@santacruzheritage.org
SUMMARY:Turquoise Trail Tour
DESCRIPTION:TURQUOISE TRAIL HIGHLIGHTS TOUR\nWalk Tucson’s historic Turquoise Trail—a path marked by a turquoise line painted on the sidewalk. This loop explores the heart of downtown Tucson\, highlighting Spanish Colonial architecture\, key historic landmarks\, and stories dating back to 1775. This slightly shortened tour covers stops 1–14 on the trail before returning to the museum via Church Avenue. Pre-registration is required. \nBegins and ends at the Tucson Presidio Museum\, 196 N. Court Ave.
URL:https://santacruzheritage.org/event/turquoise-trail-tour/
LOCATION:Presidio San Augstin del Tucson\, 196 N Court Ave\, Tucson\, AZ\, 85701
CATEGORIES:History,Tours
ORGANIZER;CN="Tubac Presidio State Historic Park & Museum":MAILTO:assistant@tubacpresidio.org
END:VEVENT
BEGIN:VEVENT
DTSTART;TZID=America/Phoenix:20260523T090000
DTEND;TZID=America/Phoenix:20260523T103000
DTSTAMP:20260422T224323
CREATED:20260416T210056Z
LAST-MODIFIED:20260416T210056Z
UID:10007243-1779526800-1779532200@santacruzheritage.org
SUMMARY:Tour of Historic Canoa Ranch
DESCRIPTION:Join a walking tour of the Canoa Ranch headquarters. Visit the historic buildings and corrals and enjoy the special exhibits of the people of Canoa. DIRECTIONS: Historic Canoa Ranch\, 5375 S. I-19 Frontage Rd.\, Green Valley 85622 From Tucson – Take 1-19 south to exit 56 – Canoa Road. Go around the traffic circle until you are heading east. Turn left (north) on the east side frontage road for about ½ mile and turn at the Hacienda de la Canoa sign on your right. Please carry water and wear sturdy walking shoes.
URL:https://santacruzheritage.org/event/tour-of-historic-canoa-ranch-3/2026-05-23/
LOCATION:Historic Canoa Ranch\, 5375 I-19 Frontage Rd\, Green Valley\, AZ\, 85614
CATEGORIES:Tours
END:VEVENT
BEGIN:VEVENT
DTSTART;TZID=America/Phoenix:20260523T100000
DTEND;TZID=America/Phoenix:20260523T120000
DTSTAMP:20260422T224323
CREATED:20250307T143126Z
LAST-MODIFIED:20260122T233016Z
UID:10003273-1779530400-1779537600@santacruzheritage.org
SUMMARY:Living Lab & Learning Center Tour
DESCRIPTION:Our guided Living Lab Tours happen every 2nd and 4th Saturdays of the month. You’ll be led through our demonstration site by one of our Docents to learn about our many water harvesting systems firsthand.
URL:https://santacruzheritage.org/event/living-lab-learning-center-tour-3/2026-05-23/
LOCATION:Watershed Management Group\, 1137 N Dodge Blvd.\, Tucson\, AZ\, 85716
CATEGORIES:Tours
ATTACH;FMTTYPE=image/png:https://santacruzheritage.org/wp-content/uploads/2024/12/Screenshot-2024-12-23-at-12.17.42 PM.png
END:VEVENT
BEGIN:VEVENT
DTSTART;TZID=America/Phoenix:20260523T110000
DTEND;TZID=America/Phoenix:20260523T120000
DTSTAMP:20260422T224323
CREATED:20260416T190857Z
LAST-MODIFIED:20260416T190857Z
UID:10006818-1779534000-1779537600@santacruzheritage.org
SUMMARY:Docent Led Tour
DESCRIPTION:Docent Led Tour of the Empire Ranch House. 11 am to noon. Reservations are required by 5 pm the day before the tour. Click here to make a reservation. Free. Meet at the Visitor Contact Station.
URL:https://santacruzheritage.org/event/docent-led-tour-2/2026-05-23/
LOCATION:Empire Ranch\, 16655 E. Empire Ranch Rd\, Sonoita\, 85637\, United States
CATEGORIES:History,Tours
ORGANIZER;CN="Empire Ranch Foundation":MAILTO:admin@empireranchfoundation.org
END:VEVENT
BEGIN:VEVENT
DTSTART;TZID=America/Phoenix:20260530T090000
DTEND;TZID=America/Phoenix:20260530T103000
DTSTAMP:20260422T224323
CREATED:20260416T210056Z
LAST-MODIFIED:20260416T210056Z
UID:10007244-1780131600-1780137000@santacruzheritage.org
SUMMARY:Tour of Historic Canoa Ranch
DESCRIPTION:Join a walking tour of the Canoa Ranch headquarters. Visit the historic buildings and corrals and enjoy the special exhibits of the people of Canoa. DIRECTIONS: Historic Canoa Ranch\, 5375 S. I-19 Frontage Rd.\, Green Valley 85622 From Tucson – Take 1-19 south to exit 56 – Canoa Road. Go around the traffic circle until you are heading east. Turn left (north) on the east side frontage road for about ½ mile and turn at the Hacienda de la Canoa sign on your right. Please carry water and wear sturdy walking shoes.
URL:https://santacruzheritage.org/event/tour-of-historic-canoa-ranch-3/2026-05-30/
LOCATION:Historic Canoa Ranch\, 5375 I-19 Frontage Rd\, Green Valley\, AZ\, 85614
CATEGORIES:Tours
END:VEVENT
BEGIN:VEVENT
DTSTART;TZID=America/Phoenix:20260530T190000
DTEND;TZID=America/Phoenix:20260530T210000
DTSTAMP:20260422T224323
CREATED:20260402T220042Z
LAST-MODIFIED:20260402T220044Z
UID:10005877-1780167600-1780174800@santacruzheritage.org
SUMMARY:Death After Dark Walking Tour
DESCRIPTION:Escape the heat and join Mauro Trejo on an after-dark and unique and macabre tour that covers some of the most memorable deaths that have taken place in Tucson’s history. From executions to suicides\, and gunfights to accidents\, this 2 mile tour will take you back in time to some of Tucson’s most fascinating tragedies. \nBegins and ends at the Tucson Presidio Museum\, 196 N. Court Ave. \n$35 general | $20 member \nContact  info@TucsonPresidio.com to make a special reservation for a group of 6 or more.
URL:https://santacruzheritage.org/event/death-after-dark-walking-tour-2/2026-05-30/
LOCATION:Presidio San Augstin del Tucson\, 196 N Court Ave\, Tucson\, AZ\, 85701
CATEGORIES:History,Passport to Your National Parks® Stamp Station,Tours
ATTACH;FMTTYPE=image/png:https://santacruzheritage.org/wp-content/uploads/2025/04/Screenshot-2024-07-06-at-10.32.34___AM.png
END:VEVENT
END:VCALENDAR