BEGIN:VCALENDAR
VERSION:2.0
PRODID:-//Santa Cruz Valley National Heritage Area - ECPv6.15.20//NONSGML v1.0//EN
CALSCALE:GREGORIAN
METHOD:PUBLISH
X-WR-CALNAME:Santa Cruz Valley National Heritage Area
X-ORIGINAL-URL:https://santacruzheritage.org
X-WR-CALDESC:Events for Santa Cruz Valley National Heritage Area
REFRESH-INTERVAL;VALUE=DURATION:PT1H
X-Robots-Tag:noindex
X-PUBLISHED-TTL:PT1H
BEGIN:VTIMEZONE
TZID:America/Phoenix
BEGIN:STANDARD
TZOFFSETFROM:-0700
TZOFFSETTO:-0700
TZNAME:MST
DTSTART:20250101T000000
END:STANDARD
END:VTIMEZONE
BEGIN:VEVENT
DTSTART;TZID=America/Phoenix:20260418T100000
DTEND;TZID=America/Phoenix:20260418T150000
DTSTAMP:20260423T010917
CREATED:20260330T203834Z
LAST-MODIFIED:20260330T203834Z
UID:10005865-1776506400-1776524400@santacruzheritage.org
SUMMARY:Native Nations Day
DESCRIPTION:This family friendly event celebrates 4000+ years of indigenous culture in Tucson through art\, food\, and performances.\n\nPresentation:Brandon Varela\, Director of the Old Pascua Museum and Yaqui Culture Center\, will discuss the significance of the Deer Dance to the Yaqui (Yoeme) people.\n\nPerformances:Yaqui Deer Dancers from the Old Pascua community\n\nDemonstrations/vendors may include:Pottery\, silversmithing\, gourd making\, basket making\, digital arts\, flintknapping\, and much more!\n\nFood:Sherri’s Frybread with sweet and savory toppings.\n\nIncluded in regular admissionFor more information visit:http://www.tucsonpresidio.com/living-history-days…/\n\nPresidio Museum196 N. Court AveTucson\, Az85701
URL:https://santacruzheritage.org/event/native-nations-day/
CATEGORIES:Arts,Food Experience,History,Other
ATTACH;FMTTYPE=image/jpeg:https://santacruzheritage.org/wp-content/uploads/2026/03/IMG_5914.jpeg
END:VEVENT
BEGIN:VEVENT
DTSTART;TZID=America/Phoenix:20260418T093000
DTEND;TZID=America/Phoenix:20260418T110000
DTSTAMP:20260423T010917
CREATED:20260408T171043Z
LAST-MODIFIED:20260408T171043Z
UID:10006147-1776504600-1776510000@santacruzheritage.org
SUMMARY:Earth Day Yoga
DESCRIPTION:Join yoga instructors\, Sarah Bayze & Jen Rischard\, in this 90 minute all-levels yoga class exploring Virya in honor of Earth Day! Virya = right effort. How we use our energy matters\, for our bodies and our planet. Virya is effort guided by wisdom. Earth Day reminds us that our effort matters — how we walk\, what we consume\, how we move — all of it is energy in relationship with the Earth. \nA fusion of Vinyasa and Hatha yoga styles and a soothing sound bath to support your savasana\, this class is appropriate for all levels and modifications will be offered. This event will benefit Friends of Madera Canyon in honor of Earth Day.
URL:https://santacruzheritage.org/event/earth-day-yoga/
LOCATION:Santa Rita Lodge \, Madera Canyon\, 1218 S Madera Canyon Rd\, Madera Canyon\, AZ\, 85614\, United States
CATEGORIES:Other
ATTACH;FMTTYPE=image/jpeg:https://santacruzheritage.org/wp-content/uploads/2026/04/Earth-Day-Yoga-2026.jpg
END:VEVENT
BEGIN:VEVENT
DTSTART;TZID=America/Phoenix:20260415T173000
DTEND;TZID=America/Phoenix:20260415T210000
DTSTAMP:20260423T010917
CREATED:20260330T203640Z
LAST-MODIFIED:20260330T203640Z
UID:10005868-1776274200-1776286800@santacruzheritage.org
SUMMARY:Indigenous Comedy Live
DESCRIPTION:Arizona State Museum is showcasing Indigenous Comedy Live\, on April 15th\, hosted by Hotel Congress in downtown Tucson. Highlighting the humor of Indigenous comedians representing Akimel O’otham\, Pascua Yaqui\, Quechan\, Sisseton-Wahpeton Dakota\, and Tohono O’odham communities: 5 comedians\, 1 stage\, 1 night under the stars! In collaboration with The Indigenous Market\, we kick off the night with the a small market of eight Indigenous artisans from Tucson and a frybread stand offered by the Miss Native UA Club.
URL:https://santacruzheritage.org/event/indigenous-comedy-live/
LOCATION:Hotel Congress\, 311 E. Congress St\, Tucson\, 85701\, United States
CATEGORIES:Arts,Other
ATTACH;FMTTYPE=image/jpeg:https://santacruzheritage.org/wp-content/uploads/2026/03/Slide-1.jpg
END:VEVENT
BEGIN:VEVENT
DTSTART;VALUE=DATE:20260412
DTEND;VALUE=DATE:20260413
DTSTAMP:20260423T010917
CREATED:20260408T224304Z
LAST-MODIFIED:20260408T224327Z
UID:10006154-1775952000-1776038399@santacruzheritage.org
SUMMARY:Agave Heritage Festival
DESCRIPTION:This festival is meant to celebrate and sustain the cultural\, ecological\, and economic significance of agave through binational collaboration\, storytelling\, and community-rooted experiences. \nThe Agave Heritage Festival brings together voices from the Sonoran Desert and beyond to honor agave’s legacy and ignite collective action for a more resilient future. \nFind a full list of festival events here:https://www.agaveheritagefestival.com/2026-events-calendar
URL:https://santacruzheritage.org/event/agave-heritage-festival/2026-04-12/
LOCATION:Tucson\, Tucson
CATEGORIES:Arts,Environmental Stewardship,Festivals,History,Lectures,Other
END:VEVENT
BEGIN:VEVENT
DTSTART;VALUE=DATE:20260411
DTEND;VALUE=DATE:20260412
DTSTAMP:20260423T010917
CREATED:20260408T224304Z
LAST-MODIFIED:20260408T224327Z
UID:10006153-1775865600-1775951999@santacruzheritage.org
SUMMARY:Agave Heritage Festival
DESCRIPTION:This festival is meant to celebrate and sustain the cultural\, ecological\, and economic significance of agave through binational collaboration\, storytelling\, and community-rooted experiences. \nThe Agave Heritage Festival brings together voices from the Sonoran Desert and beyond to honor agave’s legacy and ignite collective action for a more resilient future. \nFind a full list of festival events here:https://www.agaveheritagefestival.com/2026-events-calendar
URL:https://santacruzheritage.org/event/agave-heritage-festival/2026-04-11/
LOCATION:Tucson\, Tucson
CATEGORIES:Arts,Environmental Stewardship,Festivals,History,Lectures,Other
END:VEVENT
BEGIN:VEVENT
DTSTART;VALUE=DATE:20260410
DTEND;VALUE=DATE:20260411
DTSTAMP:20260423T010917
CREATED:20260408T224304Z
LAST-MODIFIED:20260408T224327Z
UID:10006152-1775779200-1775865599@santacruzheritage.org
SUMMARY:Agave Heritage Festival
DESCRIPTION:This festival is meant to celebrate and sustain the cultural\, ecological\, and economic significance of agave through binational collaboration\, storytelling\, and community-rooted experiences. \nThe Agave Heritage Festival brings together voices from the Sonoran Desert and beyond to honor agave’s legacy and ignite collective action for a more resilient future. \nFind a full list of festival events here:https://www.agaveheritagefestival.com/2026-events-calendar
URL:https://santacruzheritage.org/event/agave-heritage-festival/2026-04-10/
LOCATION:Tucson\, Tucson
CATEGORIES:Arts,Environmental Stewardship,Festivals,History,Lectures,Other
END:VEVENT
BEGIN:VEVENT
DTSTART;VALUE=DATE:20260409
DTEND;VALUE=DATE:20260410
DTSTAMP:20260423T010917
CREATED:20260408T224304Z
LAST-MODIFIED:20260408T224327Z
UID:10006520-1775721600-1775754000@santacruzheritage.org
SUMMARY:Agave Heritage Festival
DESCRIPTION:This festival is meant to celebrate and sustain the cultural\, ecological\, and economic significance of agave through binational collaboration\, storytelling\, and community-rooted experiences. \nThe Agave Heritage Festival brings together voices from the Sonoran Desert and beyond to honor agave’s legacy and ignite collective action for a more resilient future. \nFind a full list of festival events here:https://www.agaveheritagefestival.com/2026-events-calendar
URL:https://santacruzheritage.org/event/agave-heritage-festival/2026-04-09/2/
LOCATION:Tucson\, Tucson
CATEGORIES:Arts,Environmental Stewardship,Festivals,History,Lectures,Other
END:VEVENT
BEGIN:VEVENT
DTSTART;VALUE=DATE:20260409
DTEND;VALUE=DATE:20260410
DTSTAMP:20260423T010917
CREATED:20260408T224304Z
LAST-MODIFIED:20260408T224327Z
UID:10006151-1775692800-1775779199@santacruzheritage.org
SUMMARY:Agave Heritage Festival
DESCRIPTION:This festival is meant to celebrate and sustain the cultural\, ecological\, and economic significance of agave through binational collaboration\, storytelling\, and community-rooted experiences. \nThe Agave Heritage Festival brings together voices from the Sonoran Desert and beyond to honor agave’s legacy and ignite collective action for a more resilient future. \nFind a full list of festival events here:https://www.agaveheritagefestival.com/2026-events-calendar
URL:https://santacruzheritage.org/event/agave-heritage-festival/2026-04-09/1/
LOCATION:Tucson\, Tucson
CATEGORIES:Arts,Environmental Stewardship,Festivals,History,Lectures,Other
END:VEVENT
END:VCALENDAR