BEGIN:VCALENDAR
VERSION:2.0
PRODID:-//Santa Cruz Valley National Heritage Area - ECPv6.15.20//NONSGML v1.0//EN
CALSCALE:GREGORIAN
METHOD:PUBLISH
X-ORIGINAL-URL:https://santacruzheritage.org
X-WR-CALDESC:Events for Santa Cruz Valley National Heritage Area
REFRESH-INTERVAL;VALUE=DURATION:PT1H
X-Robots-Tag:noindex
X-PUBLISHED-TTL:PT1H
BEGIN:VTIMEZONE
TZID:America/Phoenix
BEGIN:STANDARD
TZOFFSETFROM:-0700
TZOFFSETTO:-0700
TZNAME:MST
DTSTART:20250101T000000
END:STANDARD
END:VTIMEZONE
BEGIN:VEVENT
DTSTART;TZID=America/Phoenix:20260418T140000
DTEND;TZID=America/Phoenix:20260418T150000
DTSTAMP:20260425T075905
CREATED:20260130T232907Z
LAST-MODIFIED:20260205T182329Z
UID:10004279-1776520800-1776524400@santacruzheritage.org
SUMMARY:The Arizona Trail: An 850-mile Mountain Bike Exploration of Climate Change
DESCRIPTION:Along the 850-mile Arizona Trail from Utah to Mexico\, climate change is reshaping ecosystems and communities across the Southwest. In fall 2025\, Arizona Republic climate reporter and ecologist Joan Meiners spent seven weeks mountain biking the entire trail to document these changes and explore solutions with scientists\, tribes\, and local experts. Through vivid photos\, video\, and storytelling\, this presentation traces Arizona’s most urgent environmental challenges and opportunities—mile by mile—from fire-scarred forests and deepening drought to renewable energy efforts and humanitarian issues at the border. This free program is made possible by AZ Humanities and space is limited. Please note\, park admission is not included.
URL:https://santacruzheritage.org/event/the-arizona-trail-an-850-mile-mountain-bike-exploration-of-climate-change/
LOCATION:Tubac Presidio State Historic Park & Museum\, 1 Burruel St\, #1296\, Tubac\, A\, 85646\, United States
CATEGORIES:Lectures
ATTACH;FMTTYPE=image/jpeg:https://santacruzheritage.org/wp-content/uploads/2026/01/The-Arizona-Trail-980-x-552-px-1-1.jpg
ORGANIZER;CN="Tubac Presidio State Historic Park & Museum":MAILTO:assistant@tubacpresidio.org
END:VEVENT
END:VCALENDAR