BEGIN:VCALENDAR
VERSION:2.0
PRODID:-//Santa Cruz Valley National Heritage Area - ECPv6.15.20//NONSGML v1.0//EN
CALSCALE:GREGORIAN
METHOD:PUBLISH
X-ORIGINAL-URL:https://santacruzheritage.org
X-WR-CALDESC:Events for Santa Cruz Valley National Heritage Area
REFRESH-INTERVAL;VALUE=DURATION:PT1H
X-Robots-Tag:noindex
X-PUBLISHED-TTL:PT1H
BEGIN:VTIMEZONE
TZID:America/Phoenix
BEGIN:STANDARD
TZOFFSETFROM:-0700
TZOFFSETTO:-0700
TZNAME:MST
DTSTART:20250101T000000
END:STANDARD
END:VTIMEZONE
BEGIN:VEVENT
DTSTART;VALUE=DATE:20260411
DTEND;VALUE=DATE:20260412
DTSTAMP:20260425T075927
CREATED:20260408T224304Z
LAST-MODIFIED:20260408T224327Z
UID:10006153-1775865600-1775951999@santacruzheritage.org
SUMMARY:Agave Heritage Festival
DESCRIPTION:This festival is meant to celebrate and sustain the cultural\, ecological\, and economic significance of agave through binational collaboration\, storytelling\, and community-rooted experiences. \nThe Agave Heritage Festival brings together voices from the Sonoran Desert and beyond to honor agave’s legacy and ignite collective action for a more resilient future. \nFind a full list of festival events here:https://www.agaveheritagefestival.com/2026-events-calendar
URL:https://santacruzheritage.org/event/agave-heritage-festival/2026-04-11/
LOCATION:Tucson\, Tucson
CATEGORIES:Arts,Environmental Stewardship,Festivals,History,Lectures,Other
END:VEVENT
BEGIN:VEVENT
DTSTART;TZID=America/Phoenix:20260411T131500
DTEND;TZID=America/Phoenix:20260411T140000
DTSTAMP:20260425T075927
CREATED:20260408T231528Z
LAST-MODIFIED:20260408T231528Z
UID:10006524-1775913300-1775916000@santacruzheritage.org
SUMMARY:The Amazing Agave at Saguaro National Park on Saturday
DESCRIPTION:Heralded as the “Tree of Wonders”\, the agave has been celebrated for centuries throughout Mexico and the American Southwest\, and utilized to make over 40 products – from textiles to tequila. Uncover the adaptations that enable this native succulent to thrive in the hot and harsh Sonoran Desert\, and discover how a prized ornamental holds the promise of a practical and sustainable crop. Join a Park Naturalist for this narrated theater presentation\, and prepare to be amazed!
URL:https://santacruzheritage.org/event/the-amazing-agave-at-saguaro-national-park-on-saturday/
LOCATION:Saguaro National Park West-West at the Red Hills Visitor Center\, 2700 North Kinney Road\, Tucson\, 85743\, United States
CATEGORIES:Environmental Stewardship,Festivals,Lectures,Youth Programming
END:VEVENT
END:VCALENDAR