BEGIN:VCALENDAR
VERSION:2.0
PRODID:-//Santa Cruz Valley National Heritage Area - ECPv6.15.20//NONSGML v1.0//EN
CALSCALE:GREGORIAN
METHOD:PUBLISH
X-ORIGINAL-URL:https://santacruzheritage.org
X-WR-CALDESC:Events for Santa Cruz Valley National Heritage Area
REFRESH-INTERVAL;VALUE=DURATION:PT1H
X-Robots-Tag:noindex
X-PUBLISHED-TTL:PT1H
BEGIN:VTIMEZONE
TZID:America/Phoenix
BEGIN:STANDARD
TZOFFSETFROM:-0700
TZOFFSETTO:-0700
TZNAME:MST
DTSTART:20250101T000000
END:STANDARD
END:VTIMEZONE
BEGIN:VEVENT
DTSTART;TZID=America/Phoenix:20260401T053000
DTEND;TZID=America/Phoenix:20260401T183000
DTSTAMP:20260425T050034
CREATED:20260305T202744Z
LAST-MODIFIED:20260305T202744Z
UID:10005433-1775021400-1775068200@santacruzheritage.org
SUMMARY:Tumamoc Talks: Desert Purple Martins – Star Birds of the Arizona Monsoon
DESCRIPTION:Desert Purple Martins – Star Birds of the Arizona Monsoon with Jennie MacFarland \nThe Desert Purple Martin (Progne subis hesperia) is a distinct subspecies that times its nesting to monsoon abundance and nests almost exclusively in saguaros or other large columnar cacti. Desert Purple Martins are extremely understudied with large gaps in knowledge about their nesting\, migration\, and wintering grounds. Very recent discoveries and data results will be shared along with lots of video and audio that showcases the charming and fascinating Desert Purple Martin. Jennie MacFarland is the Director of Bird Conservation at Tucson Bird Alliance. She co-coordinates the Arizona Bird Areas Program with Tice Supplee and also coordinates the Tucson Bird Count\, a city-wide\, urban spring bird count.
URL:https://santacruzheritage.org/event/tumamoc-talks-desert-purple-martins-star-birds-of-the-arizona-monsoon/
LOCATION:Tumamoc Hill Boathouse\, 1675 W Anklam Road\, Tucson\, United States
CATEGORIES:Lectures
ATTACH;FMTTYPE=image/png:https://santacruzheritage.org/wp-content/uploads/2026/03/Screen-Shot-2026-03-02-at-5.33.30-PM.png
ORGANIZER;CN="Desert Laboratory on Tumamoc Hill":MAILTO:tumamoc-hill@arizona.edu
END:VEVENT
END:VCALENDAR