BEGIN:VCALENDAR
VERSION:2.0
PRODID:-//Santa Cruz Valley National Heritage Area - ECPv6.15.20//NONSGML v1.0//EN
CALSCALE:GREGORIAN
METHOD:PUBLISH
X-WR-CALNAME:Santa Cruz Valley National Heritage Area
X-ORIGINAL-URL:https://santacruzheritage.org
X-WR-CALDESC:Events for Santa Cruz Valley National Heritage Area
REFRESH-INTERVAL;VALUE=DURATION:PT1H
X-Robots-Tag:noindex
X-PUBLISHED-TTL:PT1H
BEGIN:VTIMEZONE
TZID:America/Phoenix
BEGIN:STANDARD
TZOFFSETFROM:-0700
TZOFFSETTO:-0700
TZNAME:MST
DTSTART:20290101T000000
END:STANDARD
END:VTIMEZONE
BEGIN:VEVENT
DTSTART;TZID=America/Phoenix:20300928T080000
DTEND;TZID=America/Phoenix:20300928T110000
DTSTAMP:20260424T182112
CREATED:20250508T162956Z
LAST-MODIFIED:20260122T232744Z
UID:10004054-1916812800-1916823600@santacruzheritage.org
SUMMARY:Archaeology Day
DESCRIPTION:At our monthly (fourth Saturday) Archaeology Day\, representatives of Tucson’s archaeology community come to Mission Garden to teach practical hands-on skills. Archaeology Southwest will be doing their Hands-on Archaeology program. It allows kids of all ages to try out fascinating ancient technologies. Old Pueblo Archaeology Center is represented at these events\, also presenting interactive programs about things like pinch pots\, pendants\, and cordage. John Palacio speaks about and demonstrates making replicas of petroglyphs. Come join in any time between 8am and 11am.
URL:https://santacruzheritage.org/event/archaeology-day/2030-09-28/
LOCATION:Mission Garden\, 946 W Mission Ln\, Tucson\, AZ\, 85745
CATEGORIES:History,Youth Programming
ATTACH;FMTTYPE=image/png:https://santacruzheritage.org/wp-content/uploads/2025/05/PithouseinarchaeologicalexcavationAllenDenoyerHomerThiel.png
END:VEVENT
BEGIN:VEVENT
DTSTART;TZID=America/Phoenix:20301026T080000
DTEND;TZID=America/Phoenix:20301026T110000
DTSTAMP:20260424T182112
CREATED:20250508T162956Z
LAST-MODIFIED:20260122T232744Z
UID:10004055-1919232000-1919242800@santacruzheritage.org
SUMMARY:Archaeology Day
DESCRIPTION:At our monthly (fourth Saturday) Archaeology Day\, representatives of Tucson’s archaeology community come to Mission Garden to teach practical hands-on skills. Archaeology Southwest will be doing their Hands-on Archaeology program. It allows kids of all ages to try out fascinating ancient technologies. Old Pueblo Archaeology Center is represented at these events\, also presenting interactive programs about things like pinch pots\, pendants\, and cordage. John Palacio speaks about and demonstrates making replicas of petroglyphs. Come join in any time between 8am and 11am.
URL:https://santacruzheritage.org/event/archaeology-day/2030-10-26/
LOCATION:Mission Garden\, 946 W Mission Ln\, Tucson\, AZ\, 85745
CATEGORIES:History,Youth Programming
ATTACH;FMTTYPE=image/png:https://santacruzheritage.org/wp-content/uploads/2025/05/PithouseinarchaeologicalexcavationAllenDenoyerHomerThiel.png
END:VEVENT
BEGIN:VEVENT
DTSTART;TZID=America/Phoenix:20301123T080000
DTEND;TZID=America/Phoenix:20301123T110000
DTSTAMP:20260424T182112
CREATED:20250508T162956Z
LAST-MODIFIED:20260122T232744Z
UID:10004137-1921651200-1921662000@santacruzheritage.org
SUMMARY:Archaeology Day
DESCRIPTION:At our monthly (fourth Saturday) Archaeology Day\, representatives of Tucson’s archaeology community come to Mission Garden to teach practical hands-on skills. Archaeology Southwest will be doing their Hands-on Archaeology program. It allows kids of all ages to try out fascinating ancient technologies. Old Pueblo Archaeology Center is represented at these events\, also presenting interactive programs about things like pinch pots\, pendants\, and cordage. John Palacio speaks about and demonstrates making replicas of petroglyphs. Come join in any time between 8am and 11am.
URL:https://santacruzheritage.org/event/archaeology-day/2030-11-23/
LOCATION:Mission Garden\, 946 W Mission Ln\, Tucson\, AZ\, 85745
CATEGORIES:History,Youth Programming
ATTACH;FMTTYPE=image/png:https://santacruzheritage.org/wp-content/uploads/2025/05/PithouseinarchaeologicalexcavationAllenDenoyerHomerThiel.png
END:VEVENT
BEGIN:VEVENT
DTSTART;TZID=America/Phoenix:20301228T080000
DTEND;TZID=America/Phoenix:20301228T110000
DTSTAMP:20260424T182112
CREATED:20250508T162956Z
LAST-MODIFIED:20260122T232744Z
UID:10004268-1924675200-1924686000@santacruzheritage.org
SUMMARY:Archaeology Day
DESCRIPTION:At our monthly (fourth Saturday) Archaeology Day\, representatives of Tucson’s archaeology community come to Mission Garden to teach practical hands-on skills. Archaeology Southwest will be doing their Hands-on Archaeology program. It allows kids of all ages to try out fascinating ancient technologies. Old Pueblo Archaeology Center is represented at these events\, also presenting interactive programs about things like pinch pots\, pendants\, and cordage. John Palacio speaks about and demonstrates making replicas of petroglyphs. Come join in any time between 8am and 11am.
URL:https://santacruzheritage.org/event/archaeology-day/2030-12-28/
LOCATION:Mission Garden\, 946 W Mission Ln\, Tucson\, AZ\, 85745
CATEGORIES:History,Youth Programming
ATTACH;FMTTYPE=image/png:https://santacruzheritage.org/wp-content/uploads/2025/05/PithouseinarchaeologicalexcavationAllenDenoyerHomerThiel.png
END:VEVENT
BEGIN:VEVENT
DTSTART;TZID=America/Phoenix:20310125T080000
DTEND;TZID=America/Phoenix:20310125T110000
DTSTAMP:20260424T182112
CREATED:20250508T162956Z
LAST-MODIFIED:20260122T232744Z
UID:10004275-1927094400-1927105200@santacruzheritage.org
SUMMARY:Archaeology Day
DESCRIPTION:At our monthly (fourth Saturday) Archaeology Day\, representatives of Tucson’s archaeology community come to Mission Garden to teach practical hands-on skills. Archaeology Southwest will be doing their Hands-on Archaeology program. It allows kids of all ages to try out fascinating ancient technologies. Old Pueblo Archaeology Center is represented at these events\, also presenting interactive programs about things like pinch pots\, pendants\, and cordage. John Palacio speaks about and demonstrates making replicas of petroglyphs. Come join in any time between 8am and 11am.
URL:https://santacruzheritage.org/event/archaeology-day/2031-01-25/
LOCATION:Mission Garden\, 946 W Mission Ln\, Tucson\, AZ\, 85745
CATEGORIES:History,Youth Programming
ATTACH;FMTTYPE=image/png:https://santacruzheritage.org/wp-content/uploads/2025/05/PithouseinarchaeologicalexcavationAllenDenoyerHomerThiel.png
END:VEVENT
BEGIN:VEVENT
DTSTART;TZID=America/Phoenix:20310222T080000
DTEND;TZID=America/Phoenix:20310222T110000
DTSTAMP:20260424T182112
CREATED:20250508T162956Z
LAST-MODIFIED:20260122T232744Z
UID:10005423-1929513600-1929524400@santacruzheritage.org
SUMMARY:Archaeology Day
DESCRIPTION:At our monthly (fourth Saturday) Archaeology Day\, representatives of Tucson’s archaeology community come to Mission Garden to teach practical hands-on skills. Archaeology Southwest will be doing their Hands-on Archaeology program. It allows kids of all ages to try out fascinating ancient technologies. Old Pueblo Archaeology Center is represented at these events\, also presenting interactive programs about things like pinch pots\, pendants\, and cordage. John Palacio speaks about and demonstrates making replicas of petroglyphs. Come join in any time between 8am and 11am.
URL:https://santacruzheritage.org/event/archaeology-day/2031-02-22/
LOCATION:Mission Garden\, 946 W Mission Ln\, Tucson\, AZ\, 85745
CATEGORIES:History,Youth Programming
ATTACH;FMTTYPE=image/png:https://santacruzheritage.org/wp-content/uploads/2025/05/PithouseinarchaeologicalexcavationAllenDenoyerHomerThiel.png
END:VEVENT
BEGIN:VEVENT
DTSTART;TZID=America/Phoenix:20310322T080000
DTEND;TZID=America/Phoenix:20310322T110000
DTSTAMP:20260424T182112
CREATED:20250508T162956Z
LAST-MODIFIED:20260122T232744Z
UID:10005873-1931932800-1931943600@santacruzheritage.org
SUMMARY:Archaeology Day
DESCRIPTION:At our monthly (fourth Saturday) Archaeology Day\, representatives of Tucson’s archaeology community come to Mission Garden to teach practical hands-on skills. Archaeology Southwest will be doing their Hands-on Archaeology program. It allows kids of all ages to try out fascinating ancient technologies. Old Pueblo Archaeology Center is represented at these events\, also presenting interactive programs about things like pinch pots\, pendants\, and cordage. John Palacio speaks about and demonstrates making replicas of petroglyphs. Come join in any time between 8am and 11am.
URL:https://santacruzheritage.org/event/archaeology-day/2031-03-22/
LOCATION:Mission Garden\, 946 W Mission Ln\, Tucson\, AZ\, 85745
CATEGORIES:History,Youth Programming
ATTACH;FMTTYPE=image/png:https://santacruzheritage.org/wp-content/uploads/2025/05/PithouseinarchaeologicalexcavationAllenDenoyerHomerThiel.png
END:VEVENT
END:VCALENDAR