BEGIN:VCALENDAR
VERSION:2.0
PRODID:-//Santa Cruz Valley National Heritage Area - ECPv6.15.20//NONSGML v1.0//EN
CALSCALE:GREGORIAN
METHOD:PUBLISH
X-WR-CALNAME:Santa Cruz Valley National Heritage Area
X-ORIGINAL-URL:https://santacruzheritage.org
X-WR-CALDESC:Events for Santa Cruz Valley National Heritage Area
REFRESH-INTERVAL;VALUE=DURATION:PT1H
X-Robots-Tag:noindex
X-PUBLISHED-TTL:PT1H
BEGIN:VTIMEZONE
TZID:America/Phoenix
BEGIN:STANDARD
TZOFFSETFROM:-0700
TZOFFSETTO:-0700
TZNAME:MST
DTSTART:20250101T000000
END:STANDARD
END:VTIMEZONE
BEGIN:VEVENT
DTSTART;TZID=America/Phoenix:20260424T090000
DTEND;TZID=America/Phoenix:20260424T170000
DTSTAMP:20260424T021151
CREATED:20260305T190819Z
LAST-MODIFIED:20260305T191658Z
UID:10005471-1777021200-1777050000@santacruzheritage.org
SUMMARY:ASARCO Self Guided Center Tours
DESCRIPTION:Since we opened our doors in 1997\, the ASARCO Mineral Discovery Center & Mine Tours’ vision has been to educate communities on the vital importance of the copper mining industry to our civilization\, to educate students and teachers in earth sciences\, and to preserve Arizona’s mining history. \nWe invite you to take our free self-guided tour of the center’s indoor and outdoor exhibits\, which walks through the copper transformation process. Afterward\, peruse the Company Store for unique and educational gifts.
URL:https://santacruzheritage.org/event/asarco-self-guided-center-tours/2026-04-24/
LOCATION:ASARCO Mineral Discovery Center\, 1421 W Pima Mine Rd\, Sahuarita\, 85629\, United States
CATEGORIES:History,Tours,Youth Programming
END:VEVENT
BEGIN:VEVENT
DTSTART;TZID=America/Phoenix:20260424T093000
DTEND;TZID=America/Phoenix:20260424T103000
DTSTAMP:20260424T021151
CREATED:20260305T191614Z
LAST-MODIFIED:20260305T191614Z
UID:10005773-1777023000-1777026600@santacruzheritage.org
SUMMARY:ASARCO
DESCRIPTION:The ASARCO Mineral Discovery Center & Mine Tours’ vision has been to educate communities on the vital importance of the copper mining industry to  civilization\, to educate students and teachers in earth sciences\, and to preserve Arizona’s mining history.’ \nJoin the mine tour for a firsthand look at the copper transformation process. Ticketed mine tours are approximately 65 minutes long. \nTours at 9:30 am\, 11:15 am\, 1:15 pm\, & 3:00 pm \nSPECIAL INSTRUCTIONS FOR THE MINE TOUR \n\n\nClosed-toed shoes are required to take the tour. No Crocs\, sandals\, or flip-flops will be allowed.\nWe suggest bringing a water bottle (filtered water station is available in the Center).\nPlease dress comfortably.
URL:https://santacruzheritage.org/event/asarco/2026-04-24/
LOCATION:ASARCO Mineral Discovery Center\, 1421 W Pima Mine Rd\, Sahuarita\, 85629\, United States
CATEGORIES:History,Tours,Youth Programming
END:VEVENT
BEGIN:VEVENT
DTSTART;TZID=America/Phoenix:20260425T080000
DTEND;TZID=America/Phoenix:20260425T110000
DTSTAMP:20260424T021151
CREATED:20250508T162956Z
LAST-MODIFIED:20260122T232744Z
UID:10003770-1777104000-1777114800@santacruzheritage.org
SUMMARY:Archaeology Day
DESCRIPTION:At our monthly (fourth Saturday) Archaeology Day\, representatives of Tucson’s archaeology community come to Mission Garden to teach practical hands-on skills. Archaeology Southwest will be doing their Hands-on Archaeology program. It allows kids of all ages to try out fascinating ancient technologies. Old Pueblo Archaeology Center is represented at these events\, also presenting interactive programs about things like pinch pots\, pendants\, and cordage. John Palacio speaks about and demonstrates making replicas of petroglyphs. Come join in any time between 8am and 11am.
URL:https://santacruzheritage.org/event/archaeology-day/2026-04-25/
LOCATION:Mission Garden\, 946 W Mission Ln\, Tucson\, AZ\, 85745
CATEGORIES:History,Youth Programming
ATTACH;FMTTYPE=image/png:https://santacruzheritage.org/wp-content/uploads/2025/05/PithouseinarchaeologicalexcavationAllenDenoyerHomerThiel.png
END:VEVENT
BEGIN:VEVENT
DTSTART;TZID=America/Phoenix:20260425T090000
DTEND;TZID=America/Phoenix:20260425T120000
DTSTAMP:20260424T021151
CREATED:20260330T203726Z
LAST-MODIFIED:20260330T203726Z
UID:10005867-1777107600-1777118400@santacruzheritage.org
SUMMARY:America Semiquincentennial and the Town of Oro Valley
DESCRIPTION:This is the last time to visit the season-long celebration of the America Semiquincentennial journey with the Oro Valley Historical Society in the Pusch House Museum at historic Steam Pump Ranch.  America Semiquincentennial and the Town of Oro Valley  connects national\, state\, and local stories of perseverance. Volunteers will be available\, and tours are complimentary with appreciated donations.  We will return to the Ranch for our new season starting in September and look forward to seeing you then – history loves company!
URL:https://santacruzheritage.org/event/america-semiquincentennial-and-the-town-of-oro-valley-4/
LOCATION:Steam Pump Ranch\, 10901 North Oracle Road\, Oro Valley\, 85737\, United States
CATEGORIES:History
ATTACH;FMTTYPE=image/jpeg:https://santacruzheritage.org/wp-content/uploads/2026/03/ov-seal-news.jpg
ORGANIZER;CN="Oro Valley Historical Society":MAILTO:secretary@ovhistory.org
END:VEVENT
BEGIN:VEVENT
DTSTART;TZID=America/Phoenix:20260425T090000
DTEND;TZID=America/Phoenix:20260425T170000
DTSTAMP:20260424T021151
CREATED:20260305T190819Z
LAST-MODIFIED:20260305T191658Z
UID:10005472-1777107600-1777136400@santacruzheritage.org
SUMMARY:ASARCO Self Guided Center Tours
DESCRIPTION:Since we opened our doors in 1997\, the ASARCO Mineral Discovery Center & Mine Tours’ vision has been to educate communities on the vital importance of the copper mining industry to our civilization\, to educate students and teachers in earth sciences\, and to preserve Arizona’s mining history. \nWe invite you to take our free self-guided tour of the center’s indoor and outdoor exhibits\, which walks through the copper transformation process. Afterward\, peruse the Company Store for unique and educational gifts.
URL:https://santacruzheritage.org/event/asarco-self-guided-center-tours/2026-04-25/
LOCATION:ASARCO Mineral Discovery Center\, 1421 W Pima Mine Rd\, Sahuarita\, 85629\, United States
CATEGORIES:History,Tours,Youth Programming
END:VEVENT
BEGIN:VEVENT
DTSTART;TZID=America/Phoenix:20260425T093000
DTEND;TZID=America/Phoenix:20260425T103000
DTSTAMP:20260424T021151
CREATED:20260305T191614Z
LAST-MODIFIED:20260305T191614Z
UID:10005774-1777109400-1777113000@santacruzheritage.org
SUMMARY:ASARCO
DESCRIPTION:The ASARCO Mineral Discovery Center & Mine Tours’ vision has been to educate communities on the vital importance of the copper mining industry to  civilization\, to educate students and teachers in earth sciences\, and to preserve Arizona’s mining history.’ \nJoin the mine tour for a firsthand look at the copper transformation process. Ticketed mine tours are approximately 65 minutes long. \nTours at 9:30 am\, 11:15 am\, 1:15 pm\, & 3:00 pm \nSPECIAL INSTRUCTIONS FOR THE MINE TOUR \n\n\nClosed-toed shoes are required to take the tour. No Crocs\, sandals\, or flip-flops will be allowed.\nWe suggest bringing a water bottle (filtered water station is available in the Center).\nPlease dress comfortably.
URL:https://santacruzheritage.org/event/asarco/2026-04-25/
LOCATION:ASARCO Mineral Discovery Center\, 1421 W Pima Mine Rd\, Sahuarita\, 85629\, United States
CATEGORIES:History,Tours,Youth Programming
END:VEVENT
BEGIN:VEVENT
DTSTART;TZID=America/Phoenix:20260428T090000
DTEND;TZID=America/Phoenix:20260428T170000
DTSTAMP:20260424T021151
CREATED:20260305T190819Z
LAST-MODIFIED:20260305T191658Z
UID:10005473-1777366800-1777395600@santacruzheritage.org
SUMMARY:ASARCO Self Guided Center Tours
DESCRIPTION:Since we opened our doors in 1997\, the ASARCO Mineral Discovery Center & Mine Tours’ vision has been to educate communities on the vital importance of the copper mining industry to our civilization\, to educate students and teachers in earth sciences\, and to preserve Arizona’s mining history. \nWe invite you to take our free self-guided tour of the center’s indoor and outdoor exhibits\, which walks through the copper transformation process. Afterward\, peruse the Company Store for unique and educational gifts.
URL:https://santacruzheritage.org/event/asarco-self-guided-center-tours/2026-04-28/
LOCATION:ASARCO Mineral Discovery Center\, 1421 W Pima Mine Rd\, Sahuarita\, 85629\, United States
CATEGORIES:History,Tours,Youth Programming
END:VEVENT
BEGIN:VEVENT
DTSTART;TZID=America/Phoenix:20260428T093000
DTEND;TZID=America/Phoenix:20260428T103000
DTSTAMP:20260424T021151
CREATED:20260305T191614Z
LAST-MODIFIED:20260305T191614Z
UID:10005775-1777368600-1777372200@santacruzheritage.org
SUMMARY:ASARCO
DESCRIPTION:The ASARCO Mineral Discovery Center & Mine Tours’ vision has been to educate communities on the vital importance of the copper mining industry to  civilization\, to educate students and teachers in earth sciences\, and to preserve Arizona’s mining history.’ \nJoin the mine tour for a firsthand look at the copper transformation process. Ticketed mine tours are approximately 65 minutes long. \nTours at 9:30 am\, 11:15 am\, 1:15 pm\, & 3:00 pm \nSPECIAL INSTRUCTIONS FOR THE MINE TOUR \n\n\nClosed-toed shoes are required to take the tour. No Crocs\, sandals\, or flip-flops will be allowed.\nWe suggest bringing a water bottle (filtered water station is available in the Center).\nPlease dress comfortably.
URL:https://santacruzheritage.org/event/asarco/2026-04-28/
LOCATION:ASARCO Mineral Discovery Center\, 1421 W Pima Mine Rd\, Sahuarita\, 85629\, United States
CATEGORIES:History,Tours,Youth Programming
END:VEVENT
BEGIN:VEVENT
DTSTART;TZID=America/Phoenix:20260429T090000
DTEND;TZID=America/Phoenix:20260429T170000
DTSTAMP:20260424T021151
CREATED:20260305T190819Z
LAST-MODIFIED:20260305T191658Z
UID:10005474-1777453200-1777482000@santacruzheritage.org
SUMMARY:ASARCO Self Guided Center Tours
DESCRIPTION:Since we opened our doors in 1997\, the ASARCO Mineral Discovery Center & Mine Tours’ vision has been to educate communities on the vital importance of the copper mining industry to our civilization\, to educate students and teachers in earth sciences\, and to preserve Arizona’s mining history. \nWe invite you to take our free self-guided tour of the center’s indoor and outdoor exhibits\, which walks through the copper transformation process. Afterward\, peruse the Company Store for unique and educational gifts.
URL:https://santacruzheritage.org/event/asarco-self-guided-center-tours/2026-04-29/
LOCATION:ASARCO Mineral Discovery Center\, 1421 W Pima Mine Rd\, Sahuarita\, 85629\, United States
CATEGORIES:History,Tours,Youth Programming
END:VEVENT
BEGIN:VEVENT
DTSTART;TZID=America/Phoenix:20260429T093000
DTEND;TZID=America/Phoenix:20260429T103000
DTSTAMP:20260424T021151
CREATED:20260305T191614Z
LAST-MODIFIED:20260305T191614Z
UID:10005776-1777455000-1777458600@santacruzheritage.org
SUMMARY:ASARCO
DESCRIPTION:The ASARCO Mineral Discovery Center & Mine Tours’ vision has been to educate communities on the vital importance of the copper mining industry to  civilization\, to educate students and teachers in earth sciences\, and to preserve Arizona’s mining history.’ \nJoin the mine tour for a firsthand look at the copper transformation process. Ticketed mine tours are approximately 65 minutes long. \nTours at 9:30 am\, 11:15 am\, 1:15 pm\, & 3:00 pm \nSPECIAL INSTRUCTIONS FOR THE MINE TOUR \n\n\nClosed-toed shoes are required to take the tour. No Crocs\, sandals\, or flip-flops will be allowed.\nWe suggest bringing a water bottle (filtered water station is available in the Center).\nPlease dress comfortably.
URL:https://santacruzheritage.org/event/asarco/2026-04-29/
LOCATION:ASARCO Mineral Discovery Center\, 1421 W Pima Mine Rd\, Sahuarita\, 85629\, United States
CATEGORIES:History,Tours,Youth Programming
END:VEVENT
BEGIN:VEVENT
DTSTART;TZID=America/Phoenix:20260430T090000
DTEND;TZID=America/Phoenix:20260430T170000
DTSTAMP:20260424T021151
CREATED:20260305T190819Z
LAST-MODIFIED:20260305T191658Z
UID:10005475-1777539600-1777568400@santacruzheritage.org
SUMMARY:ASARCO Self Guided Center Tours
DESCRIPTION:Since we opened our doors in 1997\, the ASARCO Mineral Discovery Center & Mine Tours’ vision has been to educate communities on the vital importance of the copper mining industry to our civilization\, to educate students and teachers in earth sciences\, and to preserve Arizona’s mining history. \nWe invite you to take our free self-guided tour of the center’s indoor and outdoor exhibits\, which walks through the copper transformation process. Afterward\, peruse the Company Store for unique and educational gifts.
URL:https://santacruzheritage.org/event/asarco-self-guided-center-tours/2026-04-30/
LOCATION:ASARCO Mineral Discovery Center\, 1421 W Pima Mine Rd\, Sahuarita\, 85629\, United States
CATEGORIES:History,Tours,Youth Programming
END:VEVENT
BEGIN:VEVENT
DTSTART;TZID=America/Phoenix:20260430T093000
DTEND;TZID=America/Phoenix:20260430T103000
DTSTAMP:20260424T021151
CREATED:20260305T191614Z
LAST-MODIFIED:20260305T191614Z
UID:10005777-1777541400-1777545000@santacruzheritage.org
SUMMARY:ASARCO
DESCRIPTION:The ASARCO Mineral Discovery Center & Mine Tours’ vision has been to educate communities on the vital importance of the copper mining industry to  civilization\, to educate students and teachers in earth sciences\, and to preserve Arizona’s mining history.’ \nJoin the mine tour for a firsthand look at the copper transformation process. Ticketed mine tours are approximately 65 minutes long. \nTours at 9:30 am\, 11:15 am\, 1:15 pm\, & 3:00 pm \nSPECIAL INSTRUCTIONS FOR THE MINE TOUR \n\n\nClosed-toed shoes are required to take the tour. No Crocs\, sandals\, or flip-flops will be allowed.\nWe suggest bringing a water bottle (filtered water station is available in the Center).\nPlease dress comfortably.
URL:https://santacruzheritage.org/event/asarco/2026-04-30/
LOCATION:ASARCO Mineral Discovery Center\, 1421 W Pima Mine Rd\, Sahuarita\, 85629\, United States
CATEGORIES:History,Tours,Youth Programming
END:VEVENT
END:VCALENDAR