BEGIN:VCALENDAR
VERSION:2.0
PRODID:-//Santa Cruz Valley National Heritage Area - ECPv6.15.20//NONSGML v1.0//EN
CALSCALE:GREGORIAN
METHOD:PUBLISH
X-ORIGINAL-URL:https://santacruzheritage.org
X-WR-CALDESC:Events for Santa Cruz Valley National Heritage Area
REFRESH-INTERVAL;VALUE=DURATION:PT1H
X-Robots-Tag:noindex
X-PUBLISHED-TTL:PT1H
BEGIN:VTIMEZONE
TZID:America/Phoenix
BEGIN:STANDARD
TZOFFSETFROM:-0700
TZOFFSETTO:-0700
TZNAME:MST
DTSTART:20260101T000000
END:STANDARD
END:VTIMEZONE
BEGIN:VEVENT
DTSTART;TZID=America/Phoenix:20270306T090000
DTEND;TZID=America/Phoenix:20270306T100000
DTSTAMP:20260425T054306
CREATED:20250325T172454Z
LAST-MODIFIED:20260401T230953Z
UID:10003385-1804323600-1804327200@santacruzheritage.org
SUMMARY:Healing Herb Walk
DESCRIPTION:Learn about some of the 50 medicinal plants in Mission Garden’s Moore Medicinal Garden. The plants are native to the American Southwest deserts and in many cases have been used for millennia. Modern herbalists are keeping this tradition alive at Mission Garden.
URL:https://santacruzheritage.org/event/healing-herb-walk/2027-03-06/
LOCATION:Mission Garden\, 946 W Mission Ln\, Tucson\, AZ\, 85745
CATEGORIES:Hikes
ATTACH;FMTTYPE=image/jpeg:https://santacruzheritage.org/wp-content/uploads/2025/03/Texas2BRanger2Bin2BMichael2BMoore2BMedicinal2BGarden2B5BKendall2BKroesen5D.jpg
END:VEVENT
BEGIN:VEVENT
DTSTART;TZID=America/Phoenix:20270403T090000
DTEND;TZID=America/Phoenix:20270403T100000
DTSTAMP:20260425T054306
CREATED:20250325T172454Z
LAST-MODIFIED:20260401T230953Z
UID:10003386-1806742800-1806746400@santacruzheritage.org
SUMMARY:Healing Herb Walk
DESCRIPTION:Learn about some of the 50 medicinal plants in Mission Garden’s Moore Medicinal Garden. The plants are native to the American Southwest deserts and in many cases have been used for millennia. Modern herbalists are keeping this tradition alive at Mission Garden.
URL:https://santacruzheritage.org/event/healing-herb-walk/2027-04-03/
LOCATION:Mission Garden\, 946 W Mission Ln\, Tucson\, AZ\, 85745
CATEGORIES:Hikes
ATTACH;FMTTYPE=image/jpeg:https://santacruzheritage.org/wp-content/uploads/2025/03/Texas2BRanger2Bin2BMichael2BMoore2BMedicinal2BGarden2B5BKendall2BKroesen5D.jpg
END:VEVENT
BEGIN:VEVENT
DTSTART;TZID=America/Phoenix:20270501T090000
DTEND;TZID=America/Phoenix:20270501T100000
DTSTAMP:20260425T054306
CREATED:20250325T172454Z
LAST-MODIFIED:20260401T230953Z
UID:10003387-1809162000-1809165600@santacruzheritage.org
SUMMARY:Healing Herb Walk
DESCRIPTION:Learn about some of the 50 medicinal plants in Mission Garden’s Moore Medicinal Garden. The plants are native to the American Southwest deserts and in many cases have been used for millennia. Modern herbalists are keeping this tradition alive at Mission Garden.
URL:https://santacruzheritage.org/event/healing-herb-walk/2027-05-01/
LOCATION:Mission Garden\, 946 W Mission Ln\, Tucson\, AZ\, 85745
CATEGORIES:Hikes
ATTACH;FMTTYPE=image/jpeg:https://santacruzheritage.org/wp-content/uploads/2025/03/Texas2BRanger2Bin2BMichael2BMoore2BMedicinal2BGarden2B5BKendall2BKroesen5D.jpg
END:VEVENT
BEGIN:VEVENT
DTSTART;TZID=America/Phoenix:20270605T090000
DTEND;TZID=America/Phoenix:20270605T100000
DTSTAMP:20260425T054306
CREATED:20250325T172454Z
LAST-MODIFIED:20260401T230953Z
UID:10003388-1812186000-1812189600@santacruzheritage.org
SUMMARY:Healing Herb Walk
DESCRIPTION:Learn about some of the 50 medicinal plants in Mission Garden’s Moore Medicinal Garden. The plants are native to the American Southwest deserts and in many cases have been used for millennia. Modern herbalists are keeping this tradition alive at Mission Garden.
URL:https://santacruzheritage.org/event/healing-herb-walk/2027-06-05/
LOCATION:Mission Garden\, 946 W Mission Ln\, Tucson\, AZ\, 85745
CATEGORIES:Hikes
ATTACH;FMTTYPE=image/jpeg:https://santacruzheritage.org/wp-content/uploads/2025/03/Texas2BRanger2Bin2BMichael2BMoore2BMedicinal2BGarden2B5BKendall2BKroesen5D.jpg
END:VEVENT
BEGIN:VEVENT
DTSTART;TZID=America/Phoenix:20270703T090000
DTEND;TZID=America/Phoenix:20270703T100000
DTSTAMP:20260425T054306
CREATED:20250325T172454Z
LAST-MODIFIED:20260401T230953Z
UID:10003389-1814605200-1814608800@santacruzheritage.org
SUMMARY:Healing Herb Walk
DESCRIPTION:Learn about some of the 50 medicinal plants in Mission Garden’s Moore Medicinal Garden. The plants are native to the American Southwest deserts and in many cases have been used for millennia. Modern herbalists are keeping this tradition alive at Mission Garden.
URL:https://santacruzheritage.org/event/healing-herb-walk/2027-07-03/
LOCATION:Mission Garden\, 946 W Mission Ln\, Tucson\, AZ\, 85745
CATEGORIES:Hikes
ATTACH;FMTTYPE=image/jpeg:https://santacruzheritage.org/wp-content/uploads/2025/03/Texas2BRanger2Bin2BMichael2BMoore2BMedicinal2BGarden2B5BKendall2BKroesen5D.jpg
END:VEVENT
BEGIN:VEVENT
DTSTART;TZID=America/Phoenix:20270807T090000
DTEND;TZID=America/Phoenix:20270807T100000
DTSTAMP:20260425T054306
CREATED:20250325T172454Z
LAST-MODIFIED:20260401T230953Z
UID:10003390-1817629200-1817632800@santacruzheritage.org
SUMMARY:Healing Herb Walk
DESCRIPTION:Learn about some of the 50 medicinal plants in Mission Garden’s Moore Medicinal Garden. The plants are native to the American Southwest deserts and in many cases have been used for millennia. Modern herbalists are keeping this tradition alive at Mission Garden.
URL:https://santacruzheritage.org/event/healing-herb-walk/2027-08-07/
LOCATION:Mission Garden\, 946 W Mission Ln\, Tucson\, AZ\, 85745
CATEGORIES:Hikes
ATTACH;FMTTYPE=image/jpeg:https://santacruzheritage.org/wp-content/uploads/2025/03/Texas2BRanger2Bin2BMichael2BMoore2BMedicinal2BGarden2B5BKendall2BKroesen5D.jpg
END:VEVENT
BEGIN:VEVENT
DTSTART;TZID=America/Phoenix:20270904T090000
DTEND;TZID=America/Phoenix:20270904T100000
DTSTAMP:20260425T054306
CREATED:20250325T172454Z
LAST-MODIFIED:20260401T230953Z
UID:10003391-1820048400-1820052000@santacruzheritage.org
SUMMARY:Healing Herb Walk
DESCRIPTION:Learn about some of the 50 medicinal plants in Mission Garden’s Moore Medicinal Garden. The plants are native to the American Southwest deserts and in many cases have been used for millennia. Modern herbalists are keeping this tradition alive at Mission Garden.
URL:https://santacruzheritage.org/event/healing-herb-walk/2027-09-04/
LOCATION:Mission Garden\, 946 W Mission Ln\, Tucson\, AZ\, 85745
CATEGORIES:Hikes
ATTACH;FMTTYPE=image/jpeg:https://santacruzheritage.org/wp-content/uploads/2025/03/Texas2BRanger2Bin2BMichael2BMoore2BMedicinal2BGarden2B5BKendall2BKroesen5D.jpg
END:VEVENT
BEGIN:VEVENT
DTSTART;TZID=America/Phoenix:20271002T090000
DTEND;TZID=America/Phoenix:20271002T100000
DTSTAMP:20260425T054306
CREATED:20250325T172454Z
LAST-MODIFIED:20260401T230953Z
UID:10003392-1822467600-1822471200@santacruzheritage.org
SUMMARY:Healing Herb Walk
DESCRIPTION:Learn about some of the 50 medicinal plants in Mission Garden’s Moore Medicinal Garden. The plants are native to the American Southwest deserts and in many cases have been used for millennia. Modern herbalists are keeping this tradition alive at Mission Garden.
URL:https://santacruzheritage.org/event/healing-herb-walk/2027-10-02/
LOCATION:Mission Garden\, 946 W Mission Ln\, Tucson\, AZ\, 85745
CATEGORIES:Hikes
ATTACH;FMTTYPE=image/jpeg:https://santacruzheritage.org/wp-content/uploads/2025/03/Texas2BRanger2Bin2BMichael2BMoore2BMedicinal2BGarden2B5BKendall2BKroesen5D.jpg
END:VEVENT
BEGIN:VEVENT
DTSTART;TZID=America/Phoenix:20271106T090000
DTEND;TZID=America/Phoenix:20271106T100000
DTSTAMP:20260425T054306
CREATED:20250325T172454Z
LAST-MODIFIED:20260401T230953Z
UID:10003393-1825491600-1825495200@santacruzheritage.org
SUMMARY:Healing Herb Walk
DESCRIPTION:Learn about some of the 50 medicinal plants in Mission Garden’s Moore Medicinal Garden. The plants are native to the American Southwest deserts and in many cases have been used for millennia. Modern herbalists are keeping this tradition alive at Mission Garden.
URL:https://santacruzheritage.org/event/healing-herb-walk/2027-11-06/
LOCATION:Mission Garden\, 946 W Mission Ln\, Tucson\, AZ\, 85745
CATEGORIES:Hikes
ATTACH;FMTTYPE=image/jpeg:https://santacruzheritage.org/wp-content/uploads/2025/03/Texas2BRanger2Bin2BMichael2BMoore2BMedicinal2BGarden2B5BKendall2BKroesen5D.jpg
END:VEVENT
BEGIN:VEVENT
DTSTART;TZID=America/Phoenix:20271204T090000
DTEND;TZID=America/Phoenix:20271204T100000
DTSTAMP:20260425T054306
CREATED:20250325T172454Z
LAST-MODIFIED:20260401T230953Z
UID:10003394-1827910800-1827914400@santacruzheritage.org
SUMMARY:Healing Herb Walk
DESCRIPTION:Learn about some of the 50 medicinal plants in Mission Garden’s Moore Medicinal Garden. The plants are native to the American Southwest deserts and in many cases have been used for millennia. Modern herbalists are keeping this tradition alive at Mission Garden.
URL:https://santacruzheritage.org/event/healing-herb-walk/2027-12-04/
LOCATION:Mission Garden\, 946 W Mission Ln\, Tucson\, AZ\, 85745
CATEGORIES:Hikes
ATTACH;FMTTYPE=image/jpeg:https://santacruzheritage.org/wp-content/uploads/2025/03/Texas2BRanger2Bin2BMichael2BMoore2BMedicinal2BGarden2B5BKendall2BKroesen5D.jpg
END:VEVENT
BEGIN:VEVENT
DTSTART;TZID=America/Phoenix:20280101T090000
DTEND;TZID=America/Phoenix:20280101T100000
DTSTAMP:20260425T054306
CREATED:20250325T172454Z
LAST-MODIFIED:20260401T230953Z
UID:10003395-1830330000-1830333600@santacruzheritage.org
SUMMARY:Healing Herb Walk
DESCRIPTION:Learn about some of the 50 medicinal plants in Mission Garden’s Moore Medicinal Garden. The plants are native to the American Southwest deserts and in many cases have been used for millennia. Modern herbalists are keeping this tradition alive at Mission Garden.
URL:https://santacruzheritage.org/event/healing-herb-walk/2028-01-01/
LOCATION:Mission Garden\, 946 W Mission Ln\, Tucson\, AZ\, 85745
CATEGORIES:Hikes
ATTACH;FMTTYPE=image/jpeg:https://santacruzheritage.org/wp-content/uploads/2025/03/Texas2BRanger2Bin2BMichael2BMoore2BMedicinal2BGarden2B5BKendall2BKroesen5D.jpg
END:VEVENT
BEGIN:VEVENT
DTSTART;TZID=America/Phoenix:20280205T090000
DTEND;TZID=America/Phoenix:20280205T100000
DTSTAMP:20260425T054306
CREATED:20250325T172454Z
LAST-MODIFIED:20260401T230953Z
UID:10003396-1833354000-1833357600@santacruzheritage.org
SUMMARY:Healing Herb Walk
DESCRIPTION:Learn about some of the 50 medicinal plants in Mission Garden’s Moore Medicinal Garden. The plants are native to the American Southwest deserts and in many cases have been used for millennia. Modern herbalists are keeping this tradition alive at Mission Garden.
URL:https://santacruzheritage.org/event/healing-herb-walk/2028-02-05/
LOCATION:Mission Garden\, 946 W Mission Ln\, Tucson\, AZ\, 85745
CATEGORIES:Hikes
ATTACH;FMTTYPE=image/jpeg:https://santacruzheritage.org/wp-content/uploads/2025/03/Texas2BRanger2Bin2BMichael2BMoore2BMedicinal2BGarden2B5BKendall2BKroesen5D.jpg
END:VEVENT
BEGIN:VEVENT
DTSTART;TZID=America/Phoenix:20280304T090000
DTEND;TZID=America/Phoenix:20280304T100000
DTSTAMP:20260425T054306
CREATED:20250325T172454Z
LAST-MODIFIED:20260401T230953Z
UID:10003397-1835773200-1835776800@santacruzheritage.org
SUMMARY:Healing Herb Walk
DESCRIPTION:Learn about some of the 50 medicinal plants in Mission Garden’s Moore Medicinal Garden. The plants are native to the American Southwest deserts and in many cases have been used for millennia. Modern herbalists are keeping this tradition alive at Mission Garden.
URL:https://santacruzheritage.org/event/healing-herb-walk/2028-03-04/
LOCATION:Mission Garden\, 946 W Mission Ln\, Tucson\, AZ\, 85745
CATEGORIES:Hikes
ATTACH;FMTTYPE=image/jpeg:https://santacruzheritage.org/wp-content/uploads/2025/03/Texas2BRanger2Bin2BMichael2BMoore2BMedicinal2BGarden2B5BKendall2BKroesen5D.jpg
END:VEVENT
BEGIN:VEVENT
DTSTART;TZID=America/Phoenix:20280401T090000
DTEND;TZID=America/Phoenix:20280401T100000
DTSTAMP:20260425T054306
CREATED:20250325T172454Z
LAST-MODIFIED:20260401T230953Z
UID:10003398-1838192400-1838196000@santacruzheritage.org
SUMMARY:Healing Herb Walk
DESCRIPTION:Learn about some of the 50 medicinal plants in Mission Garden’s Moore Medicinal Garden. The plants are native to the American Southwest deserts and in many cases have been used for millennia. Modern herbalists are keeping this tradition alive at Mission Garden.
URL:https://santacruzheritage.org/event/healing-herb-walk/2028-04-01/
LOCATION:Mission Garden\, 946 W Mission Ln\, Tucson\, AZ\, 85745
CATEGORIES:Hikes
ATTACH;FMTTYPE=image/jpeg:https://santacruzheritage.org/wp-content/uploads/2025/03/Texas2BRanger2Bin2BMichael2BMoore2BMedicinal2BGarden2B5BKendall2BKroesen5D.jpg
END:VEVENT
BEGIN:VEVENT
DTSTART;TZID=America/Phoenix:20280506T090000
DTEND;TZID=America/Phoenix:20280506T100000
DTSTAMP:20260425T054306
CREATED:20250325T172454Z
LAST-MODIFIED:20260401T230953Z
UID:10003399-1841216400-1841220000@santacruzheritage.org
SUMMARY:Healing Herb Walk
DESCRIPTION:Learn about some of the 50 medicinal plants in Mission Garden’s Moore Medicinal Garden. The plants are native to the American Southwest deserts and in many cases have been used for millennia. Modern herbalists are keeping this tradition alive at Mission Garden.
URL:https://santacruzheritage.org/event/healing-herb-walk/2028-05-06/
LOCATION:Mission Garden\, 946 W Mission Ln\, Tucson\, AZ\, 85745
CATEGORIES:Hikes
ATTACH;FMTTYPE=image/jpeg:https://santacruzheritage.org/wp-content/uploads/2025/03/Texas2BRanger2Bin2BMichael2BMoore2BMedicinal2BGarden2B5BKendall2BKroesen5D.jpg
END:VEVENT
BEGIN:VEVENT
DTSTART;TZID=America/Phoenix:20280603T090000
DTEND;TZID=America/Phoenix:20280603T100000
DTSTAMP:20260425T054306
CREATED:20250325T172454Z
LAST-MODIFIED:20260401T230953Z
UID:10003400-1843635600-1843639200@santacruzheritage.org
SUMMARY:Healing Herb Walk
DESCRIPTION:Learn about some of the 50 medicinal plants in Mission Garden’s Moore Medicinal Garden. The plants are native to the American Southwest deserts and in many cases have been used for millennia. Modern herbalists are keeping this tradition alive at Mission Garden.
URL:https://santacruzheritage.org/event/healing-herb-walk/2028-06-03/
LOCATION:Mission Garden\, 946 W Mission Ln\, Tucson\, AZ\, 85745
CATEGORIES:Hikes
ATTACH;FMTTYPE=image/jpeg:https://santacruzheritage.org/wp-content/uploads/2025/03/Texas2BRanger2Bin2BMichael2BMoore2BMedicinal2BGarden2B5BKendall2BKroesen5D.jpg
END:VEVENT
BEGIN:VEVENT
DTSTART;TZID=America/Phoenix:20280701T090000
DTEND;TZID=America/Phoenix:20280701T100000
DTSTAMP:20260425T054306
CREATED:20250325T172454Z
LAST-MODIFIED:20260401T230953Z
UID:10003401-1846054800-1846058400@santacruzheritage.org
SUMMARY:Healing Herb Walk
DESCRIPTION:Learn about some of the 50 medicinal plants in Mission Garden’s Moore Medicinal Garden. The plants are native to the American Southwest deserts and in many cases have been used for millennia. Modern herbalists are keeping this tradition alive at Mission Garden.
URL:https://santacruzheritage.org/event/healing-herb-walk/2028-07-01/
LOCATION:Mission Garden\, 946 W Mission Ln\, Tucson\, AZ\, 85745
CATEGORIES:Hikes
ATTACH;FMTTYPE=image/jpeg:https://santacruzheritage.org/wp-content/uploads/2025/03/Texas2BRanger2Bin2BMichael2BMoore2BMedicinal2BGarden2B5BKendall2BKroesen5D.jpg
END:VEVENT
BEGIN:VEVENT
DTSTART;TZID=America/Phoenix:20280805T090000
DTEND;TZID=America/Phoenix:20280805T100000
DTSTAMP:20260425T054306
CREATED:20250325T172454Z
LAST-MODIFIED:20260401T230953Z
UID:10003402-1849078800-1849082400@santacruzheritage.org
SUMMARY:Healing Herb Walk
DESCRIPTION:Learn about some of the 50 medicinal plants in Mission Garden’s Moore Medicinal Garden. The plants are native to the American Southwest deserts and in many cases have been used for millennia. Modern herbalists are keeping this tradition alive at Mission Garden.
URL:https://santacruzheritage.org/event/healing-herb-walk/2028-08-05/
LOCATION:Mission Garden\, 946 W Mission Ln\, Tucson\, AZ\, 85745
CATEGORIES:Hikes
ATTACH;FMTTYPE=image/jpeg:https://santacruzheritage.org/wp-content/uploads/2025/03/Texas2BRanger2Bin2BMichael2BMoore2BMedicinal2BGarden2B5BKendall2BKroesen5D.jpg
END:VEVENT
BEGIN:VEVENT
DTSTART;TZID=America/Phoenix:20280902T090000
DTEND;TZID=America/Phoenix:20280902T100000
DTSTAMP:20260425T054306
CREATED:20250325T172454Z
LAST-MODIFIED:20260401T230953Z
UID:10003403-1851498000-1851501600@santacruzheritage.org
SUMMARY:Healing Herb Walk
DESCRIPTION:Learn about some of the 50 medicinal plants in Mission Garden’s Moore Medicinal Garden. The plants are native to the American Southwest deserts and in many cases have been used for millennia. Modern herbalists are keeping this tradition alive at Mission Garden.
URL:https://santacruzheritage.org/event/healing-herb-walk/2028-09-02/
LOCATION:Mission Garden\, 946 W Mission Ln\, Tucson\, AZ\, 85745
CATEGORIES:Hikes
ATTACH;FMTTYPE=image/jpeg:https://santacruzheritage.org/wp-content/uploads/2025/03/Texas2BRanger2Bin2BMichael2BMoore2BMedicinal2BGarden2B5BKendall2BKroesen5D.jpg
END:VEVENT
BEGIN:VEVENT
DTSTART;TZID=America/Phoenix:20281007T090000
DTEND;TZID=America/Phoenix:20281007T100000
DTSTAMP:20260425T054306
CREATED:20250325T172454Z
LAST-MODIFIED:20260401T230953Z
UID:10003404-1854522000-1854525600@santacruzheritage.org
SUMMARY:Healing Herb Walk
DESCRIPTION:Learn about some of the 50 medicinal plants in Mission Garden’s Moore Medicinal Garden. The plants are native to the American Southwest deserts and in many cases have been used for millennia. Modern herbalists are keeping this tradition alive at Mission Garden.
URL:https://santacruzheritage.org/event/healing-herb-walk/2028-10-07/
LOCATION:Mission Garden\, 946 W Mission Ln\, Tucson\, AZ\, 85745
CATEGORIES:Hikes
ATTACH;FMTTYPE=image/jpeg:https://santacruzheritage.org/wp-content/uploads/2025/03/Texas2BRanger2Bin2BMichael2BMoore2BMedicinal2BGarden2B5BKendall2BKroesen5D.jpg
END:VEVENT
BEGIN:VEVENT
DTSTART;TZID=America/Phoenix:20281104T090000
DTEND;TZID=America/Phoenix:20281104T100000
DTSTAMP:20260425T054306
CREATED:20250325T172454Z
LAST-MODIFIED:20260401T230953Z
UID:10003405-1856941200-1856944800@santacruzheritage.org
SUMMARY:Healing Herb Walk
DESCRIPTION:Learn about some of the 50 medicinal plants in Mission Garden’s Moore Medicinal Garden. The plants are native to the American Southwest deserts and in many cases have been used for millennia. Modern herbalists are keeping this tradition alive at Mission Garden.
URL:https://santacruzheritage.org/event/healing-herb-walk/2028-11-04/
LOCATION:Mission Garden\, 946 W Mission Ln\, Tucson\, AZ\, 85745
CATEGORIES:Hikes
ATTACH;FMTTYPE=image/jpeg:https://santacruzheritage.org/wp-content/uploads/2025/03/Texas2BRanger2Bin2BMichael2BMoore2BMedicinal2BGarden2B5BKendall2BKroesen5D.jpg
END:VEVENT
BEGIN:VEVENT
DTSTART;TZID=America/Phoenix:20281202T090000
DTEND;TZID=America/Phoenix:20281202T100000
DTSTAMP:20260425T054306
CREATED:20250325T172454Z
LAST-MODIFIED:20260401T230953Z
UID:10003406-1859360400-1859364000@santacruzheritage.org
SUMMARY:Healing Herb Walk
DESCRIPTION:Learn about some of the 50 medicinal plants in Mission Garden’s Moore Medicinal Garden. The plants are native to the American Southwest deserts and in many cases have been used for millennia. Modern herbalists are keeping this tradition alive at Mission Garden.
URL:https://santacruzheritage.org/event/healing-herb-walk/2028-12-02/
LOCATION:Mission Garden\, 946 W Mission Ln\, Tucson\, AZ\, 85745
CATEGORIES:Hikes
ATTACH;FMTTYPE=image/jpeg:https://santacruzheritage.org/wp-content/uploads/2025/03/Texas2BRanger2Bin2BMichael2BMoore2BMedicinal2BGarden2B5BKendall2BKroesen5D.jpg
END:VEVENT
BEGIN:VEVENT
DTSTART;TZID=America/Phoenix:20290106T090000
DTEND;TZID=America/Phoenix:20290106T100000
DTSTAMP:20260425T054306
CREATED:20250325T172454Z
LAST-MODIFIED:20260401T230953Z
UID:10003407-1862384400-1862388000@santacruzheritage.org
SUMMARY:Healing Herb Walk
DESCRIPTION:Learn about some of the 50 medicinal plants in Mission Garden’s Moore Medicinal Garden. The plants are native to the American Southwest deserts and in many cases have been used for millennia. Modern herbalists are keeping this tradition alive at Mission Garden.
URL:https://santacruzheritage.org/event/healing-herb-walk/2029-01-06/
LOCATION:Mission Garden\, 946 W Mission Ln\, Tucson\, AZ\, 85745
CATEGORIES:Hikes
ATTACH;FMTTYPE=image/jpeg:https://santacruzheritage.org/wp-content/uploads/2025/03/Texas2BRanger2Bin2BMichael2BMoore2BMedicinal2BGarden2B5BKendall2BKroesen5D.jpg
END:VEVENT
BEGIN:VEVENT
DTSTART;TZID=America/Phoenix:20290203T090000
DTEND;TZID=America/Phoenix:20290203T100000
DTSTAMP:20260425T054306
CREATED:20250325T172454Z
LAST-MODIFIED:20260401T230953Z
UID:10003408-1864803600-1864807200@santacruzheritage.org
SUMMARY:Healing Herb Walk
DESCRIPTION:Learn about some of the 50 medicinal plants in Mission Garden’s Moore Medicinal Garden. The plants are native to the American Southwest deserts and in many cases have been used for millennia. Modern herbalists are keeping this tradition alive at Mission Garden.
URL:https://santacruzheritage.org/event/healing-herb-walk/2029-02-03/
LOCATION:Mission Garden\, 946 W Mission Ln\, Tucson\, AZ\, 85745
CATEGORIES:Hikes
ATTACH;FMTTYPE=image/jpeg:https://santacruzheritage.org/wp-content/uploads/2025/03/Texas2BRanger2Bin2BMichael2BMoore2BMedicinal2BGarden2B5BKendall2BKroesen5D.jpg
END:VEVENT
BEGIN:VEVENT
DTSTART;TZID=America/Phoenix:20290303T090000
DTEND;TZID=America/Phoenix:20290303T100000
DTSTAMP:20260425T054306
CREATED:20250325T172454Z
LAST-MODIFIED:20260401T230953Z
UID:10003409-1867222800-1867226400@santacruzheritage.org
SUMMARY:Healing Herb Walk
DESCRIPTION:Learn about some of the 50 medicinal plants in Mission Garden’s Moore Medicinal Garden. The plants are native to the American Southwest deserts and in many cases have been used for millennia. Modern herbalists are keeping this tradition alive at Mission Garden.
URL:https://santacruzheritage.org/event/healing-herb-walk/2029-03-03/
LOCATION:Mission Garden\, 946 W Mission Ln\, Tucson\, AZ\, 85745
CATEGORIES:Hikes
ATTACH;FMTTYPE=image/jpeg:https://santacruzheritage.org/wp-content/uploads/2025/03/Texas2BRanger2Bin2BMichael2BMoore2BMedicinal2BGarden2B5BKendall2BKroesen5D.jpg
END:VEVENT
BEGIN:VEVENT
DTSTART;TZID=America/Phoenix:20290407T090000
DTEND;TZID=America/Phoenix:20290407T100000
DTSTAMP:20260425T054306
CREATED:20250325T172454Z
LAST-MODIFIED:20260401T230953Z
UID:10003410-1870246800-1870250400@santacruzheritage.org
SUMMARY:Healing Herb Walk
DESCRIPTION:Learn about some of the 50 medicinal plants in Mission Garden’s Moore Medicinal Garden. The plants are native to the American Southwest deserts and in many cases have been used for millennia. Modern herbalists are keeping this tradition alive at Mission Garden.
URL:https://santacruzheritage.org/event/healing-herb-walk/2029-04-07/
LOCATION:Mission Garden\, 946 W Mission Ln\, Tucson\, AZ\, 85745
CATEGORIES:Hikes
ATTACH;FMTTYPE=image/jpeg:https://santacruzheritage.org/wp-content/uploads/2025/03/Texas2BRanger2Bin2BMichael2BMoore2BMedicinal2BGarden2B5BKendall2BKroesen5D.jpg
END:VEVENT
BEGIN:VEVENT
DTSTART;TZID=America/Phoenix:20290505T090000
DTEND;TZID=America/Phoenix:20290505T100000
DTSTAMP:20260425T054306
CREATED:20250325T172454Z
LAST-MODIFIED:20260401T230953Z
UID:10003411-1872666000-1872669600@santacruzheritage.org
SUMMARY:Healing Herb Walk
DESCRIPTION:Learn about some of the 50 medicinal plants in Mission Garden’s Moore Medicinal Garden. The plants are native to the American Southwest deserts and in many cases have been used for millennia. Modern herbalists are keeping this tradition alive at Mission Garden.
URL:https://santacruzheritage.org/event/healing-herb-walk/2029-05-05/
LOCATION:Mission Garden\, 946 W Mission Ln\, Tucson\, AZ\, 85745
CATEGORIES:Hikes
ATTACH;FMTTYPE=image/jpeg:https://santacruzheritage.org/wp-content/uploads/2025/03/Texas2BRanger2Bin2BMichael2BMoore2BMedicinal2BGarden2B5BKendall2BKroesen5D.jpg
END:VEVENT
BEGIN:VEVENT
DTSTART;TZID=America/Phoenix:20290602T090000
DTEND;TZID=America/Phoenix:20290602T100000
DTSTAMP:20260425T054306
CREATED:20250325T172454Z
LAST-MODIFIED:20260401T230953Z
UID:10003412-1875085200-1875088800@santacruzheritage.org
SUMMARY:Healing Herb Walk
DESCRIPTION:Learn about some of the 50 medicinal plants in Mission Garden’s Moore Medicinal Garden. The plants are native to the American Southwest deserts and in many cases have been used for millennia. Modern herbalists are keeping this tradition alive at Mission Garden.
URL:https://santacruzheritage.org/event/healing-herb-walk/2029-06-02/
LOCATION:Mission Garden\, 946 W Mission Ln\, Tucson\, AZ\, 85745
CATEGORIES:Hikes
ATTACH;FMTTYPE=image/jpeg:https://santacruzheritage.org/wp-content/uploads/2025/03/Texas2BRanger2Bin2BMichael2BMoore2BMedicinal2BGarden2B5BKendall2BKroesen5D.jpg
END:VEVENT
BEGIN:VEVENT
DTSTART;TZID=America/Phoenix:20290707T090000
DTEND;TZID=America/Phoenix:20290707T100000
DTSTAMP:20260425T054306
CREATED:20250325T172454Z
LAST-MODIFIED:20260401T230953Z
UID:10003413-1878109200-1878112800@santacruzheritage.org
SUMMARY:Healing Herb Walk
DESCRIPTION:Learn about some of the 50 medicinal plants in Mission Garden’s Moore Medicinal Garden. The plants are native to the American Southwest deserts and in many cases have been used for millennia. Modern herbalists are keeping this tradition alive at Mission Garden.
URL:https://santacruzheritage.org/event/healing-herb-walk/2029-07-07/
LOCATION:Mission Garden\, 946 W Mission Ln\, Tucson\, AZ\, 85745
CATEGORIES:Hikes
ATTACH;FMTTYPE=image/jpeg:https://santacruzheritage.org/wp-content/uploads/2025/03/Texas2BRanger2Bin2BMichael2BMoore2BMedicinal2BGarden2B5BKendall2BKroesen5D.jpg
END:VEVENT
BEGIN:VEVENT
DTSTART;TZID=America/Phoenix:20290804T090000
DTEND;TZID=America/Phoenix:20290804T100000
DTSTAMP:20260425T054306
CREATED:20250325T172454Z
LAST-MODIFIED:20260401T230953Z
UID:10003414-1880528400-1880532000@santacruzheritage.org
SUMMARY:Healing Herb Walk
DESCRIPTION:Learn about some of the 50 medicinal plants in Mission Garden’s Moore Medicinal Garden. The plants are native to the American Southwest deserts and in many cases have been used for millennia. Modern herbalists are keeping this tradition alive at Mission Garden.
URL:https://santacruzheritage.org/event/healing-herb-walk/2029-08-04/
LOCATION:Mission Garden\, 946 W Mission Ln\, Tucson\, AZ\, 85745
CATEGORIES:Hikes
ATTACH;FMTTYPE=image/jpeg:https://santacruzheritage.org/wp-content/uploads/2025/03/Texas2BRanger2Bin2BMichael2BMoore2BMedicinal2BGarden2B5BKendall2BKroesen5D.jpg
END:VEVENT
END:VCALENDAR