BEGIN:VCALENDAR
VERSION:2.0
PRODID:-//Santa Cruz Valley National Heritage Area - ECPv6.15.20//NONSGML v1.0//EN
CALSCALE:GREGORIAN
METHOD:PUBLISH
X-WR-CALNAME:Santa Cruz Valley National Heritage Area
X-ORIGINAL-URL:https://santacruzheritage.org
X-WR-CALDESC:Events for Santa Cruz Valley National Heritage Area
REFRESH-INTERVAL;VALUE=DURATION:PT1H
X-Robots-Tag:noindex
X-PUBLISHED-TTL:PT1H
BEGIN:VTIMEZONE
TZID:America/Phoenix
BEGIN:STANDARD
TZOFFSETFROM:-0700
TZOFFSETTO:-0700
TZNAME:MST
DTSTART:20250101T000000
END:STANDARD
END:VTIMEZONE
BEGIN:VEVENT
DTSTART;TZID=America/Phoenix:20260502T170000
DTEND;TZID=America/Phoenix:20260502T220000
DTSTAMP:20260423T010953
CREATED:20260408T224924Z
LAST-MODIFIED:20260408T224924Z
UID:10006521-1777741200-1777759200@santacruzheritage.org
SUMMARY:Fiesta de Mayo 2026
DESCRIPTION:Nasib Karam Park\, Nogales\, Arizona\, from 5:00 p.m. to 10:00 p.m.The community is invited to celebrate Fiestas de Mayo on May 2\, 2026\, at Karam Park on Morley Avenue. Hosted by the City of Nogales\, the Consulate General of Mexico in Nogales\, and the Cultural Arts Committee of Nogales\, this vibrant event will feature live music\, delicious food\, and the crowning of the queen. With free admission\, attendees can enjoy an evening of culture\, entertainment\, and community celebration.
URL:https://santacruzheritage.org/event/fiesta-de-mayo-2026/
LOCATION:Karam Park\, 159 N Morley Ave\, \, Nogales\, A\, 85621\, United States
CATEGORIES:Food Experience
ATTACH;FMTTYPE=image/jpeg:https://santacruzheritage.org/wp-content/uploads/2026/04/Fiestasdemayo.2026.jpg
END:VEVENT
END:VCALENDAR