BEGIN:VCALENDAR
VERSION:2.0
PRODID:-//Santa Cruz Valley National Heritage Area - ECPv6.15.20//NONSGML v1.0//EN
CALSCALE:GREGORIAN
METHOD:PUBLISH
X-WR-CALNAME:Santa Cruz Valley National Heritage Area
X-ORIGINAL-URL:https://santacruzheritage.org
X-WR-CALDESC:Events for Santa Cruz Valley National Heritage Area
REFRESH-INTERVAL;VALUE=DURATION:PT1H
X-Robots-Tag:noindex
X-PUBLISHED-TTL:PT1H
BEGIN:VTIMEZONE
TZID:America/Phoenix
BEGIN:STANDARD
TZOFFSETFROM:-0700
TZOFFSETTO:-0700
TZNAME:MST
DTSTART:20250101T000000
END:STANDARD
END:VTIMEZONE
BEGIN:VEVENT
DTSTART;TZID=America/Phoenix:20260516T100000
DTEND;TZID=America/Phoenix:20260516T160000
DTSTAMP:20260422T224302
CREATED:20260120T190711Z
LAST-MODIFIED:20260409T235734Z
UID:10004257-1778925600-1778947200@santacruzheritage.org
SUMMARY:America 250 Celebration - Patagonia Lake Mariachi Festival
DESCRIPTION:On Saturday\, May 16\, 2026\, Patagonia Lake State Park will come alive in a vibrant celebration of America’s 250th anniversary. This festive gathering promises a rich tapestry of culture\, music\, and culinary delights that capture the spirit of community and the diverse heritage that has shaped our nation. \nThe celebration will feature musical performances\, traditional mariachi\, folklorico\, food trucks featuring a variety of delicious eats—from fry bread to street tacos and even sushi—and a piñata activity for the kids! Enjoy local wines and regional favorites from the Village of Elgin Wineries. \nJoin us in celebrating 250 years of America with this day dedicated to community and culture! See the schedule of events and activities below. The event is free\, but the standard park entrance fee applies. \nThis event is part of Outdoors250\, our celebration of America’s 250th anniversary! Learn more and sign up to enter to win prize drawings at AZStateParks.com/Outdoors250.
URL:https://santacruzheritage.org/event/patagonia-lake-mariachi-festival-saturday-may-16th-2026/
LOCATION:Patagonia Lake State Park\, 400 Patagonia Lake Rd\, Patagonia\,\, A\, 85621-1357\, United States
CATEGORIES:Festivals
ATTACH;FMTTYPE=image/jpeg:https://santacruzheritage.org/wp-content/uploads/2026/01/America250MariachiFestival-1.jpg
ORGANIZER;CN="Nogales Santa Cruz County Chamber of Commerce":MAILTO:visitus@thenogaleschamber.org
END:VEVENT
END:VCALENDAR