BEGIN:VCALENDAR
VERSION:2.0
PRODID:-//Santa Cruz Valley National Heritage Area - ECPv6.15.20//NONSGML v1.0//EN
CALSCALE:GREGORIAN
METHOD:PUBLISH
X-WR-CALNAME:Santa Cruz Valley National Heritage Area
X-ORIGINAL-URL:https://santacruzheritage.org
X-WR-CALDESC:Events for Santa Cruz Valley National Heritage Area
REFRESH-INTERVAL;VALUE=DURATION:PT1H
X-Robots-Tag:noindex
X-PUBLISHED-TTL:PT1H
BEGIN:VTIMEZONE
TZID:America/Phoenix
BEGIN:STANDARD
TZOFFSETFROM:-0700
TZOFFSETTO:-0700
TZNAME:MST
DTSTART:20250101T000000
END:STANDARD
END:VTIMEZONE
BEGIN:VEVENT
DTSTART;TZID=America/Phoenix:20260804T090000
DTEND;TZID=America/Phoenix:20260804T120000
DTSTAMP:20260425T180916
CREATED:20260424T210408Z
LAST-MODIFIED:20260424T210408Z
UID:10007275-1785834000-1785844800@santacruzheritage.org
SUMMARY:Plant Propagation at Borderlands Restoration Network
DESCRIPTION:Spend your morning at Borderlands Nursery & Seed with a great group of plant lovers propagating native plants that will restore the landscapes of the borderlands.  Bring water and be prepared for outdoor work.
URL:https://santacruzheritage.org/event/plant-propagation-at-borderlands-restoration-network/2026-08-04/
LOCATION:Borderlands Nursery & Seed\, 42 San Antonio Road\, Patagonia\, 85624\, United States
CATEGORIES:Environmental Stewardship,Volunteer Opportunities
ORGANIZER;CN="Borderlands Restoration Network":MAILTO:info@borderlandsrestoration.org
END:VEVENT
BEGIN:VEVENT
DTSTART;TZID=America/Phoenix:20260806T090000
DTEND;TZID=America/Phoenix:20260806T120000
DTSTAMP:20260425T180916
CREATED:20260424T210408Z
LAST-MODIFIED:20260424T210408Z
UID:10007276-1786006800-1786017600@santacruzheritage.org
SUMMARY:Plant Propagation at Borderlands Restoration Network
DESCRIPTION:Spend your morning at Borderlands Nursery & Seed with a great group of plant lovers propagating native plants that will restore the landscapes of the borderlands.  Bring water and be prepared for outdoor work.
URL:https://santacruzheritage.org/event/plant-propagation-at-borderlands-restoration-network/2026-08-06/
LOCATION:Borderlands Nursery & Seed\, 42 San Antonio Road\, Patagonia\, 85624\, United States
CATEGORIES:Environmental Stewardship,Volunteer Opportunities
ORGANIZER;CN="Borderlands Restoration Network":MAILTO:info@borderlandsrestoration.org
END:VEVENT
BEGIN:VEVENT
DTSTART;TZID=America/Phoenix:20260811T090000
DTEND;TZID=America/Phoenix:20260811T120000
DTSTAMP:20260425T180916
CREATED:20260424T210408Z
LAST-MODIFIED:20260424T210408Z
UID:10007277-1786438800-1786449600@santacruzheritage.org
SUMMARY:Plant Propagation at Borderlands Restoration Network
DESCRIPTION:Spend your morning at Borderlands Nursery & Seed with a great group of plant lovers propagating native plants that will restore the landscapes of the borderlands.  Bring water and be prepared for outdoor work.
URL:https://santacruzheritage.org/event/plant-propagation-at-borderlands-restoration-network/2026-08-11/
LOCATION:Borderlands Nursery & Seed\, 42 San Antonio Road\, Patagonia\, 85624\, United States
CATEGORIES:Environmental Stewardship,Volunteer Opportunities
ORGANIZER;CN="Borderlands Restoration Network":MAILTO:info@borderlandsrestoration.org
END:VEVENT
BEGIN:VEVENT
DTSTART;TZID=America/Phoenix:20260813T090000
DTEND;TZID=America/Phoenix:20260813T120000
DTSTAMP:20260425T180916
CREATED:20260424T210408Z
LAST-MODIFIED:20260424T210408Z
UID:10007278-1786611600-1786622400@santacruzheritage.org
SUMMARY:Plant Propagation at Borderlands Restoration Network
DESCRIPTION:Spend your morning at Borderlands Nursery & Seed with a great group of plant lovers propagating native plants that will restore the landscapes of the borderlands.  Bring water and be prepared for outdoor work.
URL:https://santacruzheritage.org/event/plant-propagation-at-borderlands-restoration-network/2026-08-13/
LOCATION:Borderlands Nursery & Seed\, 42 San Antonio Road\, Patagonia\, 85624\, United States
CATEGORIES:Environmental Stewardship,Volunteer Opportunities
ORGANIZER;CN="Borderlands Restoration Network":MAILTO:info@borderlandsrestoration.org
END:VEVENT
BEGIN:VEVENT
DTSTART;TZID=America/Phoenix:20260818T090000
DTEND;TZID=America/Phoenix:20260818T120000
DTSTAMP:20260425T180916
CREATED:20260424T210408Z
LAST-MODIFIED:20260424T210408Z
UID:10007279-1787043600-1787054400@santacruzheritage.org
SUMMARY:Plant Propagation at Borderlands Restoration Network
DESCRIPTION:Spend your morning at Borderlands Nursery & Seed with a great group of plant lovers propagating native plants that will restore the landscapes of the borderlands.  Bring water and be prepared for outdoor work.
URL:https://santacruzheritage.org/event/plant-propagation-at-borderlands-restoration-network/2026-08-18/
LOCATION:Borderlands Nursery & Seed\, 42 San Antonio Road\, Patagonia\, 85624\, United States
CATEGORIES:Environmental Stewardship,Volunteer Opportunities
ORGANIZER;CN="Borderlands Restoration Network":MAILTO:info@borderlandsrestoration.org
END:VEVENT
BEGIN:VEVENT
DTSTART;TZID=America/Phoenix:20260820T090000
DTEND;TZID=America/Phoenix:20260820T120000
DTSTAMP:20260425T180916
CREATED:20260424T210408Z
LAST-MODIFIED:20260424T210408Z
UID:10007280-1787216400-1787227200@santacruzheritage.org
SUMMARY:Plant Propagation at Borderlands Restoration Network
DESCRIPTION:Spend your morning at Borderlands Nursery & Seed with a great group of plant lovers propagating native plants that will restore the landscapes of the borderlands.  Bring water and be prepared for outdoor work.
URL:https://santacruzheritage.org/event/plant-propagation-at-borderlands-restoration-network/2026-08-20/
LOCATION:Borderlands Nursery & Seed\, 42 San Antonio Road\, Patagonia\, 85624\, United States
CATEGORIES:Environmental Stewardship,Volunteer Opportunities
ORGANIZER;CN="Borderlands Restoration Network":MAILTO:info@borderlandsrestoration.org
END:VEVENT
BEGIN:VEVENT
DTSTART;TZID=America/Phoenix:20260825T090000
DTEND;TZID=America/Phoenix:20260825T120000
DTSTAMP:20260425T180916
CREATED:20260424T210408Z
LAST-MODIFIED:20260424T210408Z
UID:10007281-1787648400-1787659200@santacruzheritage.org
SUMMARY:Plant Propagation at Borderlands Restoration Network
DESCRIPTION:Spend your morning at Borderlands Nursery & Seed with a great group of plant lovers propagating native plants that will restore the landscapes of the borderlands.  Bring water and be prepared for outdoor work.
URL:https://santacruzheritage.org/event/plant-propagation-at-borderlands-restoration-network/2026-08-25/
LOCATION:Borderlands Nursery & Seed\, 42 San Antonio Road\, Patagonia\, 85624\, United States
CATEGORIES:Environmental Stewardship,Volunteer Opportunities
ORGANIZER;CN="Borderlands Restoration Network":MAILTO:info@borderlandsrestoration.org
END:VEVENT
BEGIN:VEVENT
DTSTART;TZID=America/Phoenix:20260827T090000
DTEND;TZID=America/Phoenix:20260827T120000
DTSTAMP:20260425T180916
CREATED:20260424T210408Z
LAST-MODIFIED:20260424T210408Z
UID:10007282-1787821200-1787832000@santacruzheritage.org
SUMMARY:Plant Propagation at Borderlands Restoration Network
DESCRIPTION:Spend your morning at Borderlands Nursery & Seed with a great group of plant lovers propagating native plants that will restore the landscapes of the borderlands.  Bring water and be prepared for outdoor work.
URL:https://santacruzheritage.org/event/plant-propagation-at-borderlands-restoration-network/2026-08-27/
LOCATION:Borderlands Nursery & Seed\, 42 San Antonio Road\, Patagonia\, 85624\, United States
CATEGORIES:Environmental Stewardship,Volunteer Opportunities
ORGANIZER;CN="Borderlands Restoration Network":MAILTO:info@borderlandsrestoration.org
END:VEVENT
END:VCALENDAR