BEGIN:VCALENDAR
VERSION:2.0
PRODID:-//Santa Cruz Valley National Heritage Area - ECPv6.15.20//NONSGML v1.0//EN
CALSCALE:GREGORIAN
METHOD:PUBLISH
X-ORIGINAL-URL:https://santacruzheritage.org
X-WR-CALDESC:Events for Santa Cruz Valley National Heritage Area
REFRESH-INTERVAL;VALUE=DURATION:PT1H
X-Robots-Tag:noindex
X-PUBLISHED-TTL:PT1H
BEGIN:VTIMEZONE
TZID:America/Phoenix
BEGIN:STANDARD
TZOFFSETFROM:-0700
TZOFFSETTO:-0700
TZNAME:MST
DTSTART:20250101T000000
END:STANDARD
END:VTIMEZONE
BEGIN:VEVENT
DTSTART;TZID=America/Phoenix:20260702T090000
DTEND;TZID=America/Phoenix:20260702T120000
DTSTAMP:20260425T192421
CREATED:20260424T210408Z
LAST-MODIFIED:20260424T210408Z
UID:10007266-1782982800-1782993600@santacruzheritage.org
SUMMARY:Plant Propagation at Borderlands Restoration Network
DESCRIPTION:Spend your morning at Borderlands Nursery & Seed with a great group of plant lovers propagating native plants that will restore the landscapes of the borderlands.  Bring water and be prepared for outdoor work.
URL:https://santacruzheritage.org/event/plant-propagation-at-borderlands-restoration-network/2026-07-02/
LOCATION:Borderlands Nursery & Seed\, 42 San Antonio Road\, Patagonia\, 85624\, United States
CATEGORIES:Environmental Stewardship,Volunteer Opportunities
ORGANIZER;CN="Borderlands Restoration Network":MAILTO:info@borderlandsrestoration.org
END:VEVENT
BEGIN:VEVENT
DTSTART;TZID=America/Phoenix:20260707T090000
DTEND;TZID=America/Phoenix:20260707T120000
DTSTAMP:20260425T192421
CREATED:20260424T210408Z
LAST-MODIFIED:20260424T210408Z
UID:10007267-1783414800-1783425600@santacruzheritage.org
SUMMARY:Plant Propagation at Borderlands Restoration Network
DESCRIPTION:Spend your morning at Borderlands Nursery & Seed with a great group of plant lovers propagating native plants that will restore the landscapes of the borderlands.  Bring water and be prepared for outdoor work.
URL:https://santacruzheritage.org/event/plant-propagation-at-borderlands-restoration-network/2026-07-07/
LOCATION:Borderlands Nursery & Seed\, 42 San Antonio Road\, Patagonia\, 85624\, United States
CATEGORIES:Environmental Stewardship,Volunteer Opportunities
ORGANIZER;CN="Borderlands Restoration Network":MAILTO:info@borderlandsrestoration.org
END:VEVENT
BEGIN:VEVENT
DTSTART;TZID=America/Phoenix:20260709T090000
DTEND;TZID=America/Phoenix:20260709T120000
DTSTAMP:20260425T192421
CREATED:20260424T210408Z
LAST-MODIFIED:20260424T210408Z
UID:10007268-1783587600-1783598400@santacruzheritage.org
SUMMARY:Plant Propagation at Borderlands Restoration Network
DESCRIPTION:Spend your morning at Borderlands Nursery & Seed with a great group of plant lovers propagating native plants that will restore the landscapes of the borderlands.  Bring water and be prepared for outdoor work.
URL:https://santacruzheritage.org/event/plant-propagation-at-borderlands-restoration-network/2026-07-09/
LOCATION:Borderlands Nursery & Seed\, 42 San Antonio Road\, Patagonia\, 85624\, United States
CATEGORIES:Environmental Stewardship,Volunteer Opportunities
ORGANIZER;CN="Borderlands Restoration Network":MAILTO:info@borderlandsrestoration.org
END:VEVENT
BEGIN:VEVENT
DTSTART;TZID=America/Phoenix:20260714T090000
DTEND;TZID=America/Phoenix:20260714T120000
DTSTAMP:20260425T192421
CREATED:20260424T210408Z
LAST-MODIFIED:20260424T210408Z
UID:10007269-1784019600-1784030400@santacruzheritage.org
SUMMARY:Plant Propagation at Borderlands Restoration Network
DESCRIPTION:Spend your morning at Borderlands Nursery & Seed with a great group of plant lovers propagating native plants that will restore the landscapes of the borderlands.  Bring water and be prepared for outdoor work.
URL:https://santacruzheritage.org/event/plant-propagation-at-borderlands-restoration-network/2026-07-14/
LOCATION:Borderlands Nursery & Seed\, 42 San Antonio Road\, Patagonia\, 85624\, United States
CATEGORIES:Environmental Stewardship,Volunteer Opportunities
ORGANIZER;CN="Borderlands Restoration Network":MAILTO:info@borderlandsrestoration.org
END:VEVENT
BEGIN:VEVENT
DTSTART;TZID=America/Phoenix:20260716T090000
DTEND;TZID=America/Phoenix:20260716T120000
DTSTAMP:20260425T192421
CREATED:20260424T210408Z
LAST-MODIFIED:20260424T210408Z
UID:10007270-1784192400-1784203200@santacruzheritage.org
SUMMARY:Plant Propagation at Borderlands Restoration Network
DESCRIPTION:Spend your morning at Borderlands Nursery & Seed with a great group of plant lovers propagating native plants that will restore the landscapes of the borderlands.  Bring water and be prepared for outdoor work.
URL:https://santacruzheritage.org/event/plant-propagation-at-borderlands-restoration-network/2026-07-16/
LOCATION:Borderlands Nursery & Seed\, 42 San Antonio Road\, Patagonia\, 85624\, United States
CATEGORIES:Environmental Stewardship,Volunteer Opportunities
ORGANIZER;CN="Borderlands Restoration Network":MAILTO:info@borderlandsrestoration.org
END:VEVENT
BEGIN:VEVENT
DTSTART;TZID=America/Phoenix:20260721T090000
DTEND;TZID=America/Phoenix:20260721T120000
DTSTAMP:20260425T192421
CREATED:20260424T210408Z
LAST-MODIFIED:20260424T210408Z
UID:10007271-1784624400-1784635200@santacruzheritage.org
SUMMARY:Plant Propagation at Borderlands Restoration Network
DESCRIPTION:Spend your morning at Borderlands Nursery & Seed with a great group of plant lovers propagating native plants that will restore the landscapes of the borderlands.  Bring water and be prepared for outdoor work.
URL:https://santacruzheritage.org/event/plant-propagation-at-borderlands-restoration-network/2026-07-21/
LOCATION:Borderlands Nursery & Seed\, 42 San Antonio Road\, Patagonia\, 85624\, United States
CATEGORIES:Environmental Stewardship,Volunteer Opportunities
ORGANIZER;CN="Borderlands Restoration Network":MAILTO:info@borderlandsrestoration.org
END:VEVENT
BEGIN:VEVENT
DTSTART;TZID=America/Phoenix:20260723T090000
DTEND;TZID=America/Phoenix:20260723T120000
DTSTAMP:20260425T192421
CREATED:20260424T210408Z
LAST-MODIFIED:20260424T210408Z
UID:10007272-1784797200-1784808000@santacruzheritage.org
SUMMARY:Plant Propagation at Borderlands Restoration Network
DESCRIPTION:Spend your morning at Borderlands Nursery & Seed with a great group of plant lovers propagating native plants that will restore the landscapes of the borderlands.  Bring water and be prepared for outdoor work.
URL:https://santacruzheritage.org/event/plant-propagation-at-borderlands-restoration-network/2026-07-23/
LOCATION:Borderlands Nursery & Seed\, 42 San Antonio Road\, Patagonia\, 85624\, United States
CATEGORIES:Environmental Stewardship,Volunteer Opportunities
ORGANIZER;CN="Borderlands Restoration Network":MAILTO:info@borderlandsrestoration.org
END:VEVENT
BEGIN:VEVENT
DTSTART;TZID=America/Phoenix:20260728T090000
DTEND;TZID=America/Phoenix:20260728T120000
DTSTAMP:20260425T192421
CREATED:20260424T210408Z
LAST-MODIFIED:20260424T210408Z
UID:10007273-1785229200-1785240000@santacruzheritage.org
SUMMARY:Plant Propagation at Borderlands Restoration Network
DESCRIPTION:Spend your morning at Borderlands Nursery & Seed with a great group of plant lovers propagating native plants that will restore the landscapes of the borderlands.  Bring water and be prepared for outdoor work.
URL:https://santacruzheritage.org/event/plant-propagation-at-borderlands-restoration-network/2026-07-28/
LOCATION:Borderlands Nursery & Seed\, 42 San Antonio Road\, Patagonia\, 85624\, United States
CATEGORIES:Environmental Stewardship,Volunteer Opportunities
ORGANIZER;CN="Borderlands Restoration Network":MAILTO:info@borderlandsrestoration.org
END:VEVENT
BEGIN:VEVENT
DTSTART;TZID=America/Phoenix:20260730T090000
DTEND;TZID=America/Phoenix:20260730T120000
DTSTAMP:20260425T192421
CREATED:20260424T210408Z
LAST-MODIFIED:20260424T210408Z
UID:10007274-1785402000-1785412800@santacruzheritage.org
SUMMARY:Plant Propagation at Borderlands Restoration Network
DESCRIPTION:Spend your morning at Borderlands Nursery & Seed with a great group of plant lovers propagating native plants that will restore the landscapes of the borderlands.  Bring water and be prepared for outdoor work.
URL:https://santacruzheritage.org/event/plant-propagation-at-borderlands-restoration-network/2026-07-30/
LOCATION:Borderlands Nursery & Seed\, 42 San Antonio Road\, Patagonia\, 85624\, United States
CATEGORIES:Environmental Stewardship,Volunteer Opportunities
ORGANIZER;CN="Borderlands Restoration Network":MAILTO:info@borderlandsrestoration.org
END:VEVENT
END:VCALENDAR