BEGIN:VCALENDAR
VERSION:2.0
PRODID:-//Santa Cruz Valley National Heritage Area - ECPv6.15.20//NONSGML v1.0//EN
CALSCALE:GREGORIAN
METHOD:PUBLISH
X-ORIGINAL-URL:https://santacruzheritage.org
X-WR-CALDESC:Events for Santa Cruz Valley National Heritage Area
REFRESH-INTERVAL;VALUE=DURATION:PT1H
X-Robots-Tag:noindex
X-PUBLISHED-TTL:PT1H
BEGIN:VTIMEZONE
TZID:America/Phoenix
BEGIN:STANDARD
TZOFFSETFROM:-0700
TZOFFSETTO:-0700
TZNAME:MST
DTSTART:20250101T000000
END:STANDARD
END:VTIMEZONE
BEGIN:VEVENT
DTSTART;TZID=America/Phoenix:20260409T080000
DTEND;TZID=America/Phoenix:20260409T110000
DTSTAMP:20260425T074501
CREATED:20260408T231223Z
LAST-MODIFIED:20260408T231223Z
UID:10006523-1775721600-1775732400@santacruzheritage.org
SUMMARY:Agave Planting at Mission Garden
DESCRIPTION:Be part of history and the future! Join us at Mission Garden to plant agave in the traditional Hohokam style\, inspired by ancient plantings on Tumamoc Hill. These agave plants will provide food for bat pollinators and may even become part of a future festival’s roasting pit. \nNo experience is needed\, and families are encouraged to join! We’ll provide all tools and gloves—just bring your enthusiasm\, long pants\, and a hat for sun protection. \nEVENT SPONSORS  \nMission Garden
URL:https://santacruzheritage.org/event/agave-planting-at-mission-garden/
LOCATION:Mission Garden\, 946 W Mission Ln\, Tucson\, AZ\, 85745
CATEGORIES:Classes,Environmental Stewardship,Festivals,History,Workshop,Youth Programming
END:VEVENT
END:VCALENDAR