BEGIN:VCALENDAR
VERSION:2.0
PRODID:-//Santa Cruz Valley National Heritage Area - ECPv6.15.20//NONSGML v1.0//EN
CALSCALE:GREGORIAN
METHOD:PUBLISH
X-ORIGINAL-URL:https://santacruzheritage.org
X-WR-CALDESC:Events for Santa Cruz Valley National Heritage Area
REFRESH-INTERVAL;VALUE=DURATION:PT1H
X-Robots-Tag:noindex
X-PUBLISHED-TTL:PT1H
BEGIN:VTIMEZONE
TZID:America/Phoenix
BEGIN:STANDARD
TZOFFSETFROM:-0700
TZOFFSETTO:-0700
TZNAME:MST
DTSTART:20270101T000000
END:STANDARD
END:VTIMEZONE
BEGIN:VEVENT
DTSTART;TZID=America/Phoenix:20280122T080000
DTEND;TZID=America/Phoenix:20280122T110000
DTSTAMP:20260425T074437
CREATED:20250508T162956Z
LAST-MODIFIED:20260122T232744Z
UID:10003791-1832140800-1832151600@santacruzheritage.org
SUMMARY:Archaeology Day
DESCRIPTION:At our monthly (fourth Saturday) Archaeology Day\, representatives of Tucson’s archaeology community come to Mission Garden to teach practical hands-on skills. Archaeology Southwest will be doing their Hands-on Archaeology program. It allows kids of all ages to try out fascinating ancient technologies. Old Pueblo Archaeology Center is represented at these events\, also presenting interactive programs about things like pinch pots\, pendants\, and cordage. John Palacio speaks about and demonstrates making replicas of petroglyphs. Come join in any time between 8am and 11am.
URL:https://santacruzheritage.org/event/archaeology-day/2028-01-22/
LOCATION:Mission Garden\, 946 W Mission Ln\, Tucson\, AZ\, 85745
CATEGORIES:History,Youth Programming
ATTACH;FMTTYPE=image/png:https://santacruzheritage.org/wp-content/uploads/2025/05/PithouseinarchaeologicalexcavationAllenDenoyerHomerThiel.png
END:VEVENT
BEGIN:VEVENT
DTSTART;TZID=America/Phoenix:20280122T100000
DTEND;TZID=America/Phoenix:20280122T120000
DTSTAMP:20260425T074437
CREATED:20250307T143126Z
LAST-MODIFIED:20260122T233016Z
UID:10003293-1832148000-1832155200@santacruzheritage.org
SUMMARY:Living Lab & Learning Center Tour
DESCRIPTION:Our guided Living Lab Tours happen every 2nd and 4th Saturdays of the month. You’ll be led through our demonstration site by one of our Docents to learn about our many water harvesting systems firsthand.
URL:https://santacruzheritage.org/event/living-lab-learning-center-tour-3/2028-01-22/
LOCATION:Watershed Management Group\, 1137 N Dodge Blvd.\, Tucson\, AZ\, 85716
CATEGORIES:Tours
ATTACH;FMTTYPE=image/png:https://santacruzheritage.org/wp-content/uploads/2024/12/Screenshot-2024-12-23-at-12.17.42 PM.png
END:VEVENT
END:VCALENDAR