BEGIN:VCALENDAR
VERSION:2.0
PRODID:-//Santa Cruz Valley National Heritage Area - ECPv6.15.20//NONSGML v1.0//EN
CALSCALE:GREGORIAN
METHOD:PUBLISH
X-WR-CALNAME:Santa Cruz Valley National Heritage Area
X-ORIGINAL-URL:https://santacruzheritage.org
X-WR-CALDESC:Events for Santa Cruz Valley National Heritage Area
REFRESH-INTERVAL;VALUE=DURATION:PT1H
X-Robots-Tag:noindex
X-PUBLISHED-TTL:PT1H
BEGIN:VTIMEZONE
TZID:America/Phoenix
BEGIN:STANDARD
TZOFFSETFROM:-0700
TZOFFSETTO:-0700
TZNAME:MST
DTSTART:20250101T000000
END:STANDARD
END:VTIMEZONE
BEGIN:VEVENT
DTSTART;TZID=America/Phoenix:20260605T080000
DTEND;TZID=America/Phoenix:20260605T093000
DTSTAMP:20260423T074318
CREATED:20260416T205626Z
LAST-MODIFIED:20260416T205626Z
UID:10007239-1780646400-1780651800@santacruzheritage.org
SUMMARY:Gardens of Canoa Ranch
DESCRIPTION:Enjoy a guided tour of the gardens of Historic Canoa Ranch. Join Raydine Taber from the Green Valley Gardeners to explore the variety of themed gardens within the ranch headquarters. DIRECTIONS: Historic Canoa Ranch\, 5375 S. I-19 Frontage Rd.\, Green Valley 85622 From Tucson – Take 1-19 south to exit 56 – Canoa Road. Go around the traffic circle until you are heading east. Turn left (north) on the east side frontage road for about ½ mile and turn at the Hacienda de la Canoa sign on your right. Please carry water and wear sturdy walking shoes.
URL:https://santacruzheritage.org/event/gardens-of-canoa-ranch/2026-06-05/
LOCATION:Historic Canoa Ranch\, 5375 I-19 Frontage Rd\, Green Valley\, AZ\, 85614
END:VEVENT
BEGIN:VEVENT
DTSTART;TZID=America/Phoenix:20260605T090000
DTEND;TZID=America/Phoenix:20260605T150000
DTSTAMP:20260423T074318
CREATED:20260416T195935Z
LAST-MODIFIED:20260416T195935Z
UID:10007055-1780650000-1780671600@santacruzheritage.org
SUMMARY:ASARCO Self Guided Center Tours
DESCRIPTION:Since ASARCO opened their doors in 1997\, the ASARCO Mineral Discovery Center & Mine Tours’ vision has been to educate communities on the vital importance of the copper mining industry to our civilization\, to educate students and teachers in earth sciences\, and to preserve Arizona’s mining history. \nASARCO invites you to take our free self-guided tour of the center’s indoor and outdoor exhibits\, which walks through the copper transformation process. Afterward\, peruse the Company Store for unique and educational gifts.
URL:https://santacruzheritage.org/event/asarco-self-guided-center-tours-2/2026-06-05/
LOCATION:ASARCO Mineral Discovery Center\, 1421 W Pima Mine Rd\, Sahuarita\, 85629\, United States
END:VEVENT
BEGIN:VEVENT
DTSTART;TZID=America/Phoenix:20260605T093000
DTEND;TZID=America/Phoenix:20260605T103000
DTSTAMP:20260423T074318
CREATED:20260416T200315Z
LAST-MODIFIED:20260416T200315Z
UID:10007168-1780651800-1780655400@santacruzheritage.org
SUMMARY:ASARCO Ticketed Mine Tour
DESCRIPTION:The ASARCO Mineral Discovery Center & Mine Tours’ vision has been to educate communities on the vital importance of the copper mining industry to  civilization\, to educate students and teachers in earth sciences\, and to preserve Arizona’s mining history.’ \nJoin the mine tour for a firsthand look at the copper transformation process. Ticketed mine tours are approximately 65 minutes long. \nTours at 9:30 am\, 11:15 am \nSPECIAL INSTRUCTIONS FOR THE MINE TOUR \n\n\nClosed-toed shoes are required to take the tour. No Crocs\, sandals\, or flip-flops will be allowed.\nWe suggest bringing a water bottle (filtered water station is available in the Center).\nPlease dress comfortably.
URL:https://santacruzheritage.org/event/asarco-ticketed-mine-tour/2026-06-05/
LOCATION:ASARCO Mineral Discovery Center\, 1421 W Pima Mine Rd\, Sahuarita\, 85629\, United States
END:VEVENT
END:VCALENDAR