BEGIN:VCALENDAR
VERSION:2.0
PRODID:-//Santa Cruz Valley National Heritage Area - ECPv6.15.20//NONSGML v1.0//EN
CALSCALE:GREGORIAN
METHOD:PUBLISH
X-WR-CALNAME:Santa Cruz Valley National Heritage Area
X-ORIGINAL-URL:https://santacruzheritage.org
X-WR-CALDESC:Events for Santa Cruz Valley National Heritage Area
REFRESH-INTERVAL;VALUE=DURATION:PT1H
X-Robots-Tag:noindex
X-PUBLISHED-TTL:PT1H
BEGIN:VTIMEZONE
TZID:America/Phoenix
BEGIN:STANDARD
TZOFFSETFROM:-0700
TZOFFSETTO:-0700
TZNAME:MST
DTSTART:20250101T000000
END:STANDARD
END:VTIMEZONE
BEGIN:VEVENT
DTSTART;TZID=America/Phoenix:20260513T090000
DTEND;TZID=America/Phoenix:20260513T150000
DTSTAMP:20260423T075107
CREATED:20260416T195935Z
LAST-MODIFIED:20260416T195935Z
UID:10007038-1778662800-1778684400@santacruzheritage.org
SUMMARY:ASARCO Self Guided Center Tours
DESCRIPTION:Since ASARCO opened their doors in 1997\, the ASARCO Mineral Discovery Center & Mine Tours’ vision has been to educate communities on the vital importance of the copper mining industry to our civilization\, to educate students and teachers in earth sciences\, and to preserve Arizona’s mining history. \nASARCO invites you to take our free self-guided tour of the center’s indoor and outdoor exhibits\, which walks through the copper transformation process. Afterward\, peruse the Company Store for unique and educational gifts.
URL:https://santacruzheritage.org/event/asarco-self-guided-center-tours-2/2026-05-13/
LOCATION:ASARCO Mineral Discovery Center\, 1421 W Pima Mine Rd\, Sahuarita\, 85629\, United States
END:VEVENT
BEGIN:VEVENT
DTSTART;TZID=America/Phoenix:20260513T093000
DTEND;TZID=America/Phoenix:20260513T103000
DTSTAMP:20260423T075107
CREATED:20260416T200315Z
LAST-MODIFIED:20260416T200315Z
UID:10007154-1778664600-1778668200@santacruzheritage.org
SUMMARY:ASARCO Ticketed Mine Tour
DESCRIPTION:The ASARCO Mineral Discovery Center & Mine Tours’ vision has been to educate communities on the vital importance of the copper mining industry to  civilization\, to educate students and teachers in earth sciences\, and to preserve Arizona’s mining history.’ \nJoin the mine tour for a firsthand look at the copper transformation process. Ticketed mine tours are approximately 65 minutes long. \nTours at 9:30 am\, 11:15 am \nSPECIAL INSTRUCTIONS FOR THE MINE TOUR \n\n\nClosed-toed shoes are required to take the tour. No Crocs\, sandals\, or flip-flops will be allowed.\nWe suggest bringing a water bottle (filtered water station is available in the Center).\nPlease dress comfortably.
URL:https://santacruzheritage.org/event/asarco-ticketed-mine-tour/2026-05-13/
LOCATION:ASARCO Mineral Discovery Center\, 1421 W Pima Mine Rd\, Sahuarita\, 85629\, United States
END:VEVENT
BEGIN:VEVENT
DTSTART;TZID=America/Phoenix:20260513T100000
DTEND;TZID=America/Phoenix:20260513T113000
DTSTAMP:20260423T075107
CREATED:20260416T202935Z
LAST-MODIFIED:20260416T202935Z
UID:10007235-1778666400-1778671800@santacruzheritage.org
SUMMARY:"A Desert Feast: Celebrating Tucson's Culinary Heritage"  with Carolyn Niethammer
DESCRIPTION:Join us for the monthly Borderlands Literature and Film Circle (BLFC) on Zoom. This is a free online event\, $10 suggested donation. \nCarolyn Neithammer is a celebrated Tucson-based author who has spent decades documenting the intersection of food\, culture\, and nature in the Southwest. Her work is deeply rooted in the Sonoran Desert\, earning her a reputation as a leading voice in regional culinary history. \nIn A Desert Feast: Celebrating Tucson’s Culinary Heritage\, Niethammer takes readers on a 4\,000 year journey through the Santa Cruz Valley\, exploring why Tucson became the first U.S. city to be designated a UNESCO City of Gastronomy. This award-winning book is a vibrant “food pilgrimage” that traces the lineage of desert agriculture\, from the early irrigation canals of the Hohokam and the ancient cultivation of maize to the transofrmative arrival of Spanish missionaries and the rugged traditions of ranch-style cowboy cooking. \nMore than just a history book\, it is a celebration of the people who keep these traditions alive today. Through rich storytelling and over 100 photographs\, Niethammer introduces the local farmers\, indigenous growers\, and innovative chefs who utilize heritage ingredients like prickly pear\, mesquite\, and tepary beans. It is an essential guide for anyone looking to understand the deep\, multicultural roots that make the borderlands’ food scene truly unique. \nREGISTER FOR ZOOM LINK
URL:https://santacruzheritage.org/event/a-desert-feast-celebrating-tucsons-culinary-heritage-with-carolyn-niethammer/
CATEGORIES:Lectures
ATTACH;FMTTYPE=image/jpeg:https://santacruzheritage.org/wp-content/uploads/2026/04/Flyer-BLFC-13May26b.jpeg
LOCATION:
END:VEVENT
END:VCALENDAR