BEGIN:VCALENDAR
VERSION:2.0
PRODID:-//Santa Cruz Valley National Heritage Area - ECPv6.15.20//NONSGML v1.0//EN
CALSCALE:GREGORIAN
METHOD:PUBLISH
X-ORIGINAL-URL:https://santacruzheritage.org
X-WR-CALDESC:Events for Santa Cruz Valley National Heritage Area
REFRESH-INTERVAL;VALUE=DURATION:PT1H
X-Robots-Tag:noindex
X-PUBLISHED-TTL:PT1H
BEGIN:VTIMEZONE
TZID:America/Phoenix
BEGIN:STANDARD
TZOFFSETFROM:-0700
TZOFFSETTO:-0700
TZNAME:MST
DTSTART:20250101T000000
END:STANDARD
END:VTIMEZONE
BEGIN:VEVENT
DTSTART;TZID=America/Phoenix:20260501T080000
DTEND;TZID=America/Phoenix:20260501T093000
DTSTAMP:20260423T024840
CREATED:20260416T205626Z
LAST-MODIFIED:20260416T205626Z
UID:10007238-1777622400-1777627800@santacruzheritage.org
SUMMARY:Gardens of Canoa Ranch
DESCRIPTION:Enjoy a guided tour of the gardens of Historic Canoa Ranch. Join Raydine Taber from the Green Valley Gardeners to explore the variety of themed gardens within the ranch headquarters. DIRECTIONS: Historic Canoa Ranch\, 5375 S. I-19 Frontage Rd.\, Green Valley 85622 From Tucson – Take 1-19 south to exit 56 – Canoa Road. Go around the traffic circle until you are heading east. Turn left (north) on the east side frontage road for about ½ mile and turn at the Hacienda de la Canoa sign on your right. Please carry water and wear sturdy walking shoes.
URL:https://santacruzheritage.org/event/gardens-of-canoa-ranch/2026-05-01/
LOCATION:Historic Canoa Ranch\, 5375 I-19 Frontage Rd\, Green Valley\, AZ\, 85614
END:VEVENT
BEGIN:VEVENT
DTSTART;TZID=America/Phoenix:20260501T080000
DTEND;TZID=America/Phoenix:20260501T120000
DTSTAMP:20260423T024840
CREATED:20260402T220453Z
LAST-MODIFIED:20260402T220526Z
UID:10005889-1777622400-1777636800@santacruzheritage.org
SUMMARY:Guided Birding Walks at Patagonia Lake State Park
DESCRIPTION:Guided bird walks are back!​ Join park rangers at the Birding Trail kiosk (next to campsite #12) for a ranger-led hike to learn about the diverse avian wildlife at Patagonia Lake and Sonoita Creek. \nThe event repeats each Friday at 9:00 a.m through April.​ For more information\,  These walks are limited to 15 people. Sign up in advance at the Visitor Center or by calling (520) 287-2791 or please visit https://azstateparks.com/patagonia-lake/events/bird-walk-patagonia​
URL:https://santacruzheritage.org/event/guided-birding-walks-at-patagonia-lake-state-park-2/2026-05-01/
LOCATION:Patagonia Lake\, 400 Patagonia Lake Rd\, Patagonia\,\, AZ\, 85624\, United States
CATEGORIES:Tours
ORGANIZER;CN="Nogales Santa Cruz County Chamber of Commerce":MAILTO:visitus@thenogaleschamber.org
END:VEVENT
BEGIN:VEVENT
DTSTART;TZID=America/Phoenix:20260501T090000
DTEND;TZID=America/Phoenix:20260501T150000
DTSTAMP:20260423T024840
CREATED:20260416T195935Z
LAST-MODIFIED:20260416T195935Z
UID:10007030-1777626000-1777647600@santacruzheritage.org
SUMMARY:ASARCO Self Guided Center Tours
DESCRIPTION:Since ASARCO opened their doors in 1997\, the ASARCO Mineral Discovery Center & Mine Tours’ vision has been to educate communities on the vital importance of the copper mining industry to our civilization\, to educate students and teachers in earth sciences\, and to preserve Arizona’s mining history. \nASARCO invites you to take our free self-guided tour of the center’s indoor and outdoor exhibits\, which walks through the copper transformation process. Afterward\, peruse the Company Store for unique and educational gifts.
URL:https://santacruzheritage.org/event/asarco-self-guided-center-tours-2/2026-05-01/
LOCATION:ASARCO Mineral Discovery Center\, 1421 W Pima Mine Rd\, Sahuarita\, 85629\, United States
END:VEVENT
BEGIN:VEVENT
DTSTART;TZID=America/Phoenix:20260501T093000
DTEND;TZID=America/Phoenix:20260501T103000
DTSTAMP:20260423T024840
CREATED:20260416T200315Z
LAST-MODIFIED:20260416T200315Z
UID:10007148-1777627800-1777631400@santacruzheritage.org
SUMMARY:ASARCO Ticketed Mine Tour
DESCRIPTION:The ASARCO Mineral Discovery Center & Mine Tours’ vision has been to educate communities on the vital importance of the copper mining industry to  civilization\, to educate students and teachers in earth sciences\, and to preserve Arizona’s mining history.’ \nJoin the mine tour for a firsthand look at the copper transformation process. Ticketed mine tours are approximately 65 minutes long. \nTours at 9:30 am\, 11:15 am \nSPECIAL INSTRUCTIONS FOR THE MINE TOUR \n\n\nClosed-toed shoes are required to take the tour. No Crocs\, sandals\, or flip-flops will be allowed.\nWe suggest bringing a water bottle (filtered water station is available in the Center).\nPlease dress comfortably.
URL:https://santacruzheritage.org/event/asarco-ticketed-mine-tour/2026-05-01/
LOCATION:ASARCO Mineral Discovery Center\, 1421 W Pima Mine Rd\, Sahuarita\, 85629\, United States
END:VEVENT
END:VCALENDAR