BEGIN:VCALENDAR
VERSION:2.0
PRODID:-//Santa Cruz Valley National Heritage Area - ECPv6.15.20//NONSGML v1.0//EN
CALSCALE:GREGORIAN
METHOD:PUBLISH
X-ORIGINAL-URL:https://santacruzheritage.org
X-WR-CALDESC:Events for Santa Cruz Valley National Heritage Area
REFRESH-INTERVAL;VALUE=DURATION:PT1H
X-Robots-Tag:noindex
X-PUBLISHED-TTL:PT1H
BEGIN:VTIMEZONE
TZID:America/Phoenix
BEGIN:STANDARD
TZOFFSETFROM:-0700
TZOFFSETTO:-0700
TZNAME:MST
DTSTART:20250101T000000
END:STANDARD
END:VTIMEZONE
BEGIN:VEVENT
DTSTART;TZID=America/Phoenix:20260404T080000
DTEND;TZID=America/Phoenix:20260404T110000
DTSTAMP:20260423T024822
CREATED:20260320T201211Z
LAST-MODIFIED:20260320T201211Z
UID:10005857-1775289600-1775300400@santacruzheritage.org
SUMMARY:Border Bioblitz 2026
DESCRIPTION:Be a part of this citizen science effort to document the unique biodiversity along the U.S.-Mexico border!
URL:https://santacruzheritage.org/event/border-bioblitz-2026/
LOCATION:Patagonia-Sonoita Creek Preserve Visitor Center\, 150 Blue Haven Road\, Patagonia\, Arizona\, 85624\, United States
CATEGORIES:Environmental Stewardship
ATTACH;FMTTYPE=image/avif:https://santacruzheritage.org/wp-content/uploads/2026/03/BioBlitz-Square2.avif
ORGANIZER;CN="Borderlands Restoration Network":MAILTO:info@borderlandsrestoration.org
END:VEVENT
BEGIN:VEVENT
DTSTART;TZID=America/Phoenix:20260404T080000
DTEND;TZID=America/Phoenix:20260404T170000
DTSTAMP:20260423T024822
CREATED:20251223T182930Z
LAST-MODIFIED:20260122T232611Z
UID:10004199-1775289600-1775322000@santacruzheritage.org
SUMMARY:Guided Birding Walks at Patagonia Sonoita Creek
DESCRIPTION:Join us for guided birding walks at Patagonia-Sonoita Creek Preserve in Southern Arizona on Saturday mornings\, starting November 1st\, 2025! \nLearn about the resident and migrating birds\, ranging from gray hawks to vermilion flycatchers to thick-billed kingbirds. Tours will also touch on the environmental history of the region surrounding the preserve. Birders of all levels are welcome. \nThe start time of the walks will vary depending on the point in the season\, so be sure to check the sign-up form to see when they will begin each week. The fee is $8 per person\, or $5 for Santa Cruz/Cochise County residents and TNC members. Free to Patagonia/Sonoita/Elgin residents and children under 17. Registration is required. \nPlease bring comfortable clothes and footwear to walk 1-2 miles\, a water bottle\, sun protection and snacks. We suggest bringing your own binoculars\, but the preserve has a limited number available for checkout. Read more about preserve regulations here. \nFor more information\, contact Preserve Manager Aaron at aaron.mrotek@tnc.org.
URL:https://santacruzheritage.org/event/guided-birding-walks-at-patagonia-sonoita-creek/2026-04-04/
LOCATION:Patagonia-Sonoita Creek Preserve Visitor Center\, 150 Blue Haven Road\, Patagonia\, Arizona\, 85624\, United States
END:VEVENT
BEGIN:VEVENT
DTSTART;TZID=America/Phoenix:20260404T090000
DTEND;TZID=America/Phoenix:20260404T100000
DTSTAMP:20260423T024822
CREATED:20250325T172454Z
LAST-MODIFIED:20260401T230953Z
UID:10003374-1775293200-1775296800@santacruzheritage.org
SUMMARY:Healing Herb Walk
DESCRIPTION:Learn about some of the 50 medicinal plants in Mission Garden’s Moore Medicinal Garden. The plants are native to the American Southwest deserts and in many cases have been used for millennia. Modern herbalists are keeping this tradition alive at Mission Garden.
URL:https://santacruzheritage.org/event/healing-herb-walk/2026-04-04/
LOCATION:Mission Garden\, 946 W Mission Ln\, Tucson\, AZ\, 85745
CATEGORIES:Hikes
ATTACH;FMTTYPE=image/jpeg:https://santacruzheritage.org/wp-content/uploads/2025/03/Texas2BRanger2Bin2BMichael2BMoore2BMedicinal2BGarden2B5BKendall2BKroesen5D.jpg
END:VEVENT
BEGIN:VEVENT
DTSTART;TZID=America/Phoenix:20260404T090000
DTEND;TZID=America/Phoenix:20260404T120000
DTSTAMP:20260423T024822
CREATED:20260312T180439Z
LAST-MODIFIED:20260312T180439Z
UID:10005842-1775293200-1775304000@santacruzheritage.org
SUMMARY:America Semiquincentennial and the Town of Oro Valley
DESCRIPTION:The America Semiquincentennial celebration continues! The Oro Valley Historical Society invites you to the Pusch House Museum at historic Steam Pump Ranch for part three of its year‑long exhibit\, America Semiquincentennial and the Town of Oro Valley. Discover the nation’s early hardships\, Arizona’s statehood challenges\, and the Town’s own founding story. Volunteers will answer questions\, and complimentary tours are available with welcomed donations.
URL:https://santacruzheritage.org/event/america-semiquincentennial-and-the-town-of-oro-valley/
LOCATION:Steam Pump Ranch\, 10901 North Oracle Road\, Oro Valley\, 85737\, United States
CATEGORIES:History
ATTACH;FMTTYPE=image/jpeg:https://santacruzheritage.org/wp-content/uploads/2026/03/Jims-book-copy2.jpg
ORGANIZER;CN="Oro Valley Historical Society":MAILTO:secretary@ovhistory.org
END:VEVENT
BEGIN:VEVENT
DTSTART;TZID=America/Phoenix:20260404T090000
DTEND;TZID=America/Phoenix:20260404T170000
DTSTAMP:20260423T024822
CREATED:20260305T190819Z
LAST-MODIFIED:20260305T191658Z
UID:10005457-1775293200-1775322000@santacruzheritage.org
SUMMARY:ASARCO Self Guided Center Tours
DESCRIPTION:Since we opened our doors in 1997\, the ASARCO Mineral Discovery Center & Mine Tours’ vision has been to educate communities on the vital importance of the copper mining industry to our civilization\, to educate students and teachers in earth sciences\, and to preserve Arizona’s mining history. \nWe invite you to take our free self-guided tour of the center’s indoor and outdoor exhibits\, which walks through the copper transformation process. Afterward\, peruse the Company Store for unique and educational gifts.
URL:https://santacruzheritage.org/event/asarco-self-guided-center-tours/2026-04-04/
LOCATION:ASARCO Mineral Discovery Center\, 1421 W Pima Mine Rd\, Sahuarita\, 85629\, United States
CATEGORIES:History,Tours,Youth Programming
END:VEVENT
BEGIN:VEVENT
DTSTART;TZID=America/Phoenix:20260404T093000
DTEND;TZID=America/Phoenix:20260404T103000
DTSTAMP:20260423T024822
CREATED:20260305T191614Z
LAST-MODIFIED:20260305T191614Z
UID:10005759-1775295000-1775298600@santacruzheritage.org
SUMMARY:ASARCO
DESCRIPTION:The ASARCO Mineral Discovery Center & Mine Tours’ vision has been to educate communities on the vital importance of the copper mining industry to  civilization\, to educate students and teachers in earth sciences\, and to preserve Arizona’s mining history.’ \nJoin the mine tour for a firsthand look at the copper transformation process. Ticketed mine tours are approximately 65 minutes long. \nTours at 9:30 am\, 11:15 am\, 1:15 pm\, & 3:00 pm \nSPECIAL INSTRUCTIONS FOR THE MINE TOUR \n\n\nClosed-toed shoes are required to take the tour. No Crocs\, sandals\, or flip-flops will be allowed.\nWe suggest bringing a water bottle (filtered water station is available in the Center).\nPlease dress comfortably.
URL:https://santacruzheritage.org/event/asarco/2026-04-04/
LOCATION:ASARCO Mineral Discovery Center\, 1421 W Pima Mine Rd\, Sahuarita\, 85629\, United States
CATEGORIES:History,Tours,Youth Programming
END:VEVENT
BEGIN:VEVENT
DTSTART;TZID=America/Phoenix:20260404T140000
DTEND;TZID=America/Phoenix:20260404T160000
DTSTAMP:20260423T024822
CREATED:20251229T191336Z
LAST-MODIFIED:20251229T191336Z
UID:10004212-1775311200-1775318400@santacruzheritage.org
SUMMARY:Blast from the Past: Firing of the 1541 Coronado Expedition Cannon Replica
DESCRIPTION:Join us for a remarkable presentation featuring Dr. Deni Seymour\, an internationally recognized archaeologist and leading expert on Native and Spanish Colonial history of the Southwest. She will be joined by fellow members of the Historical Arms Society of Tucson. \n \nWith more than 45 years of groundbreaking research\, Dr. Seymour has uncovered the stories\, landscapes\, and people that shaped our desert region. Her work—combined with her dynamic storytelling—makes the past come alive. Together with special guests\, she will explore the history and technology of early artillery in the Southwest. \n \nSilent for nearly 500 years\, two bronze cannons were discovered buried at the 1541 battle site of the Coronado Expedition townsite of Suya\, near Nogales in southern Arizona. A highlight of the program will be an exhilarating live cannon firing and in-depth discussion of the cannon\, its replica\, and the critical role these weapons played during the expedition. \n \nThe original cannon will also be available for viewing.
URL:https://santacruzheritage.org/event/blast-from-the-past-firing-of-the-1541-coronado-expedition-cannon-replica/
LOCATION:Tubac Presidio State Historic Park & Museum\, 1 Burruel St\, #1296\, Tubac\, A\, 85646\, United States
ATTACH;FMTTYPE=image/jpeg:https://santacruzheritage.org/wp-content/uploads/2025/12/Deni-0131-Website-1.jpg
ORGANIZER;CN="Tubac Presidio State Historic Park & Museum":MAILTO:assistant@tubacpresidio.org
END:VEVENT
END:VCALENDAR