BEGIN:VCALENDAR
VERSION:2.0
PRODID:-//Santa Cruz Valley National Heritage Area - ECPv6.15.20//NONSGML v1.0//EN
CALSCALE:GREGORIAN
METHOD:PUBLISH
X-ORIGINAL-URL:https://santacruzheritage.org
X-WR-CALDESC:Events for Santa Cruz Valley National Heritage Area
REFRESH-INTERVAL;VALUE=DURATION:PT1H
X-Robots-Tag:noindex
X-PUBLISHED-TTL:PT1H
BEGIN:VTIMEZONE
TZID:America/Phoenix
BEGIN:STANDARD
TZOFFSETFROM:-0700
TZOFFSETTO:-0700
TZNAME:MST
DTSTART:20250101T000000
END:STANDARD
END:VTIMEZONE
BEGIN:VEVENT
DTSTART;TZID=America/Phoenix:20260401T053000
DTEND;TZID=America/Phoenix:20260401T183000
DTSTAMP:20260423T024841
CREATED:20260305T202744Z
LAST-MODIFIED:20260305T202744Z
UID:10005433-1775021400-1775068200@santacruzheritage.org
SUMMARY:Tumamoc Talks: Desert Purple Martins – Star Birds of the Arizona Monsoon
DESCRIPTION:Desert Purple Martins – Star Birds of the Arizona Monsoon with Jennie MacFarland \nThe Desert Purple Martin (Progne subis hesperia) is a distinct subspecies that times its nesting to monsoon abundance and nests almost exclusively in saguaros or other large columnar cacti. Desert Purple Martins are extremely understudied with large gaps in knowledge about their nesting\, migration\, and wintering grounds. Very recent discoveries and data results will be shared along with lots of video and audio that showcases the charming and fascinating Desert Purple Martin. Jennie MacFarland is the Director of Bird Conservation at Tucson Bird Alliance. She co-coordinates the Arizona Bird Areas Program with Tice Supplee and also coordinates the Tucson Bird Count\, a city-wide\, urban spring bird count.
URL:https://santacruzheritage.org/event/tumamoc-talks-desert-purple-martins-star-birds-of-the-arizona-monsoon/
LOCATION:Tumamoc Hill Boathouse\, 1675 W Anklam Road\, Tucson\, United States
CATEGORIES:Lectures
ATTACH;FMTTYPE=image/png:https://santacruzheritage.org/wp-content/uploads/2026/03/Screen-Shot-2026-03-02-at-5.33.30-PM.png
ORGANIZER;CN="Desert Laboratory on Tumamoc Hill":MAILTO:tumamoc-hill@arizona.edu
END:VEVENT
BEGIN:VEVENT
DTSTART;TZID=America/Phoenix:20260401T090000
DTEND;TZID=America/Phoenix:20260401T170000
DTSTAMP:20260423T024841
CREATED:20260305T190819Z
LAST-MODIFIED:20260305T191658Z
UID:10005454-1775034000-1775062800@santacruzheritage.org
SUMMARY:ASARCO Self Guided Center Tours
DESCRIPTION:Since we opened our doors in 1997\, the ASARCO Mineral Discovery Center & Mine Tours’ vision has been to educate communities on the vital importance of the copper mining industry to our civilization\, to educate students and teachers in earth sciences\, and to preserve Arizona’s mining history. \nWe invite you to take our free self-guided tour of the center’s indoor and outdoor exhibits\, which walks through the copper transformation process. Afterward\, peruse the Company Store for unique and educational gifts.
URL:https://santacruzheritage.org/event/asarco-self-guided-center-tours/2026-04-01/
LOCATION:ASARCO Mineral Discovery Center\, 1421 W Pima Mine Rd\, Sahuarita\, 85629\, United States
CATEGORIES:History,Tours,Youth Programming
END:VEVENT
BEGIN:VEVENT
DTSTART;TZID=America/Phoenix:20260401T093000
DTEND;TZID=America/Phoenix:20260401T103000
DTSTAMP:20260423T024841
CREATED:20260305T191614Z
LAST-MODIFIED:20260305T191614Z
UID:10005756-1775035800-1775039400@santacruzheritage.org
SUMMARY:ASARCO
DESCRIPTION:The ASARCO Mineral Discovery Center & Mine Tours’ vision has been to educate communities on the vital importance of the copper mining industry to  civilization\, to educate students and teachers in earth sciences\, and to preserve Arizona’s mining history.’ \nJoin the mine tour for a firsthand look at the copper transformation process. Ticketed mine tours are approximately 65 minutes long. \nTours at 9:30 am\, 11:15 am\, 1:15 pm\, & 3:00 pm \nSPECIAL INSTRUCTIONS FOR THE MINE TOUR \n\n\nClosed-toed shoes are required to take the tour. No Crocs\, sandals\, or flip-flops will be allowed.\nWe suggest bringing a water bottle (filtered water station is available in the Center).\nPlease dress comfortably.
URL:https://santacruzheritage.org/event/asarco/2026-04-01/
LOCATION:ASARCO Mineral Discovery Center\, 1421 W Pima Mine Rd\, Sahuarita\, 85629\, United States
CATEGORIES:History,Tours,Youth Programming
END:VEVENT
END:VCALENDAR