BEGIN:VCALENDAR
VERSION:2.0
PRODID:-//Santa Cruz Valley National Heritage Area - ECPv6.15.20//NONSGML v1.0//EN
CALSCALE:GREGORIAN
METHOD:PUBLISH
X-ORIGINAL-URL:https://santacruzheritage.org
X-WR-CALDESC:Events for Santa Cruz Valley National Heritage Area
REFRESH-INTERVAL;VALUE=DURATION:PT1H
X-Robots-Tag:noindex
X-PUBLISHED-TTL:PT1H
BEGIN:VTIMEZONE
TZID:America/Phoenix
BEGIN:STANDARD
TZOFFSETFROM:-0700
TZOFFSETTO:-0700
TZNAME:MST
DTSTART:20250101T000000
END:STANDARD
END:VTIMEZONE
BEGIN:VEVENT
DTSTART;TZID=America/Phoenix:20260320T144500
DTEND;TZID=America/Phoenix:20260322T180000
DTSTAMP:20260423T043311
CREATED:20260305T213333Z
LAST-MODIFIED:20260305T213333Z
UID:10005837-1774017900-1774202400@santacruzheritage.org
SUMMARY:Erosion Control in the Catalinas
DESCRIPTION:Overview\n\n\n\n\nJoin us for a weekend of restoring nature’s balance after the Bighorn Fire — let’s get our hands dirty for a good cause! \n\n\n\n\nThe Work \nWe will be creating loose rock structures to halt erosion\, increase water absorption\, and support plant growth in drainages around Summerhaven in the Santa Catalina Mountains. These low-tech structures can make huge differences and are a great tool for transforming landscapes. We’ll be getting dirty\, bending\, lifting\, and digging with tools provided by SIA. \nWhat to Expect/Bring \nFolks staying through the weekend should bring their own camping gear (or contact us if you need to borrow some) and meals for the weekend — a minimum of two breakfasts\, two lunches\, and two dinners\, with snacks. \n\nSIA will provide potable water\, and folks are welcome to bring their own as well. There is water at the campsite to refill from\, but none at the worksite.\nBe prepared to unplug — there is limited or no cellphone or internet service where we’ll be camping and working.\nBring camping gear: tent\, sleeping bag\, sleeping pad\, etc. We have extra camping gear available to borrow. Please contact our staff listed below if you would like to use some of our equipment.\nBring work clothes\, work gloves\, and appropriate close-toed boots/shoes that you are happy to hike in and don’t mind getting dirty or damaged.\nBring sun protection: sunscreen\, long-sleeves\, hat\, etc.\nBring a refillable water bottle and a daypack for snacks and gear.\n\nWe will be building rock structures\, which will entail carrying\, moving\, and placing rocks of various sizes. Some heavy lifting will be required\, though no one will be asked to lift more than they feel capable of\, and folks can work in teams to move larger rocks using cargo nets. Be prepared for getting dirty as we will also be digging as part of the building process. We will also be hiking to our worksites\, which may be up to two miles by trail from a trailhead (though likely closer)\, while carrying tools such as picks\, rockbars\, and/or shovels. Worksites may be steeply sloped and uneven\, with the potential for loose footing. Also\, in our search for building materials\, we will be traipsing around off trail in rocky drainages and across slopes.
URL:https://santacruzheritage.org/event/erosion-control-in-the-catalinas/
LOCATION:Whitetail Campground\, 11200 Whitetail Road\, Mt Lemmon\, 85619\, United States
CATEGORIES:Environmental Stewardship,Volunteer Opportunities
ORGANIZER;CN="Sky Island Alliance":MAILTO:siainfo@skyislandalliance.org
END:VEVENT
BEGIN:VEVENT
DTSTART;TZID=America/Phoenix:20260321T080000
DTEND;TZID=America/Phoenix:20260321T170000
DTSTAMP:20260423T043311
CREATED:20251223T182930Z
LAST-MODIFIED:20260122T232611Z
UID:10004197-1774080000-1774112400@santacruzheritage.org
SUMMARY:Guided Birding Walks at Patagonia Sonoita Creek
DESCRIPTION:Join us for guided birding walks at Patagonia-Sonoita Creek Preserve in Southern Arizona on Saturday mornings\, starting November 1st\, 2025! \nLearn about the resident and migrating birds\, ranging from gray hawks to vermilion flycatchers to thick-billed kingbirds. Tours will also touch on the environmental history of the region surrounding the preserve. Birders of all levels are welcome. \nThe start time of the walks will vary depending on the point in the season\, so be sure to check the sign-up form to see when they will begin each week. The fee is $8 per person\, or $5 for Santa Cruz/Cochise County residents and TNC members. Free to Patagonia/Sonoita/Elgin residents and children under 17. Registration is required. \nPlease bring comfortable clothes and footwear to walk 1-2 miles\, a water bottle\, sun protection and snacks. We suggest bringing your own binoculars\, but the preserve has a limited number available for checkout. Read more about preserve regulations here. \nFor more information\, contact Preserve Manager Aaron at aaron.mrotek@tnc.org.
URL:https://santacruzheritage.org/event/guided-birding-walks-at-patagonia-sonoita-creek/2026-03-21/
LOCATION:Patagonia-Sonoita Creek Preserve Visitor Center\, 150 Blue Haven Road\, Patagonia\, Arizona\, 85624\, United States
END:VEVENT
BEGIN:VEVENT
DTSTART;TZID=America/Phoenix:20260321T090000
DTEND;TZID=America/Phoenix:20260321T120000
DTSTAMP:20260423T043311
CREATED:20260219T173745Z
LAST-MODIFIED:20260219T173745Z
UID:10005417-1774083600-1774094400@santacruzheritage.org
SUMMARY:World Water Day Celebration
DESCRIPTION:Join community members\, local organizations\, land management agencies for a day of fun and stewardship!\nDays of Connection celebrating World Water Day is taking place at Verdugo Park right-off of the Santa Cruz River. Join Favor Celestial\, Barrio Kroeger Lane\, Tucson Clean and Beautiful\, Pima County\, Sonoran Institute\, Tucson Water\, Ironwood Tree Experience\, United Way and other partners as we come together to celebrate the World Water Day through a day of fun\, stewardship and connecting with nature and community! \nWorld Water Day of Connection is happening on Saturday\, March 21st between 9AM-12PM at Verdugo Park located at 902 S Verdugo Ave\, Tucson\, AZ 85745. \nThese experiences bring together local groups and individual passionate about the natural world and environmental stewardship. At this Day of Connection you can expect to; \n\nEnjoy music\, snacks and beautiful green space with a broad community of stewardship and nature lovers.\nCreate seed bombs with Pima County Department of Environmental Quality and Ironwood Tree Experience\nSteward the Santa Cruz by picking up trash with TCB  and Sonoran Institute or learn to identify and remove invasive giant reed (Arundo donax) with specialists from Tucson Bird Alliance.\nExperience the on-going neighborhood conservation and restoration efforts in the area being lead by Friends of Favor Celestial and Watershed Management group.\nConnect with Educators with Pima County Conservation Lands and Resources and Regional Flood Control District to learn more about what our county is doing to conserve and celebrate our public lands
URL:https://santacruzheritage.org/event/world-water-day-celebration/
LOCATION:Verdugo Park\, 902 S Verdugo Ave.\, Tucson\, AZ\, 85745
CATEGORIES:Clean Up,Environmental Stewardship,Volunteer Opportunities,Youth Programming
ATTACH;FMTTYPE=image/jpeg:https://santacruzheritage.org/wp-content/uploads/2026/02/Spring-2026-Days-of-Connection-Save-the-Dates-2.jpg
END:VEVENT
BEGIN:VEVENT
DTSTART;TZID=America/Phoenix:20260321T090000
DTEND;TZID=America/Phoenix:20260321T120000
DTSTAMP:20260423T043311
CREATED:20260302T215437Z
LAST-MODIFIED:20260305T203115Z
UID:10005431-1774083600-1774094400@santacruzheritage.org
SUMMARY:America Semiquincentennial and Arizona Statehood
DESCRIPTION:Last chance to visit the Pusch House Museum to celebrate the founding of our country and why it took 137 years for Arizona to become a state!
URL:https://santacruzheritage.org/event/america-semiquincentennial-and-arizona-statehood/
LOCATION:Steam Pump Ranch\, 10901 North Oracle Road\, Oro Valley\, 85737\, United States
CATEGORIES:History
ATTACH;FMTTYPE=image/jpeg:https://santacruzheritage.org/wp-content/uploads/2026/03/Arizona-state-capitol.jpg
ORGANIZER;CN="Oro Valley Historical Society":MAILTO:secretary@ovhistory.org
END:VEVENT
BEGIN:VEVENT
DTSTART;TZID=America/Phoenix:20260321T090000
DTEND;TZID=America/Phoenix:20260321T170000
DTSTAMP:20260423T043311
CREATED:20260305T190819Z
LAST-MODIFIED:20260305T191658Z
UID:10005447-1774083600-1774112400@santacruzheritage.org
SUMMARY:ASARCO Self Guided Center Tours
DESCRIPTION:Since we opened our doors in 1997\, the ASARCO Mineral Discovery Center & Mine Tours’ vision has been to educate communities on the vital importance of the copper mining industry to our civilization\, to educate students and teachers in earth sciences\, and to preserve Arizona’s mining history. \nWe invite you to take our free self-guided tour of the center’s indoor and outdoor exhibits\, which walks through the copper transformation process. Afterward\, peruse the Company Store for unique and educational gifts.
URL:https://santacruzheritage.org/event/asarco-self-guided-center-tours/2026-03-21/
LOCATION:ASARCO Mineral Discovery Center\, 1421 W Pima Mine Rd\, Sahuarita\, 85629\, United States
CATEGORIES:History,Tours,Youth Programming
END:VEVENT
BEGIN:VEVENT
DTSTART;TZID=America/Phoenix:20260321T093000
DTEND;TZID=America/Phoenix:20260321T103000
DTSTAMP:20260423T043311
CREATED:20260305T191614Z
LAST-MODIFIED:20260305T191614Z
UID:10005749-1774085400-1774089000@santacruzheritage.org
SUMMARY:ASARCO
DESCRIPTION:The ASARCO Mineral Discovery Center & Mine Tours’ vision has been to educate communities on the vital importance of the copper mining industry to  civilization\, to educate students and teachers in earth sciences\, and to preserve Arizona’s mining history.’ \nJoin the mine tour for a firsthand look at the copper transformation process. Ticketed mine tours are approximately 65 minutes long. \nTours at 9:30 am\, 11:15 am\, 1:15 pm\, & 3:00 pm \nSPECIAL INSTRUCTIONS FOR THE MINE TOUR \n\n\nClosed-toed shoes are required to take the tour. No Crocs\, sandals\, or flip-flops will be allowed.\nWe suggest bringing a water bottle (filtered water station is available in the Center).\nPlease dress comfortably.
URL:https://santacruzheritage.org/event/asarco/2026-03-21/
LOCATION:ASARCO Mineral Discovery Center\, 1421 W Pima Mine Rd\, Sahuarita\, 85629\, United States
CATEGORIES:History,Tours,Youth Programming
END:VEVENT
BEGIN:VEVENT
DTSTART;TZID=America/Phoenix:20260321T100000
DTEND;TZID=America/Phoenix:20260321T110000
DTSTAMP:20260423T043311
CREATED:20260108T184730Z
LAST-MODIFIED:20260108T184730Z
UID:10004234-1774087200-1774090800@santacruzheritage.org
SUMMARY:Backyard Techniques to Harvest The Rain
DESCRIPTION:Join ecologist Caleb Weaver of Ecotone Biodiversity LLC for an engaging presentation overviewing rainwater harvesting in Southern Arizona. Attendees will learn methods to collect\, convey\, and store this free resource to grow food for wildlife and people alike\, protecting critical groundwater and natural water reserves to stay in the ground. We’ll then tour the rain garden that Ecotone Biodiversity designed and installed on the Tubac Presidio State Historic Park grounds so attendees can see multiple examples of rainwater being harvested.
URL:https://santacruzheritage.org/event/backyard-techniques-to-harvest-the-rain/
LOCATION:Tubac Presidio State Historic Park & Museum\, 1 Burruel St\, #1296\, Tubac\, A\, 85646\, United States
ATTACH;FMTTYPE=image/jpeg:https://santacruzheritage.org/wp-content/uploads/2026/01/Caleb-Website-0321-1.jpg
ORGANIZER;CN="Tubac Presidio State Historic Park & Museum":MAILTO:assistant@tubacpresidio.org
END:VEVENT
BEGIN:VEVENT
DTSTART;TZID=America/Phoenix:20260321T100000
DTEND;TZID=America/Phoenix:20260321T110000
DTSTAMP:20260423T043311
CREATED:20260108T185158Z
LAST-MODIFIED:20260108T190539Z
UID:10004229-1774087200-1774090800@santacruzheritage.org
SUMMARY:Backyard Techniques to Harvest The Rain
DESCRIPTION:Join ecologist Caleb Weaver of Ecotone Biodiversity LLC for an engaging presentation overviewing rainwater harvesting in Southern Arizona. Attendees will learn methods to collect\, convey\, and store this free resource to grow food for wildlife and people alike\, protecting critical groundwater and natural water reserves to stay in the ground. We’ll then tour the rain garden that Ecotone Biodiversity designed and installed on the Tubac Presidio State Historic Park grounds so attendees can see multiple examples of rainwater being harvested.
URL:https://santacruzheritage.org/event/backyard-techniques-to-harvest-the-rain-2/
LOCATION:Tubac Presidio State Historic Park & Museum\, 1 Burruel St\, #1296\, Tubac\, A\, 85646\, United States
ATTACH;FMTTYPE=image/jpeg:https://santacruzheritage.org/wp-content/uploads/2026/01/Caleb-Website-0321.jpg
ORGANIZER;CN="Tubac Presidio State Historic Park & Museum":MAILTO:assistant@tubacpresidio.org
END:VEVENT
BEGIN:VEVENT
DTSTART;TZID=America/Phoenix:20260321T100000
DTEND;TZID=America/Phoenix:20260321T113000
DTSTAMP:20260423T043311
CREATED:20260305T211715Z
LAST-MODIFIED:20260305T211752Z
UID:10005835-1774087200-1774092600@santacruzheritage.org
SUMMARY:Tour of Historic Canoa Ranch
DESCRIPTION:Join a walking tour of the Canoa Ranch headquarters. Visit the historic buildings and corrals and enjoy the special exhibits of the people of Canoa. DIRECTIONS: Historic Canoa Ranch\, 5375 S. I-19 Frontage Rd.\, Green Valley 85622 From Tucson – Take 1-19 south to exit 56 – Canoa Road. Go around the traffic circle until you are heading east. Turn left (north) on the east side frontage road for about ½ mile and turn at the Hacienda de la Canoa sign on your right. Please carry water and wear sturdy walking shoes.
URL:https://santacruzheritage.org/event/tour-of-historic-canoa-ranch-2/2026-03-21/
LOCATION:Historic Canoa Ranch\, 5375 I-19 Frontage Rd\, Green Valley\, AZ\, 85614
CATEGORIES:History,Tours
END:VEVENT
BEGIN:VEVENT
DTSTART;TZID=America/Phoenix:20260321T100000
DTEND;TZID=America/Phoenix:20260321T120000
DTSTAMP:20260423T043311
CREATED:20251219T184459Z
LAST-MODIFIED:20260122T234443Z
UID:10004175-1774087200-1774094400@santacruzheritage.org
SUMMARY:Santa Cruz River History Tour
DESCRIPTION:This two-mile walking tour is led by Mauro Trejo and focuses on our relationship with the Santa Cruz River\, how it supported Tucson’s early residents\, and the factors in the 19th and 20th century that affected its demise. \nThe tour begins at Tucson’s Mission Gardens and includes the sites of the former Spanish mission and the O’odham village that was the origin of our modern city. Attendees also visit Tucson’s tallest tree and the Garden of Gethsemane\, a holy site of statues made by WWI veteran and artist Felix Lucero in the 1940s.
URL:https://santacruzheritage.org/event/santa-cruz-river-history-tour-2-3/2026-03-21/
LOCATION:Mission Garden\, 946 W Mission Ln\, Tucson\, AZ\, 85745
CATEGORIES:Hikes,History,Tours
ATTACH;FMTTYPE=image/jpeg:https://santacruzheritage.org/wp-content/uploads/2025/04/SC-River-Mauro-2-scaled.jpg
END:VEVENT
BEGIN:VEVENT
DTSTART;TZID=America/Phoenix:20260321T130000
DTEND;TZID=America/Phoenix:20260321T143000
DTSTAMP:20260423T043311
CREATED:20260302T215632Z
LAST-MODIFIED:20260318T220920Z
UID:10005432-1774098000-1774103400@santacruzheritage.org
SUMMARY:A Brief History of the Santa Cruz River in Tucson
DESCRIPTION:A Brief History of the Santa Cruz River in Tucson With Mauro Trejo\, Trejo Walking Tours Description: This talk will cover the history of Tucson’s water and its relationship with the river. We will discuss what the river looked like before industrialization and how it got to the state it is in today. Bio: Mauro Trejo is a local public historian\, and staff and board member of The Tucson Presidio Trust\, Los Descendientes de Tucson\, and The Anza Trail Foundation. In addition he is a commissioner with the Tucson-Pima County Historical Commission. He has spent most of his life studying the history of Tucson and gives numerous talks and walking tours sharing the history of this amazing place. Mauro also runs Trejo’s Tucson Walking Tours and is a 7th generation native with family roots dating back to 1780 in Tucson. \nReady to register for this event? Follow these easy steps. \nCreate Your Account: \n\nVisit www.explore.pima.gov\nClick on the Create Account button in the upper right\nAdd your email address and password\nClick Continue\nSet up your profile by completing the First Name\, Last Name\, and Date of Birth fields\nClick Get Started\n\nExplore Programs: \n\nClick on the Environmental Education tile\nExplore our offering or navigate to a specific event\n\n\nour programs are grouped by activity type; you may need to scroll through other categories to find what you are looking for\nUse the Keyword search feature to narrow down the selections\n\nRegister for Programs: \n\nSelect the program\nClick Register (or view details if you want to know more)\nChoose who will be participating – you may need to add more household member if registering for others (you can select more than one participant to register in the same transaction)\nClick Add to cart\nClick Continue to checkout\nConfirm account details\nFor programs with a fee\, you will be asked to Add new payment method – for free programs\, you can proceed directly to place order\nClick Place orderIf you need assistance\, contact the Environmental Education Team:\nPhone: 520-724-5375 \nEmail: EEducation@pima.gov
URL:https://santacruzheritage.org/event/a-brief-history-of-the-santa-cruz-river-in-tucson/
LOCATION:Historic Canoa Ranch\, 5375 I-19 Frontage Rd\, Green Valley\, AZ\, 85614
CATEGORIES:History,Tours
ORGANIZER;CN="Conservation Lands and Resources":MAILTO:EEducation@pima.gov
END:VEVENT
END:VCALENDAR