BEGIN:VCALENDAR
VERSION:2.0
PRODID:-//Santa Cruz Valley National Heritage Area - ECPv6.15.20//NONSGML v1.0//EN
CALSCALE:GREGORIAN
METHOD:PUBLISH
X-ORIGINAL-URL:https://santacruzheritage.org
X-WR-CALDESC:Events for Santa Cruz Valley National Heritage Area
REFRESH-INTERVAL;VALUE=DURATION:PT1H
X-Robots-Tag:noindex
X-PUBLISHED-TTL:PT1H
BEGIN:VTIMEZONE
TZID:America/Phoenix
BEGIN:STANDARD
TZOFFSETFROM:-0700
TZOFFSETTO:-0700
TZNAME:MST
DTSTART:20250101T000000
END:STANDARD
END:VTIMEZONE
BEGIN:VEVENT
DTSTART;TZID=America/Phoenix:20260320T090000
DTEND;TZID=America/Phoenix:20260320T120000
DTSTAMP:20260423T062033
CREATED:20250117T030854Z
LAST-MODIFIED:20260122T233212Z
UID:10002717-1773997200-1774008000@santacruzheritage.org
SUMMARY:Guided Birding Walks at Patagonia Lake State Park
DESCRIPTION:Guided bird walks are back!​ Join park rangers at the Birding Trail kiosk (next to campsite #12) for a ranger-led hike to learn about the diverse avian wildlife at Patagonia Lake and Sonoita Creek. \nThe event repeats each Friday and Monday at 9:00 a.m.​ For more information\,  These walks are limited to 15 people. Sign up in advance at the Visitor Center or by calling (520) 287-2791 or please visit https://azstateparks.com/patagonia-lake/events/bird-walk-patagonia​
URL:https://santacruzheritage.org/event/guided-birding-walks-at-patagonia-lake-state-park/2026-03-20/
LOCATION:Patagonia Lake\, 400 Patagonia Lake Rd\, Patagonia\,\, AZ\, 85624\, United States
CATEGORIES:Tours
ORGANIZER;CN="Nogales Santa Cruz County Chamber of Commerce":MAILTO:visitus@thenogaleschamber.org
END:VEVENT
BEGIN:VEVENT
DTSTART;TZID=America/Phoenix:20260320T090000
DTEND;TZID=America/Phoenix:20260320T170000
DTSTAMP:20260423T062033
CREATED:20260305T190819Z
LAST-MODIFIED:20260305T191658Z
UID:10005446-1773997200-1774026000@santacruzheritage.org
SUMMARY:ASARCO Self Guided Center Tours
DESCRIPTION:Since we opened our doors in 1997\, the ASARCO Mineral Discovery Center & Mine Tours’ vision has been to educate communities on the vital importance of the copper mining industry to our civilization\, to educate students and teachers in earth sciences\, and to preserve Arizona’s mining history. \nWe invite you to take our free self-guided tour of the center’s indoor and outdoor exhibits\, which walks through the copper transformation process. Afterward\, peruse the Company Store for unique and educational gifts.
URL:https://santacruzheritage.org/event/asarco-self-guided-center-tours/2026-03-20/
LOCATION:ASARCO Mineral Discovery Center\, 1421 W Pima Mine Rd\, Sahuarita\, 85629\, United States
CATEGORIES:History,Tours,Youth Programming
END:VEVENT
BEGIN:VEVENT
DTSTART;TZID=America/Phoenix:20260320T093000
DTEND;TZID=America/Phoenix:20260320T103000
DTSTAMP:20260423T062033
CREATED:20260305T191614Z
LAST-MODIFIED:20260305T191614Z
UID:10005748-1773999000-1774002600@santacruzheritage.org
SUMMARY:ASARCO
DESCRIPTION:The ASARCO Mineral Discovery Center & Mine Tours’ vision has been to educate communities on the vital importance of the copper mining industry to  civilization\, to educate students and teachers in earth sciences\, and to preserve Arizona’s mining history.’ \nJoin the mine tour for a firsthand look at the copper transformation process. Ticketed mine tours are approximately 65 minutes long. \nTours at 9:30 am\, 11:15 am\, 1:15 pm\, & 3:00 pm \nSPECIAL INSTRUCTIONS FOR THE MINE TOUR \n\n\nClosed-toed shoes are required to take the tour. No Crocs\, sandals\, or flip-flops will be allowed.\nWe suggest bringing a water bottle (filtered water station is available in the Center).\nPlease dress comfortably.
URL:https://santacruzheritage.org/event/asarco/2026-03-20/
LOCATION:ASARCO Mineral Discovery Center\, 1421 W Pima Mine Rd\, Sahuarita\, 85629\, United States
CATEGORIES:History,Tours,Youth Programming
END:VEVENT
BEGIN:VEVENT
DTSTART;TZID=America/Phoenix:20260320T130000
DTEND;TZID=America/Phoenix:20260320T143000
DTSTAMP:20260423T062033
CREATED:20260305T211454Z
LAST-MODIFIED:20260318T220841Z
UID:10005780-1774011600-1774017000@santacruzheritage.org
SUMMARY:Tour of Historic Canoa Ranch
DESCRIPTION:Join a walking tour of the Canoa Ranch headquarters. Visit the historic buildings and corrals and enjoy the special exhibits of the people of Canoa. DIRECTIONS: Historic Canoa Ranch\, 5375 S. I-19 Frontage Rd.\, Green Valley 85622 From Tucson – Take 1-19 south to exit 56 – Canoa Road. Go around the traffic circle until you are heading east. Turn left (north) on the east side frontage road for about ½ mile and turn at the Hacienda de la Canoa sign on your right. Please carry water and wear sturdy walking shoes. \nReady to register for this event? Follow these easy steps. \nCreate Your Account: \n\nVisit www.explore.pima.gov\nClick on the Create Account button in the upper right\nAdd your email address and password\nClick Continue\nSet up your profile by completing the First Name\, Last Name\, and Date of Birth fields\nClick Get Started\n\nExplore Programs: \n\nClick on the Environmental Education tile\nExplore our offering or navigate to a specific event\n\n\nour programs are grouped by activity type; you may need to scroll through other categories to find what you are looking for\nUse the Keyword search feature to narrow down the selections\n\nRegister for Programs: \n\nSelect the program\nClick Register (or view details if you want to know more)\nChoose who will be participating – you may need to add more household member if registering for others (you can select more than one participant to register in the same transaction)\nClick Add to cart\nClick Continue to checkout\nConfirm account details\nFor programs with a fee\, you will be asked to Add new payment method – for free programs\, you can proceed directly to place order\nClick Place order\nIf you need assistance\, contact the Environmental Education Team: \nPhone: 520-724-5375 \nEmail: EEducation@pima.gov
URL:https://santacruzheritage.org/event/tour-of-historic-canoa-ranch/2026-03-20/
LOCATION:Historic Canoa Ranch\, 5375 I-19 Frontage Rd\, Green Valley\, AZ\, 85614
END:VEVENT
BEGIN:VEVENT
DTSTART;TZID=America/Phoenix:20260320T144500
DTEND;TZID=America/Phoenix:20260322T180000
DTSTAMP:20260423T062033
CREATED:20260305T213333Z
LAST-MODIFIED:20260305T213333Z
UID:10005837-1774017900-1774202400@santacruzheritage.org
SUMMARY:Erosion Control in the Catalinas
DESCRIPTION:Overview\n\n\n\n\nJoin us for a weekend of restoring nature’s balance after the Bighorn Fire — let’s get our hands dirty for a good cause! \n\n\n\n\nThe Work \nWe will be creating loose rock structures to halt erosion\, increase water absorption\, and support plant growth in drainages around Summerhaven in the Santa Catalina Mountains. These low-tech structures can make huge differences and are a great tool for transforming landscapes. We’ll be getting dirty\, bending\, lifting\, and digging with tools provided by SIA. \nWhat to Expect/Bring \nFolks staying through the weekend should bring their own camping gear (or contact us if you need to borrow some) and meals for the weekend — a minimum of two breakfasts\, two lunches\, and two dinners\, with snacks. \n\nSIA will provide potable water\, and folks are welcome to bring their own as well. There is water at the campsite to refill from\, but none at the worksite.\nBe prepared to unplug — there is limited or no cellphone or internet service where we’ll be camping and working.\nBring camping gear: tent\, sleeping bag\, sleeping pad\, etc. We have extra camping gear available to borrow. Please contact our staff listed below if you would like to use some of our equipment.\nBring work clothes\, work gloves\, and appropriate close-toed boots/shoes that you are happy to hike in and don’t mind getting dirty or damaged.\nBring sun protection: sunscreen\, long-sleeves\, hat\, etc.\nBring a refillable water bottle and a daypack for snacks and gear.\n\nWe will be building rock structures\, which will entail carrying\, moving\, and placing rocks of various sizes. Some heavy lifting will be required\, though no one will be asked to lift more than they feel capable of\, and folks can work in teams to move larger rocks using cargo nets. Be prepared for getting dirty as we will also be digging as part of the building process. We will also be hiking to our worksites\, which may be up to two miles by trail from a trailhead (though likely closer)\, while carrying tools such as picks\, rockbars\, and/or shovels. Worksites may be steeply sloped and uneven\, with the potential for loose footing. Also\, in our search for building materials\, we will be traipsing around off trail in rocky drainages and across slopes.
URL:https://santacruzheritage.org/event/erosion-control-in-the-catalinas/
LOCATION:Whitetail Campground\, 11200 Whitetail Road\, Mt Lemmon\, 85619\, United States
CATEGORIES:Environmental Stewardship,Volunteer Opportunities
ORGANIZER;CN="Sky Island Alliance":MAILTO:siainfo@skyislandalliance.org
END:VEVENT
BEGIN:VEVENT
DTSTART;TZID=America/Phoenix:20260320T190000
DTEND;TZID=America/Phoenix:20260320T220000
DTSTAMP:20260423T062033
CREATED:20260212T181249Z
LAST-MODIFIED:20260212T181249Z
UID:10004290-1774033200-1774044000@santacruzheritage.org
SUMMARY:Performing Arts: Mariachi Pueblo Viejo
DESCRIPTION:Tubac\, Arizona \nat 7:00 p.m. \nFounded in May 2021 by Director Manuel Ponce\, Mariachi Pueblo Viejo was created to showcase the authentic spirit of Jalisco’s mariachi tradition. Now celebrating 5 years\, the group has quickly earned recognition for its musical excellence and passion for preserving Mexico’s cultural heritage. \n  \n\nMembers: $35.00\nNon-Members: $40.00\n\n  \nFor more information\, please visit this link. 
URL:https://santacruzheritage.org/event/performing-arts-mariachi-pueblo-viejo/
LOCATION:Tubac Center of The Arts\, 9 Plaza Road\, Tubac\, AZ\, 85646\, United States
CATEGORIES:Arts
ATTACH;FMTTYPE=image/jpeg:https://santacruzheritage.org/wp-content/uploads/2026/02/Performing-Arts-Mariachi-Pueblo-Viejo.jpg
ORGANIZER;CN="Nogales Santa Cruz County Chamber of Commerce":MAILTO:visitus@thenogaleschamber.org
END:VEVENT
END:VCALENDAR